Workbook

Sheet TotalEarnings
A1: Table 1: Gross earnings (thousand)
A3: Year | B3: Quarter | C3: Gross earnings | D3: Change in gross earnings | E3: % change in gross earnings | F3: Change in gross earnings | G3: % change in gross earnings
D4: Quarterly | F4: Annual
A5: 2018 | B5: Jun | C5: =C44+C83+C122 -> 657451000 | D5: - | E5: - | F5: - | G5: -
B6: Sep | C6: =C45+C84+C123 -> 690882000 | D6: =C6-C5 -> 33431000 | E6: =((C6/C5)-1)*100 -> 5.0849417 | F6: - | G6: -
B7: Dec | C7: =C46+C85+C124 -> 738526000 | D7: =C7-C6 -> 47644000 | E7: =((C7/C6)-1)*100 -> 6.8961125 | F7: - | G7: -
A8: 2019 | B8: Mar | C8: =C47+C86+C125 -> 700039000 | D8: =C8-C7 -> -38487000 | E8: =((C8/C7)-1)*100 -> -5.2113263 | F8: - | G8: -
B9: Jun | C9: =C48+C87+C126 -> 711042000 | D9: =C9-C8 -> 11003000 | E9: =((C9/C8)-1)*100 -> 1.5717696 | F9: =C9-C5 -> 53591000 | G9: =((C9/C5)-1)*100 -> 8.1513299
B10: Sep | C10: =C49+C88+C127 -> 729087000 | D10: =C10-C9 -> 18045000 | E10: =((C10/C9)-1)*100 -> 2.5378248 | F10: =C10-C6 -> 38205000 | G10: =((C10/C6)-1)*100 -> 5.5298879
B11: Dec | C11: =C50+C89+C128 -> 790986000 | D11: =C11-C10 -> 61899000 | E11: =((C11/C10)-1)*100 -> 8.4899333 | F11: =C11-C7 -> 52460000 | G11: =((C11/C7)-1)*100 -> 7.1033383
A12: 2020 | B12: Mar | C12: =C51+C90+C129 -> 741954000 | D12: =C12-C11 -> -49032000 | E12: =((C12/C11)-1)*100 -> -6.1988455 | F12: =C12-C8 -> 41915000 | G12: =((C12/C8)-1)*100 -> 5.9875236
B13: Jun | C13: =C52+C91+C130 -> 657604000 | D13: =C13-C12 -> -84350000 | E13: =((C13/C12)-1)*100 -> -11.368629 | F13: =C13-C9 -> -53438000 | G13: =((C13/C9)-1)*100 -> -7.5154492
B14: Sep | C14: =C53+C92+C131 -> 699863000 | D14: =C14-C13 -> 42259000 | E14: =((C14/C13)-1)*100 -> 6.4262079 | F14: =C14-C10 -> -29224000 | G14: =((C14/C10)-1)*100 -> -4.0083008
B15: Dec | C15: =C54+C93+C132 -> 775613000 | D15: =C15-C14 -> 75750000 | E15: =((C15/C14)-1)*100 -> 10.823547 | F15: =C15-C11 -> -15373000 | G15: =((C15/C11)-1)*100 -> -1.9435237
A16: 2021 | B16: Mar | C16: =C55+C94+C133 -> 742485000 | D16: =C16-C15 -> -33128000 | E16: =((C16/C15)-1)*100 -> -4.2712023 | F16: =C16-C12 -> 531000 | G16: =((C16/C12)-1)*100 -> 0.071567779
B17: Jun | C17: =C56+C95+C134 -> 763422000 | D17: =C17-C16 -> 20937000 | E17: =((C17/C16)-1)*100 -> 2.8198549 | F17: =C17-C13 -> 105818000 | G17: =((C17/C13)-1)*100 -> 16.091447
B18: Sep | C18: =C57+C96+C135 -> 805831000 | D18: =C18-C17 -> 42409000 | E18: =((C18/C17)-1)*100 -> 5.5551189 | F18: =C18-C14 -> 105968000 | G18: =((C18/C14)-1)*100 -> 15.141249
B19: Dec | C19: =C58+C97+C136 -> 867343000 | D19: =C19-C18 -> 61512000 | E19: =((C19/C18)-1)*100 -> 7.6333623 | F19: =C19-C15 -> 91730000 | G19: =((C19/C15)-1)*100 -> 11.826774
A20: 2022 | B20: Mar | C20: =C59+C98+C137 -> 827907000 | D20: =C20-C19 -> -39436000 | E20: =((C20/C19)-1)*100 -> -4.5467595 | F20: =C20-C16 -> 85422000 | G20: =((C20/C16)-1)*100 -> 11.504879
B21: Jun | C21: =C60+C99+C138 -> 840299000 | D21: =C21-C20 -> 12392000 | E21: =((C21/C20)-1)*100 -> 1.4967865 | F21: =C21-C17 -> 76877000 | G21: =((C21/C17)-1)*100 -> 10.070053
B22: Sep | C22: =C61+C100+C139 -> 866288000 | D22: =C22-C21 -> 25989000 | E22: =((C22/C21)-1)*100 -> 3.0928277 | F22: =C22-C18 -> 60457000 | G22: =((C22/C18)-1)*100 -> 7.5024416
B23: Dec | C23: =C62+C101+C140 -> 954001000 | D23: =C23-C22 -> 87713000 | E23: =((C23/C22)-1)*100 -> 10.125155 | F23: =C23-C19 -> 86658000 | G23: =((C23/C19)-1)*100 -> 9.991203
A24: 2023 | B24: Mar | C24: =C63+C102+C141 -> 914464000 | D24: =C24-C23 -> -39537000 | E24: =((C24/C23)-1)*100 -> -4.1443353 | F24: =C24-C20 -> 86557000 | G24: =((C24/C20)-1)*100 -> 10.454918
B25: Jun | C25: =C64+C103+C142 -> 917068000 | D25: =C25-C24 -> 2604000 | E25: =((C25/C24)-1)*100 -> 0.28475697 | F25: =C25-C21 -> 76769000 | G25: =((C25/C21)-1)*100 -> 9.1359147
B26: Sep | C26: =C65+C104+C143 -> 941468000 | D26: =C26-C25 -> 24400000 | E26: =((C26/C25)-1)*100 -> 2.6606533 | F26: =C26-C22 -> 75180000 | G26: =((C26/C22)-1)*100 -> 8.6784072
B27: Dec | C27: =C66+C105+C144 -> 993012000 | D27: =C27-C26 -> 51544000 | E27: =((C27/C26)-1)*100 -> 5.4748542 | F27: =C27-C23 -> 39011000 | G27: =((C27/C23)-1)*100 -> 4.0891991
A28: 2024 | B28: Mar | C28: =C67+C106+C145 -> 956997000 | D28: =C28-C27 -> -36015000 | E28: =((C28/C27)-1)*100 -> -3.6268444 | F28: =C28-C24 -> 42533000 | G28: =((C28/C24)-1)*100 -> 4.6511399
B29: Jun | C29: =C68+C107+C146 -> 954090000 | D29: =C29-C28 -> -2907000 | E29: =((C29/C28)-1)*100 -> -0.30376271 | F29: =C29-C25 -> 37022000 | G29: =((C29/C25)-1)*100 -> 4.0369962
B30: Sep | C30: =C69+C108+C147 -> 969420000 | D30: =C30-C29 -> 15330000 | E30: =((C30/C29)-1)*100 -> 1.6067667 | F30: =C30-C26 -> 27952000 | G30: =((C30/C26)-1)*100 -> 2.9689804
B31: Dec | C31: =C70+C109+C148 -> 1030492000 | D31: =C31-C30 -> 61072000 | E31: =((C31/C30)-1)*100 -> 6.2998494 | F31: =C31-C27 -> 37480000 | G31: =((C31/C27)-1)*100 -> 3.7743753
A32: 2025 | B32: Mar | C32: =C71+C110+C149 -> 984661000 | D32: =C32-C31 -> -45831000 | E32: =((C32/C31)-1)*100 -> -4.4474872 | F32: =C32-C28 -> 27664000 | G32: =((C32/C28)-1)*100 -> 2.8907092
B33: Jun | C33: =C72+C111+C150 -> 989956000 | D33: =C33-C32 -> 5295000 | E33: =((C33/C32)-1)*100 -> 0.53774852 | F33: =C33-C29 -> 35866000 | G33: =((C33/C29)-1)*100 -> 3.7591841
B34: Sep | C34: =C73+C112+C151 -> 1005380000 | D34: =C34-C33 -> 15424000 | E34: =((C34/C33)-1)*100 -> 1.558049 | F34: =C34-C30 -> 35960000 | G34: =((C34/C30)-1)*100 -> 3.7094345
B35: Dec | C35: =C74+C113+C152 -> 1079444000 | D35: =C35-C34 -> 74064000 | E35: =((C35/C34)-1)*100 -> 7.3667668 | F35: =C35-C31 -> 48952000 | G35: =((C35/C31)-1)*100 -> 4.7503523
A36: 2026 | B36: Mar* | C36: =C75+C114+C153 -> 1029907000 | D36: =C36-C35 -> -49537000 | E36: =((C36/C35)-1)*100 -> -4.5891218 | F36: =C36-C32 -> 45246000 | G36: =((C36/C32)-1)*100 -> 4.595084
B37: Jun | C37: =C76+C115+C154 -> 1025061000 | D37: =C37-C36 -> -4846000 | E37: =((C37/C36)-1)*100 -> -0.47052792 | F37: =C37-C33 -> 35105000 | G37: =((C37/C33)-1)*100 -> 3.5461172
A42: Year | B42: Quarter | C42: Basic Salary/Wages | D42: Change in basic salary/wages | E42: % change in basic salary/wages | F42: Change in basic salary/wages | G42: % change in basic salary/wages
D43: Quarterly | F43: Annual
A44: 2018 | B44: Jun | C44: ='2-Mining'!C5+'3-Manufacturing'!C44+'4-Electricity'!C44+'5-Construction'!C44+'6-Trade'!C44+'7-Transport'!C44+'8-Finance'!C44+'9-Community'!C44 -> 604509000 | D44: - | E44: - | F44: - | G44: -
B45: Sep | C45: ='2-Mining'!C6+'3-Manufacturing'!C45+'4-Electricity'!C45+'5-Construction'!C45+'6-Trade'!C45+'7-Transport'!C45+'8-Finance'!C45+'9-Community'!C45 -> 631736000 | D45: =C45-C44 -> 27227000 | E45: =((C45/C44)-1)*100 -> 4.5039859 | F45: - | G45: -
B46: Dec | C46: ='2-Mining'!C7+'3-Manufacturing'!C46+'4-Electricity'!C46+'5-Construction'!C46+'6-Trade'!C46+'7-Transport'!C46+'8-Finance'!C46+'9-Community'!C46 -> 642635000 | D46: =C46-C45 -> 10899000 | E46: =((C46/C45)-1)*100 -> 1.725246 | F46: - | G46: -
A47: 2019 | B47: Mar | C47: ='2-Mining'!C8+'3-Manufacturing'!C47+'4-Electricity'!C47+'5-Construction'!C47+'6-Trade'!C47+'7-Transport'!C47+'8-Finance'!C47+'9-Community'!C47 -> 639467000 | D47: =C47-C46 -> -3168000 | E47: =((C47/C46)-1)*100 -> -0.49297035 | F47: - | G47: -
B48: Jun | C48: ='2-Mining'!C9+'3-Manufacturing'!C48+'4-Electricity'!C48+'5-Construction'!C48+'6-Trade'!C48+'7-Transport'!C48+'8-Finance'!C48+'9-Community'!C48 -> 653653000 | D48: =C48-C47 -> 14186000 | E48: =((C48/C47)-1)*100 -> 2.21841 | F48: =C48-C44 -> 49144000 | G48: =((C48/C44)-1)*100 -> 8.1295729
B49: Sep | C49: ='2-Mining'!C10+'3-Manufacturing'!C49+'4-Electricity'!C49+'5-Construction'!C49+'6-Trade'!C49+'7-Transport'!C49+'8-Finance'!C49+'9-Community'!C49 -> 667165000 | D49: =C49-C48 -> 13512000 | E49: =((C49/C48)-1)*100 -> 2.0671518 | F49: =C49-C45 -> 35429000 | G49: =((C49/C45)-1)*100 -> 5.6081971
B50: Dec | C50: ='2-Mining'!C11+'3-Manufacturing'!C50+'4-Electricity'!C50+'5-Construction'!C50+'6-Trade'!C50+'7-Transport'!C50+'8-Finance'!C50+'9-Community'!C50 -> 681382000 | D50: =C50-C49 -> 14217000 | E50: =((C50/C49)-1)*100 -> 2.1309571 | F50: =C50-C46 -> 38747000 | G50: =((C50/C46)-1)*100 -> 6.0293946
A51: 2020 | B51: Mar | C51: ='2-Mining'!C12+'3-Manufacturing'!C51+'4-Electricity'!C51+'5-Construction'!C51+'6-Trade'!C51+'7-Transport'!C51+'8-Finance'!C51+'9-Community'!C51 -> 678972000 | D51: =C51-C50 -> -2410000 | E51: =((C51/C50)-1)*100 -> -0.35369294 | F51: =C51-C47 -> 39505000 | G51: =((C51/C47)-1)*100 -> 6.1778012
B52: Jun | C52: ='2-Mining'!C13+'3-Manufacturing'!C52+'4-Electricity'!C52+'5-Construction'!C52+'6-Trade'!C52+'7-Transport'!C52+'8-Finance'!C52+'9-Community'!C52 -> 610853000 | D52: =C52-C51 -> -68119000 | E52: =((C52/C51)-1)*100 -> -10.032667 | F52: =C52-C48 -> -42800000 | G52: =((C52/C48)-1)*100 -> -6.5478167
B53: Sep | C53: ='2-Mining'!C14+'3-Manufacturing'!C53+'4-Electricity'!C53+'5-Construction'!C53+'6-Trade'!C53+'7-Transport'!C53+'8-Finance'!C53+'9-Community'!C53 -> 649086000 | D53: =C53-C52 -> 38233000 | E53: =((C53/C52)-1)*100 -> 6.2589526 | F53: =C53-C49 -> -18079000 | G53: =((C53/C49)-1)*100 -> -2.7098244
B54: Dec | C54: ='2-Mining'!C15+'3-Manufacturing'!C54+'4-Electricity'!C54+'5-Construction'!C54+'6-Trade'!C54+'7-Transport'!C54+'8-Finance'!C54+'9-Community'!C54 -> 673254000 | D54: =C54-C53 -> 24168000 | E54: =((C54/C53)-1)*100 -> 3.7233895 | F54: =C54-C50 -> -8128000 | G54: =((C54/C50)-1)*100 -> -1.1928698
A55: 2021 | B55: Mar | C55: ='2-Mining'!C16+'3-Manufacturing'!C55+'4-Electricity'!C55+'5-Construction'!C55+'6-Trade'!C55+'7-Transport'!C55+'8-Finance'!C55+'9-Community'!C55 -> 672627000 | D55: =C55-C54 -> -627000 | E55: =((C55/C54)-1)*100 -> -0.093129785 | F55: =C55-C51 -> -6345000 | G55: =((C55/C51)-1)*100 -> -0.93450098
B56: Jun | C56: ='2-Mining'!C17+'3-Manufacturing'!C56+'4-Electricity'!C56+'5-Construction'!C56+'6-Trade'!C56+'7-Transport'!C56+'8-Finance'!C56+'9-Community'!C56 -> 699398000 | D56: =C56-C55 -> 26771000 | E56: =((C56/C55)-1)*100 -> 3.9800662 | F56: =C56-C52 -> 88545000 | G56: =((C56/C52)-1)*100 -> 14.495304
B57: Sep | C57: ='2-Mining'!C18+'3-Manufacturing'!C57+'4-Electricity'!C57+'5-Construction'!C57+'6-Trade'!C57+'7-Transport'!C57+'8-Finance'!C57+'9-Community'!C57 -> 730835000 | D57: =C57-C56 -> 31437000 | E57: =((C57/C56)-1)*100 -> 4.4948656 | F57: =C57-C53 -> 81749000 | G57: =((C57/C53)-1)*100 -> 12.594479
B58: Dec | C58: ='2-Mining'!C19+'3-Manufacturing'!C58+'4-Electricity'!C58+'5-Construction'!C58+'6-Trade'!C58+'7-Transport'!C58+'8-Finance'!C58+'9-Community'!C58 -> 746562000 | D58: =C58-C57 -> 15727000 | E58: =((C58/C57)-1)*100 -> 2.1519221 | F58: =C58-C54 -> 73308000 | G58: =((C58/C54)-1)*100 -> 10.88861
A59: 2022 | B59: Mar | C59: ='2-Mining'!C20+'3-Manufacturing'!C59+'4-Electricity'!C59+'5-Construction'!C59+'6-Trade'!C59+'7-Transport'!C59+'8-Finance'!C59+'9-Community'!C59 -> 741364000 | D59: =C59-C58 -> -5198000 | E59: =((C59/C58)-1)*100 -> -0.69625831 | F59: =C59-C55 -> 68737000 | G59: =((C59/C55)-1)*100 -> 10.219185
B60: Jun | C60: ='2-Mining'!C21+'3-Manufacturing'!C60+'4-Electricity'!C60+'5-Construction'!C60+'6-Trade'!C60+'7-Transport'!C60+'8-Finance'!C60+'9-Community'!C60 -> 763491000 | D60: =C60-C59 -> 22127000 | E60: =((C60/C59)-1)*100 -> 2.9846337 | F60: =C60-C56 -> 64093000 | G60: =((C60/C56)-1)*100 -> 9.1640239
B61: Sep | C61: ='2-Mining'!C22+'3-Manufacturing'!C61+'4-Electricity'!C61+'5-Construction'!C61+'6-Trade'!C61+'7-Transport'!C61+'8-Finance'!C61+'9-Community'!C61 -> 783012000 | D61: =C61-C60 -> 19521000 | E61: =((C61/C60)-1)*100 -> 2.5568081 | F61: =C61-C57 -> 52177000 | G61: =((C61/C57)-1)*100 -> 7.139368
B62: Dec | C62: ='2-Mining'!C23+'3-Manufacturing'!C62+'4-Electricity'!C62+'5-Construction'!C62+'6-Trade'!C62+'7-Transport'!C62+'8-Finance'!C62+'9-Community'!C62 -> 813776000 | D62: =C62-C61 -> 30764000 | E62: =((C62/C61)-1)*100 -> 3.9289308 | F62: =C62-C58 -> 67214000 | G62: =((C62/C58)-1)*100 -> 9.003137
A63: 2023 | B63: Mar | C63: ='2-Mining'!C24+'3-Manufacturing'!C63+'4-Electricity'!C63+'5-Construction'!C63+'6-Trade'!C63+'7-Transport'!C63+'8-Finance'!C63+'9-Community'!C63 -> 808832000 | D63: =C63-C62 -> -4944000 | E63: =((C63/C62)-1)*100 -> -0.60753819 | F63: =C63-C59 -> 67468000 | G63: =((C63/C59)-1)*100 -> 9.1005228
B64: Jun | C64: ='2-Mining'!C25+'3-Manufacturing'!C64+'4-Electricity'!C64+'5-Construction'!C64+'6-Trade'!C64+'7-Transport'!C64+'8-Finance'!C64+'9-Community'!C64 -> 832961000 | D64: =C64-C63 -> 24129000 | E64: =((C64/C63)-1)*100 -> 2.9831906 | F64: =C64-C60 -> 69470000 | G64: =((C64/C60)-1)*100 -> 9.098994
B65: Sep | C65: ='2-Mining'!C26+'3-Manufacturing'!C65+'4-Electricity'!C65+'5-Construction'!C65+'6-Trade'!C65+'7-Transport'!C65+'8-Finance'!C65+'9-Community'!C65 -> 849518000 | D65: =C65-C64 -> 16557000 | E65: =((C65/C64)-1)*100 -> 1.9877281 | F65: =C65-C61 -> 66506000 | G65: =((C65/C61)-1)*100 -> 8.4936118
B66: Dec | C66: ='2-Mining'!C27+'3-Manufacturing'!C66+'4-Electricity'!C66+'5-Construction'!C66+'6-Trade'!C66+'7-Transport'!C66+'8-Finance'!C66+'9-Community'!C66 -> 855609000 | D66: =C66-C65 -> 6091000 | E66: =((C66/C65)-1)*100 -> 0.71699481 | F66: =C66-C62 -> 41833000 | G66: =((C66/C62)-1)*100 -> 5.1406038
A67: 2024 | B67: Mar | C67: ='2-Mining'!C28+'3-Manufacturing'!C67+'4-Electricity'!C67+'5-Construction'!C67+'6-Trade'!C67+'7-Transport'!C67+'8-Finance'!C67+'9-Community'!C67 -> 847983000 | D67: =C67-C66 -> -7626000 | E67: =((C67/C66)-1)*100 -> -0.89129497 | F67: =C67-C63 -> 39151000 | G67: =((C67/C63)-1)*100 -> 4.8404366
B68: Jun | C68: ='2-Mining'!C29+'3-Manufacturing'!C68+'4-Electricity'!C68+'5-Construction'!C68+'6-Trade'!C68+'7-Transport'!C68+'8-Finance'!C68+'9-Community'!C68 -> 871563000 | D68: =C68-C67 -> 23580000 | E68: =((C68/C67)-1)*100 -> 2.7807161 | F68: =C68-C64 -> 38602000 | G68: =((C68/C64)-1)*100 -> 4.6343106
B69: Sep | C69: ='2-Mining'!C30+'3-Manufacturing'!C69+'4-Electricity'!C69+'5-Construction'!C69+'6-Trade'!C69+'7-Transport'!C69+'8-Finance'!C69+'9-Community'!C69 -> 880219000 | D69: =C69-C68 -> 8656000 | E69: =((C69/C68)-1)*100 -> 0.99315827 | F69: =C69-C65 -> 30701000 | G69: =((C69/C65)-1)*100 -> 3.6139317
B70: Dec | C70: ='2-Mining'!C31+'3-Manufacturing'!C70+'4-Electricity'!C70+'5-Construction'!C70+'6-Trade'!C70+'7-Transport'!C70+'8-Finance'!C70+'9-Community'!C70 -> 890492000 | D70: =C70-C69 -> 10273000 | E70: =((C70/C69)-1)*100 -> 1.1670959 | F70: =C70-C66 -> 34883000 | G70: =((C70/C66)-1)*100 -> 4.0769791
A71: 2025 | B71: Mar | C71: ='2-Mining'!C32+'3-Manufacturing'!C71+'4-Electricity'!C71+'5-Construction'!C71+'6-Trade'!C71+'7-Transport'!C71+'8-Finance'!C71+'9-Community'!C71 -> 881119000 | D71: =C71-C70 -> -9373000 | E71: =((C71/C70)-1)*100 -> -1.0525642 | F71: =C71-C67 -> 33136000 | G71: =((C71/C67)-1)*100 -> 3.9076255
B72: Jun | C72: ='2-Mining'!C33+'3-Manufacturing'!C72+'4-Electricity'!C72+'5-Construction'!C72+'6-Trade'!C72+'7-Transport'!C72+'8-Finance'!C72+'9-Community'!C72 -> 903391000 | D72: =C72-C71 -> 22272000 | E72: =((C72/C71)-1)*100 -> 2.5276949 | F72: =C72-C68 -> 31828000 | G72: =((C72/C68)-1)*100 -> 3.6518301
B73: Sep | C73: ='2-Mining'!C34+'3-Manufacturing'!C73+'4-Electricity'!C73+'5-Construction'!C73+'6-Trade'!C73+'7-Transport'!C73+'8-Finance'!C73+'9-Community'!C73 -> 914271000 | D73: =C73-C72 -> 10880000 | E73: =((C73/C72)-1)*100 -> 1.2043512 | F73: =C73-C69 -> 34052000 | G73: =((C73/C69)-1)*100 -> 3.8685827
B74: Dec | C74: ='2-Mining'!C35+'3-Manufacturing'!C74+'4-Electricity'!C74+'5-Construction'!C74+'6-Trade'!C74+'7-Transport'!C74+'8-Finance'!C74+'9-Community'!C74 -> 928482000 | D74: =C74-C73 -> 14211000 | E74: =((C74/C73)-1)*100 -> 1.5543531 | F74: =C74-C70 -> 37990000 | G74: =((C74/C70)-1)*100 -> 4.2661809
A75: 2026 | B75: Mar* | C75: ='2-Mining'!C36+'3-Manufacturing'!C75+'4-Electricity'!C75+'5-Construction'!C75+'6-Trade'!C75+'7-Transport'!C75+'8-Finance'!C75+'9-Community'!C75 -> 914645000 | D75: =C75-C74 -> -13837000 | E75: =((C75/C74)-1)*100 -> -1.490282 | F75: =C75-C71 -> 33526000 | G75: =((C75/C71)-1)*100 -> 3.8049344
B76: Jun | C76: ='2-Mining'!C37+'3-Manufacturing'!C76+'4-Electricity'!C76+'5-Construction'!C76+'6-Trade'!C76+'7-Transport'!C76+'8-Finance'!C76+'9-Community'!C76 -> 930123000 | D76: =C76-C75 -> 15478000 | E76: =((C76/C75)-1)*100 -> 1.6922413 | F76: =C76-C72 -> 26732000 | G76: =((C76/C72)-1)*100 -> 2.9590731
A81: Year | B81: Quarter | C81: Bonus payments | D81: Change in bonus payments | E81: % change in bonus payments | F81: Change in bonus payments | G81: % change in bonus payments
D82: Quarterly | F82: Annual
A83: 2018 | B83: Jun | C83: ='3-Manufacturing'!C83+'4-Electricity'!C83+'5-Construction'!C83+'6-Trade'!C83+'7-Transport'!C83+'8-Finance'!C83+'9-Community'!C83 -> 35923000 | D83: - | E83: - | F83: - | G83: -
B84: Sep | C84: ='3-Manufacturing'!C84+'4-Electricity'!C84+'5-Construction'!C84+'6-Trade'!C84+'7-Transport'!C84+'8-Finance'!C84+'9-Community'!C84 -> 42618000 | D84: =C84-C83 -> 6695000 | E84: =((C84/C83)-1)*100 -> 18.637085 | F84: - | G84: -
B85: Dec | C85: ='3-Manufacturing'!C85+'4-Electricity'!C85+'5-Construction'!C85+'6-Trade'!C85+'7-Transport'!C85+'8-Finance'!C85+'9-Community'!C85 -> 77069000 | D85: =C85-C84 -> 34451000 | E85: =((C85/C84)-1)*100 -> 80.836736 | F85: - | G85: -
A86: 2019 | B86: Mar | C86: ='3-Manufacturing'!C86+'4-Electricity'!C86+'5-Construction'!C86+'6-Trade'!C86+'7-Transport'!C86+'8-Finance'!C86+'9-Community'!C86 -> 42007000 | D86: =C86-C85 -> -35062000 | E86: =((C86/C85)-1)*100 -> -45.494297 | F86: - | G86: -
B87: Jun | C87: ='3-Manufacturing'!C87+'4-Electricity'!C87+'5-Construction'!C87+'6-Trade'!C87+'7-Transport'!C87+'8-Finance'!C87+'9-Community'!C87 -> 36889000 | D87: =C87-C86 -> -5118000 | E87: =((C87/C86)-1)*100 -> -12.183684 | F87: =C87-C83 -> 966000 | G87: =((C87/C83)-1)*100 -> 2.689085
B88: Sep | C88: ='3-Manufacturing'!C88+'4-Electricity'!C88+'5-Construction'!C88+'6-Trade'!C88+'7-Transport'!C88+'8-Finance'!C88+'9-Community'!C88 -> 42115000 | D88: =C88-C87 -> 5226000 | E88: =((C88/C87)-1)*100 -> 14.166825 | F88: =C88-C84 -> -503000 | G88: =((C88/C84)-1)*100 -> -1.1802525
B89: Dec | C89: ='3-Manufacturing'!C89+'4-Electricity'!C89+'5-Construction'!C89+'6-Trade'!C89+'7-Transport'!C89+'8-Finance'!C89+'9-Community'!C89 -> 89548000 | D89: =C89-C88 -> 47433000 | E89: =((C89/C88)-1)*100 -> 112.62733 | F89: =C89-C85 -> 12479000 | G89: =((C89/C85)-1)*100 -> 16.191984
A90: 2020 | B90: Mar | C90: ='3-Manufacturing'!C90+'4-Electricity'!C90+'5-Construction'!C90+'6-Trade'!C90+'7-Transport'!C90+'8-Finance'!C90+'9-Community'!C90 -> 43084000 | D90: =C90-C89 -> -46464000 | E90: =((C90/C89)-1)*100 -> -51.887256 | F90: =C90-C86 -> 1077000 | G90: =((C90/C86)-1)*100 -> 2.5638584
B91: Jun | C91: ='3-Manufacturing'!C91+'4-Electricity'!C91+'5-Construction'!C91+'6-Trade'!C91+'7-Transport'!C91+'8-Finance'!C91+'9-Community'!C91 -> 32017000 | D91: =C91-C90 -> -11067000 | E91: =((C91/C90)-1)*100 -> -25.68703 | F91: =C91-C87 -> -4872000 | G91: =((C91/C87)-1)*100 -> -13.207189
B92: Sep | C92: ='3-Manufacturing'!C92+'4-Electricity'!C92+'5-Construction'!C92+'6-Trade'!C92+'7-Transport'!C92+'8-Finance'!C92+'9-Community'!C92 -> 33971000 | D92: =C92-C91 -> 1954000 | E92: =((C92/C91)-1)*100 -> 6.1030078 | F92: =C92-C88 -> -8144000 | G92: =((C92/C88)-1)*100 -> -19.337528
B93: Dec | C93: ='3-Manufacturing'!C93+'4-Electricity'!C93+'5-Construction'!C93+'6-Trade'!C93+'7-Transport'!C93+'8-Finance'!C93+'9-Community'!C93 -> 82890000 | D93: =C93-C92 -> 48919000 | E93: =((C93/C92)-1)*100 -> 144.00224 | F93: =C93-C89 -> -6658000 | G93: =((C93/C89)-1)*100 -> -7.4351186
A94: 2021 | B94: Mar | C94: ='3-Manufacturing'!C94+'4-Electricity'!C94+'5-Construction'!C94+'6-Trade'!C94+'7-Transport'!C94+'8-Finance'!C94+'9-Community'!C94 -> 50244000 | D94: =C94-C93 -> -32646000 | E94: =((C94/C93)-1)*100 -> -39.384727 | F94: =C94-C90 -> 7160000 | G94: =((C94/C90)-1)*100 -> 16.618698
B95: Jun | C95: ='3-Manufacturing'!C95+'4-Electricity'!C95+'5-Construction'!C95+'6-Trade'!C95+'7-Transport'!C95+'8-Finance'!C95+'9-Community'!C95 -> 42490000 | D95: =C95-C94 -> -7754000 | E95: =((C95/C94)-1)*100 -> -15.432688 | F95: =C95-C91 -> 10473000 | G95: =((C95/C91)-1)*100 -> 32.710747
B96: Sep | C96: ='3-Manufacturing'!C96+'4-Electricity'!C96+'5-Construction'!C96+'6-Trade'!C96+'7-Transport'!C96+'8-Finance'!C96+'9-Community'!C96 -> 53948000 | D96: =C96-C95 -> 11458000 | E96: =((C96/C95)-1)*100 -> 26.966345 | F96: =C96-C92 -> 19977000 | G96: =((C96/C92)-1)*100 -> 58.80604
B97: Dec | C97: ='3-Manufacturing'!C97+'4-Electricity'!C97+'5-Construction'!C97+'6-Trade'!C97+'7-Transport'!C97+'8-Finance'!C97+'9-Community'!C97 -> 97839000 | D97: =C97-C96 -> 43891000 | E97: =((C97/C96)-1)*100 -> 81.357974 | F97: =C97-C93 -> 14949000 | G97: =((C97/C93)-1)*100 -> 18.034745
A98: 2022 | B98: Mar | C98: ='3-Manufacturing'!C98+'4-Electricity'!C98+'5-Construction'!C98+'6-Trade'!C98+'7-Transport'!C98+'8-Finance'!C98+'9-Community'!C98 -> 65042000 | D98: =C98-C97 -> -32797000 | E98: =((C98/C97)-1)*100 -> -33.521397 | F98: =C98-C94 -> 14798000 | G98: =((C98/C94)-1)*100 -> 29.452273
B99: Jun | C99: ='3-Manufacturing'!C99+'4-Electricity'!C99+'5-Construction'!C99+'6-Trade'!C99+'7-Transport'!C99+'8-Finance'!C99+'9-Community'!C99 -> 52870000 | D99: =C99-C98 -> -12172000 | E99: =((C99/C98)-1)*100 -> -18.714062 | F99: =C99-C95 -> 10380000 | G99: =((C99/C95)-1)*100 -> 24.429277
B100: Sep | C100: ='3-Manufacturing'!C100+'4-Electricity'!C100+'5-Construction'!C100+'6-Trade'!C100+'7-Transport'!C100+'8-Finance'!C100+'9-Community'!C100 -> 59466000 | D100: =C100-C99 -> 6596000 | E100: =((C100/C99)-1)*100 -> 12.475884 | F100: =C100-C96 -> 5518000 | G100: =((C100/C96)-1)*100 -> 10.228368
B101: Dec | C101: ='3-Manufacturing'!C101+'4-Electricity'!C101+'5-Construction'!C101+'6-Trade'!C101+'7-Transport'!C101+'8-Finance'!C101+'9-Community'!C101 -> 115464000 | D101: =C101-C100 -> 55998000 | E101: =((C101/C100)-1)*100 -> 94.168096 | F101: =C101-C97 -> 17625000 | G101: =((C101/C97)-1)*100 -> 18.014289
A102: 2023 | B102: Mar | C102: ='3-Manufacturing'!C102+'4-Electricity'!C102+'5-Construction'!C102+'6-Trade'!C102+'7-Transport'!C102+'8-Finance'!C102+'9-Community'!C102 -> 80996000 | D102: =C102-C101 -> -34468000 | E102: =((C102/C101)-1)*100 -> -29.851729 | F102: =C102-C98 -> 15954000 | G102: =((C102/C98)-1)*100 -> 24.528766
B103: Jun | C103: ='3-Manufacturing'!C103+'4-Electricity'!C103+'5-Construction'!C103+'6-Trade'!C103+'7-Transport'!C103+'8-Finance'!C103+'9-Community'!C103 -> 57248000 | D103: =C103-C102 -> -23748000 | E103: =((C103/C102)-1)*100 -> -29.319966 | F103: =C103-C99 -> 4378000 | G103: =((C103/C99)-1)*100 -> 8.2806885
B104: Sep | C104: ='3-Manufacturing'!C104+'4-Electricity'!C104+'5-Construction'!C104+'6-Trade'!C104+'7-Transport'!C104+'8-Finance'!C104+'9-Community'!C104 -> 65218000 | D104: =C104-C103 -> 7970000 | E104: =((C104/C103)-1)*100 -> 13.921884 | F104: =C104-C100 -> 5752000 | G104: =((C104/C100)-1)*100 -> 9.6727542
B105: Dec | C105: ='3-Manufacturing'!C105+'4-Electricity'!C105+'5-Construction'!C105+'6-Trade'!C105+'7-Transport'!C105+'8-Finance'!C105+'9-Community'!C105 -> 109020000 | D105: =C105-C104 -> 43802000 | E105: =((C105/C104)-1)*100 -> 67.16244 | F105: =C105-C101 -> -6444000 | G105: =((C105/C101)-1)*100 -> -5.5809603
A106: 2024 | B106: Mar | C106: ='3-Manufacturing'!C106+'4-Electricity'!C106+'5-Construction'!C106+'6-Trade'!C106+'7-Transport'!C106+'8-Finance'!C106+'9-Community'!C106 -> 81467000 | D106: =C106-C105 -> -27553000 | E106: =((C106/C105)-1)*100 -> -25.273344 | F106: =C106-C102 -> 471000 | G106: =((C106/C102)-1)*100 -> 0.5815102
B107: Jun | C107: ='3-Manufacturing'!C107+'4-Electricity'!C107+'5-Construction'!C107+'6-Trade'!C107+'7-Transport'!C107+'8-Finance'!C107+'9-Community'!C107 -> 53810000 | D107: =C107-C106 -> -27657000 | E107: =((C107/C106)-1)*100 -> -33.948715 | F107: =C107-C103 -> -3438000 | G107: =((C107/C103)-1)*100 -> -6.00545
B108: Sep | C108: ='3-Manufacturing'!C108+'4-Electricity'!C108+'5-Construction'!C108+'6-Trade'!C108+'7-Transport'!C108+'8-Finance'!C108+'9-Community'!C108 -> 60651000 | D108: =C108-C107 -> 6841000 | E108: =((C108/C107)-1)*100 -> 12.71325 | F108: =C108-C104 -> -4567000 | G108: =((C108/C104)-1)*100 -> -7.002668
B109: Dec | C109: ='3-Manufacturing'!C109+'4-Electricity'!C109+'5-Construction'!C109+'6-Trade'!C109+'7-Transport'!C109+'8-Finance'!C109+'9-Community'!C109 -> 112336000 | D109: =C109-C108 -> 51685000 | E109: =((C109/C108)-1)*100 -> 85.217062 | F109: =C109-C105 -> 3316000 | G109: =((C109/C105)-1)*100 -> 3.0416437
...

Sheet 2-Mining
A1: Table 2 - Mining (thousand)
A3: Year | B3: Quarter | C3: Total gross earnings | D3: Change in gross earnings | E3: % change in gross earnings | F3: Change in gross earnings | G3: % change in gross earnings
D4: Quarterly | F4: Annual
A5: 2018 | B5: Jun | C5: 31902000 | D5: - | E5: - | F5: - | G5: -
B6: Sep | C6: 33754000 | D6: 1852000 | E6: 5.8052787 | F6: - | G6: -
B7: Dec | C7: 34427000 | D7: 673000 | E7: 1.9938378 | F7: - | G7: -
A8: 2019 | B8: Mar | C8: 33570000 | D8: -857000 | E8: -2.4893252 | F8: - | G8: -
B9: Jun | C9: 34640000 | D9: 1070000 | E9: 3.1873697 | F9: 2738000 | G9: 8.582534
B10: Sep | C10: 37020000 | D10: 2380000 | E10: 6.8706697 | F10: 3266000 | G10: 9.6758903
B11: Dec | C11: 37891000 | D11: 871000 | E11: 2.3527823 | F11: 3464000 | G11: 10.06187
A12: 2020 | B12: Mar | C12: 37903000 | D12: 12000 | E12: 0.03166979 | F12: 4333000 | G12: 12.907358
B13: Jun | C13: 33899000 | D13: -4004000 | E13: -10.563808 | F13: -741000 | G13: -2.1391455
B14: Sep | C14: 38484000 | D14: 4585000 | E14: 13.525473 | F14: 1464000 | G14: 3.9546191
B15: Dec | C15: 39355000 | D15: 871000 | E15: 2.2632782 | F15: 1464000 | G15: 3.8637143
A16: 2021 | B16: Mar | C16: 39646000 | D16: 291000 | E16: 0.7394232 | F16: 1743000 | G16: 4.5985806
B17: Jun | C17: 40076000 | D17: 430000 | E17: 1.0845987 | F17: 6177000 | G17: 18.221776
B18: Sep | C18: 43583000 | D18: =C18-C17 -> 3507000 | E18: =((C18/C17)-1)*100 -> 8.7508733 | F18: =C18-C14 -> 5099000 | G18: =((C18/C14)-1)*100 -> 13.249662
B19: Dec | C19: 41659000 | D19: =C19-C18 -> -1924000 | E19: =((C19/C18)-1)*100 -> -4.4145653 | F19: =C19-C15 -> 2304000 | G19: =((C19/C15)-1)*100 -> 5.8544022
A20: 2022 | B20: Mar | C20: 41475000 | D20: =C20-C19 -> -184000 | E20: =((C20/C19)-1)*100 -> -0.44168127 | F20: =C20-C16 -> 1829000 | G20: =((C20/C16)-1)*100 -> 4.613328
B21: Jun | C21: 42537000 | D21: =C21-C20 -> 1062000 | E21: =((C21/C20)-1)*100 -> 2.5605787 | F21: =C21-C17 -> 2461000 | G21: =((C21/C17)-1)*100 -> 6.1408324
B22: Sep | C22: 44553000 | D22: =C22-C21 -> 2016000 | E22: =((C22/C21)-1)*100 -> 4.7394033 | F22: =C22-C18 -> 970000 | G22: =((C22/C18)-1)*100 -> 2.2256384
B23: Dec | C23: 45605000 | D23: =C23-C22 -> 1052000 | E23: =((C23/C22)-1)*100 -> 2.3612327 | F23: =C23-C19 -> 3946000 | G23: =((C23/C19)-1)*100 -> 9.4721429
A24: 2023 | B24: Mar | C24: 46089000 | D24: =C24-C23 -> 484000 | E24: =((C24/C23)-1)*100 -> 1.0612871 | F24: =C24-C20 -> 4614000 | G24: =((C24/C20)-1)*100 -> 11.124774
B25: Jun | C25: 46369000 | D25: =C25-C24 -> 280000 | E25: =((C25/C24)-1)*100 -> 0.60752023 | F25: =C25-C21 -> 3832000 | G25: =((C25/C21)-1)*100 -> 9.0086278
B26: Sep | C26: 48564000 | D26: =C26-C25 -> 2195000 | E26: =((C26/C25)-1)*100 -> 4.7337661 | F26: =C26-C22 -> 4011000 | G26: =((C26/C22)-1)*100 -> 9.0027608
B27: Dec | C27: 48985000 | D27: =C27-C26 -> 421000 | E27: =((C27/C26)-1)*100 -> 0.86689729 | F27: =C27-C23 -> 3380000 | G27: =((C27/C23)-1)*100 -> 7.411468
A28: 2024 | B28: Mar | C28: 48196000 | D28: =C28-C27 -> -789000 | E28: =((C28/C27)-1)*100 -> -1.6106972 | F28: =C28-C24 -> 2107000 | G28: =((C28/C24)-1)*100 -> 4.5715898
B29: Jun | C29: 48389000 | D29: =C29-C28 -> 193000 | E29: =((C29/C28)-1)*100 -> 0.40044817 | F29: =C29-C25 -> 2020000 | G29: =((C29/C25)-1)*100 -> 4.3563588
B30: Sep | C30: 49853000 | D30: =C30-C29 -> 1464000 | E30: =((C30/C29)-1)*100 -> 3.025481 | F30: =C30-C26 -> 1289000 | G30: =((C30/C26)-1)*100 -> 2.6542295
B31: Dec | C31: 48848000 | D31: =C31-C30 -> -1005000 | E31: =((C31/C30)-1)*100 -> -2.0159268 | F31: =C31-C27 -> -137000 | G31: =((C31/C27)-1)*100 -> -0.27967745
A32: 2025 | B32: Mar | C32: 48718000 | D32: =C32-C31 -> -130000 | E32: =((C32/C31)-1)*100 -> -0.26613167 | F32: =C32-C28 -> 522000 | G32: =((C32/C28)-1)*100 -> 1.0830774
B33: Jun | C33: 49816000 | D33: =C33-C32 -> 1098000 | E33: =((C33/C32)-1)*100 -> 2.2537871 | F33: =C33-C29 -> 1427000 | G33: =((C33/C29)-1)*100 -> 2.9490173
B34: Sep | C34: 52326000 | D34: =C34-C33 -> 2510000 | E34: =((C34/C33)-1)*100 -> 5.0385418 | F34: =C34-C30 -> 2473000 | G34: =((C34/C30)-1)*100 -> 4.9605841
B35: Dec | C35: 52567000 | D35: =C35-C34 -> 241000 | E35: =((C35/C34)-1)*100 -> 0.46057409 | F35: =C35-C31 -> 3719000 | G35: =((C35/C31)-1)*100 -> 7.613413
A36: 2026 | B36: Mar* | C36: 53238000 | D36: =C36-C35 -> 671000 | E36: =((C36/C35)-1)*100 -> 1.2764662 | F36: =C36-C32 -> 4520000 | G36: =((C36/C32)-1)*100 -> 9.277885
B37: Jun | C37: 52480000 | D37: =C37-C36 -> -758000 | E37: =((C37/C36)-1)*100 -> -1.423795 | F37: =C37-C33 -> 2664000 | G37: =((C37/C33)-1)*100 -> 5.3476795

Sheet 3-Manufacturing
A1: Table 3 - Manufacturing (thousand)
A3: Year | B3: Quarter | C3: Total gross earnings | D3: Change in gross earnings | E3: % change in gross earnings | F3: Change in gross earnings | G3: % change in gross earnings
D4: Quarterly | F4: Annual
A5: 2018 | B5: Jun | C5: =C44+C83+C122 -> 67770000 | D5: - | E5: - | F5: - | G5: -
B6: Sep | C6: =C45+C84+C123 -> 69229000 | D6: =C6-C5 -> 1459000 | E6: =((C6/C5)-1)*100 -> 2.15287 | F6: - | G6: -
B7: Dec | C7: =C46+C85+C124 -> 78511000 | D7: =C7-C6 -> 9282000 | E7: =((C7/C6)-1)*100 -> 13.407676 | F7: - | G7: -
A8: 2019 | B8: Mar | C8: =C47+C86+C125 -> 70875000 | D8: =C8-C7 -> -7636000 | E8: =((C8/C7)-1)*100 -> -9.7260257 | F8: - | G8: -
B9: Jun | C9: =C48+C87+C126 -> 67338000 | D9: =C9-C8 -> -3537000 | E9: =((C9/C8)-1)*100 -> -4.9904762 | F9: =C9-C5 -> -432000 | G9: =((C9/C5)-1)*100 -> -0.6374502
B10: Sep | C10: =C49+C88+C127 -> 68463000 | D10: =C10-C9 -> 1125000 | E10: =((C10/C9)-1)*100 -> 1.6706763 | F10: =C10-C6 -> -766000 | G10: =((C10/C6)-1)*100 -> -1.1064727
B11: Dec | C11: =C50+C89+C128 -> 76432000 | D11: =C11-C10 -> 7969000 | E11: =((C11/C10)-1)*100 -> 11.639864 | F11: =C11-C7 -> -2079000 | G11: =((C11/C7)-1)*100 -> -2.6480366
A12: 2020 | B12: Mar | C12: =C51+C90+C129 -> 69064000 | D12: =C12-C11 -> -7368000 | E12: =((C12/C11)-1)*100 -> -9.6399414 | F12: =C12-C8 -> -1811000 | G12: =((C12/C8)-1)*100 -> -2.5552028
B13: Jun | C13: =C52+C91+C130 -> 57282000 | D13: =C13-C12 -> -11782000 | E13: =((C13/C12)-1)*100 -> -17.059539 | F13: =C13-C9 -> -10056000 | G13: =((C13/C9)-1)*100 -> -14.933618
B14: Sep | C14: =C53+C92+C131 -> 63468000 | D14: =C14-C13 -> 6186000 | E14: =((C14/C13)-1)*100 -> 10.799204 | F14: =C14-C10 -> -4995000 | G14: =((C14/C10)-1)*100 -> -7.2959117
B15: Dec | C15: =C54+C93+C132 -> 73490000 | D15: =C15-C14 -> 10022000 | E15: =((C15/C14)-1)*100 -> 15.790635 | F15: =C15-C11 -> -2942000 | G15: =((C15/C11)-1)*100 -> -3.8491731
A16: 2021 | B16: Mar | C16: =C55+C94+C133 -> 68232000 | D16: =C16-C15 -> -5258000 | E16: =((C16/C15)-1)*100 -> -7.1547149 | F16: =C16-C12 -> -832000 | G16: =((C16/C12)-1)*100 -> -1.2046797
B17: Jun | C17: =C56+C95+C134 -> 75286000 | D17: =C17-C16 -> 7054000 | E17: =((C17/C16)-1)*100 -> 10.338258 | F17: =C17-C13 -> 18004000 | G17: =((C17/C13)-1)*100 -> 31.430467
B18: Sep | C18: =C57+C96+C135 -> 76922000 | D18: =C18-C17 -> 1636000 | E18: =((C18/C17)-1)*100 -> 2.1730468 | F18: =C18-C14 -> 13454000 | G18: =((C18/C14)-1)*100 -> 21.198084
B19: Dec | C19: =C58+C97+C136 -> 87426000 | D19: =C19-C18 -> 10504000 | E19: =((C19/C18)-1)*100 -> 13.655391 | F19: =C19-C15 -> 13936000 | G19: =((C19/C15)-1)*100 -> 18.963124
A20: 2022 | B20: Mar | C20: =C59+C98+C137 -> 81461000 | D20: =C20-C19 -> -5965000 | E20: =((C20/C19)-1)*100 -> -6.8229131 | F20: =C20-C16 -> 13229000 | G20: =((C20/C16)-1)*100 -> 19.388264
B21: Jun | C21: =C60+C99+C138 -> 82273000 | D21: =C21-C20 -> 812000 | E21: =((C21/C20)-1)*100 -> 0.99679601 | F21: =C21-C17 -> 6987000 | G21: =((C21/C17)-1)*100 -> 9.2806099
B22: Sep | C22: =C61+C100+C139 -> 85208000 | D22: =C22-C21 -> 2935000 | E22: =((C22/C21)-1)*100 -> 3.5673915 | F22: =C22-C18 -> 8286000 | G22: =((C22/C18)-1)*100 -> 10.771951
B23: Dec | C23: =C62+C101+C140 -> 100429000 | D23: =C23-C22 -> 15221000 | E23: =((C23/C22)-1)*100 -> 17.863346 | F23: =C23-C19 -> 13003000 | G23: =((C23/C19)-1)*100 -> 14.87315
A24: 2023 | B24: Mar | C24: =C63+C102+C141 -> 90621000 | D24: =C24-C23 -> -9808000 | E24: =((C24/C23)-1)*100 -> -9.7661034 | F24: =C24-C20 -> 9160000 | G24: =((C24/C20)-1)*100 -> 11.244645
B25: Jun | C25: =C64+C103+C142 -> 91969000 | D25: =C25-C24 -> 1348000 | E25: =((C25/C24)-1)*100 -> 1.4875139 | F25: =C25-C21 -> 9696000 | G25: =((C25/C21)-1)*100 -> 11.785154
B26: Sep | C26: =C65+C104+C143 -> 92730000 | D26: =C26-C25 -> 761000 | E26: =((C26/C25)-1)*100 -> 0.82745273 | F26: =C26-C22 -> 7522000 | G26: =((C26/C22)-1)*100 -> 8.8278096
B27: Dec | C27: =C66+C105+C144 -> 105519000 | D27: =C27-C26 -> 12789000 | E27: =((C27/C26)-1)*100 -> 13.791653 | F27: =C27-C23 -> 5090000 | G27: =((C27/C23)-1)*100 -> 5.0682572
A28: 2024 | B28: Mar | C28: =C67+C106+C145 -> 94608000 | D28: =C28-C27 -> -10911000 | E28: =((C28/C27)-1)*100 -> -10.340318 | F28: =C28-C24 -> 3987000 | G28: =((C28/C24)-1)*100 -> 4.3996425
B29: Jun | C29: =C68+C107+C146 -> 95379000 | D29: =C29-C28 -> 771000 | E29: =((C29/C28)-1)*100 -> 0.81494165 | F29: =C29-C25 -> 3410000 | G29: =((C29/C25)-1)*100 -> 3.7077711
B30: Sep | C30: =C69+C108+C147 -> 94640000 | D30: =C30-C29 -> -739000 | E30: =((C30/C29)-1)*100 -> -0.77480368 | F30: =C30-C26 -> 1910000 | G30: =((C30/C26)-1)*100 -> 2.0597433
B31: Dec | C31: =C70+C109+C148 -> 108232000 | D31: =C31-C30 -> 13592000 | E31: =((C31/C30)-1)*100 -> 14.361792 | F31: =C31-C27 -> 2713000 | G31: =((C31/C27)-1)*100 -> 2.5711009
A32: 2025 | B32: Mar | C32: =C71+C110+C149 -> 97310000 | D32: =C32-C31 -> -10922000 | E32: =((C32/C31)-1)*100 -> -10.091285 | F32: =C32-C28 -> 2702000 | G32: =((C32/C28)-1)*100 -> 2.8559953
B33: Jun | C33: =C72+C111+C150 -> 97867000 | D33: =C33-C32 -> 557000 | E33: =((C33/C32)-1)*100 -> 0.57239749 | F33: =C33-C29 -> 2488000 | G33: =((C33/C29)-1)*100 -> 2.6085407
B34: Sep | C34: =C73+C112+C151 -> 99012000 | D34: =C34-C33 -> 1145000 | E34: =((C34/C33)-1)*100 -> 1.1699551 | F34: =C34-C30 -> 4372000 | G34: =((C34/C30)-1)*100 -> 4.6196112
B35: Dec | C35: =C74+C113+C152 -> 111247000 | D35: =C35-C34 -> 12235000 | E35: =((C35/C34)-1)*100 -> 12.357088 | F35: =C35-C31 -> 3015000 | G35: =((C35/C31)-1)*100 -> 2.7856826
A36: 2026 | B36: Mar* | C36: =C75+C114+C153 -> 98828000 | D36: =C36-C35 -> -12419000 | E36: =((C36/C35)-1)*100 -> -11.163447 | F36: =C36-C32 -> 1518000 | G36: =((C36/C32)-1)*100 -> 1.559963
B37: Jun | C37: =C76+C115+C154 -> 99825000 | D37: =C37-C36 -> 997000 | E37: =((C37/C36)-1)*100 -> 1.0088234 | F37: =C37-C33 -> 1958000 | G37: =((C37/C33)-1)*100 -> 2.0006744
A42: Year | B42: Quarter | C42: Basic Salary/Wages | D42: Change in basic salary/wages | E42: % change in basic salary/wages | F42: Change in basic salary/wages | G42: % change in basic salary/wages
D43: Quarterly | F43: Annual
A44: 2018 | B44: Jun | C44: 61176000 | D44: - | E44: - | F44: - | G44: -
B45: Sep | C45: 63042000 | D45: =C45-C44 -> 1866000 | E45: =((C45/C44)-1)*100 -> 3.0502158 | F45: - | G45: -
B46: Dec | C46: 64760000 | D46: =C46-C45 -> 1718000 | E46: =((C46/C45)-1)*100 -> 2.7251673 | F46: - | G46: -
A47: 2019 | B47: Mar | C47: 63734000 | D47: =C47-C46 -> -1026000 | E47: =((C47/C46)-1)*100 -> -1.5843113 | F47: - | G47: -
B48: Jun | C48: 60679000 | D48: =C48-C47 -> -3055000 | E48: =((C48/C47)-1)*100 -> -4.7933599 | F48: =C48-C44 -> -497000 | G48: =((C48/C44)-1)*100 -> -0.8124101
B49: Sep | C49: 62299000 | D49: =C49-C48 -> 1620000 | E49: =((C49/C48)-1)*100 -> 2.6697869 | F49: =C49-C45 -> -743000 | G49: =((C49/C45)-1)*100 -> -1.1785794
B50: Dec | C50: 63526000 | D50: =C50-C49 -> 1227000 | E50: =((C50/C49)-1)*100 -> 1.969534 | F50: =C50-C46 -> -1234000 | G50: =((C50/C46)-1)*100 -> -1.9054972
A51: 2020 | B51: Mar | C51: 62356000 | D51: =C51-C50 -> -1170000 | E51: =((C51/C50)-1)*100 -> -1.8417656 | F51: =C51-C47 -> -1378000 | G51: =((C51/C47)-1)*100 -> -2.1621113
B52: Jun | C52: 52955000 | D52: =C52-C51 -> -9401000 | E52: =((C52/C51)-1)*100 -> -15.076336 | F52: =C52-C48 -> -7724000 | G52: =((C52/C48)-1)*100 -> -12.72928
B53: Sep | C53: 59093000 | D53: =C53-C52 -> 6138000 | E53: =((C53/C52)-1)*100 -> 11.590973 | F53: =C53-C49 -> -3206000 | G53: =((C53/C49)-1)*100 -> -5.14615
B54: Dec | C54: 61404000 | D54: =C54-C53 -> 2311000 | E54: =((C54/C53)-1)*100 -> 3.9107847 | F54: =C54-C50 -> -2122000 | G54: =((C54/C50)-1)*100 -> -3.3403646
A55: 2021 | B55: Mar | C55: 60267000 | D55: =C55-C54 -> -1137000 | E55: =((C55/C54)-1)*100 -> -1.8516709 | F55: =C55-C51 -> -2089000 | G55: =((C55/C51)-1)*100 -> -3.3501187
B56: Jun | C56: 68199000 | D56: =C56-C55 -> 7932000 | E56: =((C56/C55)-1)*100 -> 13.161432 | F56: =C56-C52 -> 15244000 | G56: =((C56/C52)-1)*100 -> 28.786706
B57: Sep | C57: 69091000 | D57: =C57-C56 -> 892000 | E57: =((C57/C56)-1)*100 -> 1.3079371 | F57: =C57-C53 -> 9998000 | G57: =((C57/C53)-1)*100 -> 16.919094
B58: Dec | C58: 70752000 | D58: =C58-C57 -> 1661000 | E58: =((C58/C57)-1)*100 -> 2.4040758 | F58: =C58-C54 -> 9348000 | G58: =((C58/C54)-1)*100 -> 15.223764
A59: 2022 | B59: Mar | C59: 71454000 | D59: =C59-C58 -> 702000 | E59: =((C59/C58)-1)*100 -> 0.9921981 | F59: =C59-C55 -> 11187000 | G59: =((C59/C55)-1)*100 -> 18.562397
B60: Jun | C60: 73742000 | D60: =C60-C59 -> 2288000 | E60: =((C60/C59)-1)*100 -> 3.2020601 | F60: =C60-C56 -> 5543000 | G60: =((C60/C56)-1)*100 -> 8.1276852
B61: Sep | C61: 76432000 | D61: =C61-C60 -> 2690000 | E61: =((C61/C60)-1)*100 -> 3.6478533 | F61: =C61-C57 -> 7341000 | G61: =((C61/C57)-1)*100 -> 10.625118
B62: Dec | C62: 80637000 | D62: =C62-C61 -> 4205000 | E62: =((C62/C61)-1)*100 -> 5.5016224 | F62: =C62-C58 -> 9885000 | G62: =((C62/C58)-1)*100 -> 13.971336
A63: 2023 | B63: Mar | C63: 79531000 | D63: =C63-C62 -> -1106000 | E63: =((C63/C62)-1)*100 -> -1.3715788 | F63: =C63-C59 -> 8077000 | G63: =((C63/C59)-1)*100 -> 11.303776
B64: Jun | C64: 81338000 | D64: =C64-C63 -> 1807000 | E64: =((C64/C63)-1)*100 -> 2.27207 | F64: =C64-C60 -> 7596000 | G64: =((C64/C60)-1)*100 -> 10.300778
B65: Sep | C65: 83278000 | D65: =C65-C64 -> 1940000 | E65: =((C65/C64)-1)*100 -> 2.3851091 | F65: =C65-C61 -> 6846000 | G65: =((C65/C61)-1)*100 -> 8.9569814
B66: Dec | C66: 85463000 | D66: =C66-C65 -> 2185000 | E66: =((C66/C65)-1)*100 -> 2.6237422 | F66: =C66-C62 -> 4826000 | G66: =((C66/C62)-1)*100 -> 5.9848457
A67: 2024 | B67: Mar | C67: 82875000 | D67: =C67-C66 -> -2588000 | E67: =((C67/C66)-1)*100 -> -3.028211 | F67: =C67-C63 -> 3344000 | G67: =((C67/C63)-1)*100 -> 4.2046498
B68: Jun | C68: 84949000 | D68: =C68-C67 -> 2074000 | E68: =((C68/C67)-1)*100 -> 2.5025641 | F68: =C68-C64 -> 3611000 | G68: =((C68/C64)-1)*100 -> 4.4394994
B69: Sep | C69: 86286000 | D69: =C69-C68 -> 1337000 | E69: =((C69/C68)-1)*100 -> 1.5738855 | F69: =C69-C65 -> 3008000 | G69: =((C69/C65)-1)*100 -> 3.6119984
B70: Dec | C70: 87882000 | D70: =C70-C69 -> 1596000 | E70: =((C70/C69)-1)*100 -> 1.8496627 | F70: =C70-C66 -> 2419000 | G70: =((C70/C66)-1)*100 -> 2.8304646
A71: 2025 | B71: Mar | C71: 86087000 | D71: =C71-C70 -> -1795000 | E71: =((C71/C70)-1)*100 -> -2.0425115 | F71: =C71-C67 -> 3212000 | G71: =((C71/C67)-1)*100 -> 3.8757164
B72: Jun | C72: 87498000 | D72: =C72-C71 -> 1411000 | E72: =((C72/C71)-1)*100 -> 1.6390396 | F72: =C72-C68 -> 2549000 | G72: =((C72/C68)-1)*100 -> 3.0006239
B73: Sep | C73: 89354000 | D73: =C73-C72 -> 1856000 | E73: =((C73/C72)-1)*100 -> 2.1211913 | F73: =C73-C69 -> 3068000 | G73: =((C73/C69)-1)*100 -> 3.5556174
B74: Dec | C74: 90126000 | D74: =C74-C73 -> 772000 | E74: =((C74/C73)-1)*100 -> 0.86397923 | F74: =C74-C70 -> 2244000 | G74: =((C74/C70)-1)*100 -> 2.5534239
A75: 2026 | B75: Mar* | C75: 87864000 | D75: =C75-C74 -> -2262000 | E75: =((C75/C74)-1)*100 -> -2.5098196 | F75: =C75-C71 -> 1777000 | G75: =((C75/C71)-1)*100 -> 2.0641909
B76: Jun | C76: 88748000 | D76: =C76-C75 -> 884000 | E76: =((C76/C75)-1)*100 -> 1.0061003 | F76: =C76-C72 -> 1250000 | G76: =((C76/C72)-1)*100 -> 1.4286041
A81: Year | B81: Quarter | C81: Bonus payments | D81: =TotalEarnings!D81 -> Change in bonus payments | E81: =TotalEarnings!E81 -> % change in bonus payments | F81: =TotalEarnings!F81 -> Change in bonus payments | G81: =TotalEarnings!G81 -> % change in bonus payments
D82: Quarterly | F82: Annual
A83: 2018 | B83: Jun | C83: 2845000 | D83: - | E83: - | F83: - | G83: -
B84: Sep | C84: 2360000 | D84: =C84-C83 -> -485000 | E84: =((C84/C83)-1)*100 -> -17.047452 | F84: - | G84: -
B85: Dec | C85: 9798000 | D85: =C85-C84 -> 7438000 | E85: =((C85/C84)-1)*100 -> 315.16949 | F85: - | G85: -
A86: 2019 | B86: Mar | C86: 3289000 | D86: =C86-C85 -> -6509000 | E86: =((C86/C85)-1)*100 -> -66.431925 | F86: - | G86: -
B87: Jun | C87: 2671000 | D87: =C87-C86 -> -618000 | E87: =((C87/C86)-1)*100 -> -18.789906 | F87: =C87-C83 -> -174000 | G87: =((C87/C83)-1)*100 -> -6.115993
B88: Sep | C88: 2144000 | D88: =C88-C87 -> -527000 | E88: =((C88/C87)-1)*100 -> -19.730438 | F88: =C88-C84 -> -216000 | G88: =((C88/C84)-1)*100 -> -9.1525424
B89: Dec | C89: 9161000 | D89: =C89-C88 -> 7017000 | E89: =((C89/C88)-1)*100 -> 327.28545 | F89: =C89-C85 -> -637000 | G89: =((C89/C85)-1)*100 -> -6.5013268
A90: 2020 | B90: Mar | C90: 2895000 | D90: =C90-C89 -> -6266000 | E90: =((C90/C89)-1)*100 -> -68.398646 | F90: =C90-C86 -> -394000 | G90: =((C90/C86)-1)*100 -> -11.979325
B91: Jun | C91: 2116000 | D91: =C91-C90 -> -779000 | E91: =((C91/C90)-1)*100 -> -26.908463 | F91: =C91-C87 -> -555000 | G91: =((C91/C87)-1)*100 -> -20.778735
B92: Sep | C92: 1459000 | D92: =C92-C91 -> -657000 | E92: =((C92/C91)-1)*100 -> -31.049149 | F92: =C92-C88 -> -685000 | G92: =((C92/C88)-1)*100 -> -31.949627
B93: Dec | C93: 8008000 | D93: =C93-C92 -> 6549000 | E93: =((C93/C92)-1)*100 -> 448.86909 | F93: =C93-C89 -> -1153000 | G93: =((C93/C89)-1)*100 -> -12.585962
A94: 2021 | B94: Mar | C94: 3977000 | D94: =C94-C93 -> -4031000 | E94: =((C94/C93)-1)*100 -> -50.337163 | F94: =C94-C90 -> 1082000 | G94: =((C94/C90)-1)*100 -> 37.374784
B95: Jun | C95: 2680000 | D95: =C95-C94 -> -1297000 | E95: =((C95/C94)-1)*100 -> -32.612522 | F95: =C95-C91 -> 564000 | G95: =((C95/C91)-1)*100 -> 26.654064
B96: Sep | C96: 3467000 | D96: =C96-C95 -> 787000 | E96: =((C96/C95)-1)*100 -> 29.365672 | F96: =C96-C92 -> 2008000 | G96: =((C96/C92)-1)*100 -> 137.62851
B97: Dec | C97: 11717000 | D97: =C97-C96 -> 8250000 | E97: =((C97/C96)-1)*100 -> 237.95789 | F97: =C97-C93 -> 3709000 | G97: =((C97/C93)-1)*100 -> 46.316184
A98: 2022 | B98: Mar | C98: 5583000 | D98: =C98-C97 -> -6134000 | E98: =((C98/C97)-1)*100 -> -52.351284 | F98: =C98-C94 -> 1606000 | G98: =((C98/C94)-1)*100 -> 40.382198
B99: Jun | C99: 3695000 | D99: =C99-C98 -> -1888000 | E99: =((C99/C98)-1)*100 -> -33.816944 | F99: =C99-C95 -> 1015000 | G99: =((C99/C95)-1)*100 -> 37.873134
B100: Sep | C100: 3512000 | D100: =C100-C99 -> -183000 | E100: =((C100/C99)-1)*100 -> -4.9526387 | F100: =C100-C96 -> 45000 | G100: =((C100/C96)-1)*100 -> 1.2979521
B101: Dec | C101: 14298000 | D101: =C101-C100 -> 10786000 | E101: =((C101/C100)-1)*100 -> 307.11845 | F101: =C101-C97 -> 2581000 | G101: =((C101/C97)-1)*100 -> 22.027823
A102: 2023 | B102: Mar | C102: 6130000 | D102: =C102-C101 -> -8168000 | E102: =((C102/C101)-1)*100 -> -57.126871 | F102: =C102-C98 -> 547000 | G102: =((C102/C98)-1)*100 -> 9.7975999
B103: Jun | C103: 4769000 | D103: =C103-C102 -> -1361000 | E103: =((C103/C102)-1)*100 -> -22.202284 | F103: =C103-C99 -> 1074000 | G103: =((C103/C99)-1)*100 -> 29.066306
B104: Sep | C104: 3684000 | D104: =C104-C103 -> -1085000 | E104: =((C104/C103)-1)*100 -> -22.751101 | F104: =C104-C100 -> 172000 | G104: =((C104/C100)-1)*100 -> 4.8974943
B105: Dec | C105: 13856000 | D105: =C105-C104 -> 10172000 | E105: =((C105/C104)-1)*100 -> 276.11292 | F105: =C105-C101 -> -442000 | G105: =((C105/C101)-1)*100 -> -3.0913414
A106: 2024 | B106: Mar | C106: 6062000 | D106: =C106-C105 -> -7794000 | E106: =((C106/C105)-1)*100 -> -56.25 | F106: =C106-C102 -> -68000 | G106: =((C106/C102)-1)*100 -> -1.1092985
B107: Jun | C107: 4590000 | D107: =C107-C106 -> -1472000 | E107: =((C107/C106)-1)*100 -> -24.282415 | F107: =C107-C103 -> -179000 | G107: =((C107/C103)-1)*100 -> -3.7534074
B108: Sep | C108: 2866000 | D108: =C108-C107 -> -1724000 | E108: =((C108/C107)-1)*100 -> -37.559913 | F108: =C108-C104 -> -818000 | G108: =((C108/C104)-1)*100 -> -22.204126
B109: Dec | C109: 14535000 | D109: =C109-C108 -> 11669000 | E109: =((C109/C108)-1)*100 -> 407.15283 | F109: =C109-C105 -> 679000 | G109: =((C109/C105)-1)*100 -> 4.9004042
...

Sheet 4-Electricity
A1: Table 4 - Electricity (thousand)
A3: Year | B3: Quarter | C3: Total gross earnings | D3: Change in gross earnings | E3: % change in gross earnings | F3: Change in gross earnings | G3: % change in gross earnings
D4: Quarterly | F4: Annual
A5: 2018 | B5: Jun | C5: =C44+C83+C122 -> 7931000 | D5: - | E5: - | F5: - | G5: -
B6: Sep | C6: =C45+C84+C123 -> 8143000 | D6: =C6-C5 -> 212000 | E6: =((C6/C5)-1)*100 -> 2.6730551 | F6: - | G6: -
B7: Dec | C7: =C46+C85+C124 -> 9731000 | D7: =C7-C6 -> 1588000 | E7: =((C7/C6)-1)*100 -> 19.501412 | F7: - | G7: -
A8: 2019 | B8: Mar | C8: =C47+C86+C125 -> 8115000 | D8: =C8-C7 -> -1616000 | E8: =((C8/C7)-1)*100 -> -16.606721 | F8: - | G8: -
B9: Jun | C9: =C48+C87+C126 -> 8073000 | D9: =C9-C8 -> -42000 | E9: =((C9/C8)-1)*100 -> -0.51756007 | F9: =C9-C5 -> 142000 | G9: =((C9/C5)-1)*100 -> 1.7904426
B10: Sep | C10: =C49+C88+C127 -> 8228000 | D10: =C10-C9 -> 155000 | E10: =((C10/C9)-1)*100 -> 1.9199802 | F10: =C10-C6 -> 85000 | G10: =((C10/C6)-1)*100 -> 1.0438413
B11: Dec | C11: =C50+C89+C128 -> 9770000 | D11: =C11-C10 -> 1542000 | E11: =((C11/C10)-1)*100 -> 18.740885 | F11: =C11-C7 -> 39000 | G11: =((C11/C7)-1)*100 -> 0.40078101
A12: 2020 | B12: Mar | C12: =C51+C90+C129 -> 8240000 | D12: =C12-C11 -> -1530000 | E12: =((C12/C11)-1)*100 -> -15.660184 | F12: =C12-C8 -> 125000 | G12: =((C12/C8)-1)*100 -> 1.5403574
B13: Jun | C13: =C52+C91+C130 -> 8018000 | D13: =C13-C12 -> -222000 | E13: =((C13/C12)-1)*100 -> -2.6941748 | F13: =C13-C9 -> -55000 | G13: =((C13/C9)-1)*100 -> -0.68128329
B14: Sep | C14: =C53+C92+C131 -> 8405000 | D14: =C14-C13 -> 387000 | E14: =((C14/C13)-1)*100 -> 4.8266401 | F14: =C14-C10 -> 177000 | G14: =((C14/C10)-1)*100 -> 2.1511911
B15: Dec | C15: =C54+C93+C132 -> 9687000 | D15: =C15-C14 -> 1282000 | E15: =((C15/C14)-1)*100 -> 15.252826 | F15: =C15-C11 -> -83000 | G15: =((C15/C11)-1)*100 -> -0.84953941
A16: 2021 | B16: Mar | C16: =C55+C94+C133 -> 8542000 | D16: =C16-C15 -> -1145000 | E16: =((C16/C15)-1)*100 -> -11.819965 | F16: =C16-C12 -> 302000 | G16: =((C16/C12)-1)*100 -> 3.6650485
B17: Jun | C17: =C56+C95+C134 -> 8672000 | D17: =C17-C16 -> 130000 | E17: =((C17/C16)-1)*100 -> 1.5218918 | F17: =C17-C13 -> 654000 | G17: =((C17/C13)-1)*100 -> 8.1566475
B18: Sep | C18: =C57+C96+C135 -> 8286000 | D18: =C18-C17 -> -386000 | E18: =((C18/C17)-1)*100 -> -4.451107 | F18: =C18-C14 -> -119000 | G18: =((C18/C14)-1)*100 -> -1.4158239
B19: Dec | C19: =C58+C97+C136 -> 9864000 | D19: =C19-C18 -> 1578000 | E19: =((C19/C18)-1)*100 -> 19.044171 | F19: =C19-C15 -> 177000 | G19: =((C19/C15)-1)*100 -> 1.8271911
A20: 2022 | B20: Mar | C20: =C59+C98+C137 -> 8706000 | D20: =C20-C19 -> -1158000 | E20: =((C20/C19)-1)*100 -> -11.739659 | F20: =C20-C16 -> 164000 | G20: =((C20/C16)-1)*100 -> 1.9199251
B21: Jun | C21: =C60+C99+C138 -> 8649000 | D21: =C21-C20 -> -57000 | E21: =((C21/C20)-1)*100 -> -0.65472088 | F21: =C21-C17 -> -23000 | G21: =((C21/C17)-1)*100 -> -0.2652214
B22: Sep | C22: =C61+C100+C139 -> 8784000 | D22: =C22-C21 -> 135000 | E22: =((C22/C21)-1)*100 -> 1.5608741 | F22: =C22-C18 -> 498000 | G22: =((C22/C18)-1)*100 -> 6.0101376
B23: Dec | C23: =C62+C101+C140 -> 10957000 | D23: =C23-C22 -> 2173000 | E23: =((C23/C22)-1)*100 -> 24.73816 | F23: =C23-C19 -> 1093000 | G23: =((C23/C19)-1)*100 -> 11.080697
A24: 2023 | B24: Mar | C24: =C63+C102+C141 -> 9675000 | D24: =C24-C23 -> -1282000 | E24: =((C24/C23)-1)*100 -> -11.700283 | F24: =C24-C20 -> 969000 | G24: =((C24/C20)-1)*100 -> 11.130255
B25: Jun | C25: =C64+C103+C142 -> 9238000 | D25: =C25-C24 -> -437000 | E25: =((C25/C24)-1)*100 -> -4.5167959 | F25: =C25-C21 -> 589000 | G25: =((C25/C21)-1)*100 -> 6.8100358
B26: Sep | C26: =C65+C104+C143 -> 9615000 | D26: =C26-C25 -> 377000 | E26: =((C26/C25)-1)*100 -> 4.0809699 | F26: =C26-C22 -> 831000 | G26: =((C26/C22)-1)*100 -> 9.4603825
B27: Dec | C27: =C66+C105+C144 -> 11338000 | D27: =C27-C26 -> 1723000 | E27: =((C27/C26)-1)*100 -> 17.919917 | F27: =C27-C23 -> 381000 | G27: =((C27/C23)-1)*100 -> 3.4772292
A28: 2024 | B28: Mar | C28: =C67+C106+C145 -> 10234000 | D28: =C28-C27 -> -1104000 | E28: =((C28/C27)-1)*100 -> -9.737167 | F28: =C28-C24 -> 559000 | G28: =((C28/C24)-1)*100 -> 5.7777778
B29: Jun | C29: =C68+C107+C146 -> 10155000 | D29: =C29-C28 -> -79000 | E29: =((C29/C28)-1)*100 -> -0.77193668 | F29: =C29-C25 -> 917000 | G29: =((C29/C25)-1)*100 -> 9.926391
B30: Sep | C30: =C69+C108+C147 -> 10466000 | D30: =C30-C29 -> 311000 | E30: =((C30/C29)-1)*100 -> 3.0625308 | F30: =C30-C26 -> 851000 | G30: =((C30/C26)-1)*100 -> 8.850754
B31: Dec | C31: =C70+C109+C148 -> 12990000 | D31: =C31-C30 -> 2524000 | E31: =((C31/C30)-1)*100 -> 24.116186 | F31: =C31-C27 -> 1652000 | G31: =((C31/C27)-1)*100 -> 14.570471
A32: 2025 | B32: Mar | C32: =C71+C110+C149 -> 10861000 | D32: =C32-C31 -> -2129000 | E32: =((C32/C31)-1)*100 -> -16.38953 | F32: =C32-C28 -> 627000 | G32: =((C32/C28)-1)*100 -> 6.1266367
B33: Jun | C33: =C72+C111+C150 -> 11464000 | D33: =C33-C32 -> 603000 | E33: =((C33/C32)-1)*100 -> 5.551975 | F33: =C33-C29 -> 1309000 | G33: =((C33/C29)-1)*100 -> 12.890202
B34: Sep | C34: =C73+C112+C151 -> 11677000 | D34: =C34-C33 -> 213000 | E34: =((C34/C33)-1)*100 -> 1.8579902 | F34: =C34-C30 -> 1211000 | G34: =((C34/C30)-1)*100 -> 11.570801
B35: Dec | C35: =C74+C113+C152 -> 14267000 | D35: =C35-C34 -> 2590000 | E35: =((C35/C34)-1)*100 -> 22.180355 | F35: =C35-C31 -> 1277000 | G35: =((C35/C31)-1)*100 -> 9.830639
A36: 2026 | B36: Mar* | C36: =C75+C114+C153 -> 12278000 | D36: =C36-C35 -> -1989000 | E36: =((C36/C35)-1)*100 -> -13.941263 | F36: =C36-C32 -> 1417000 | G36: =((C36/C32)-1)*100 -> 13.046681
B37: Jun | C37: =C76+C115+C154 -> 12285000 | D37: =C37-C36 -> 7000 | E37: =((C37/C36)-1)*100 -> 0.057012543 | F37: =C37-C33 -> 821000 | G37: =((C37/C33)-1)*100 -> 7.1615492
A42: Year | B42: Quarter | C42: Basic Salary/Wages | D42: Change in basic salary/wages | E42: % change in basic salary/wages | F42: Change in basic salary/wages | G42: % change in basic salary/wages
D43: Quarterly | F43: Annual
A44: 2018 | B44: Jun | C44: 7323000 | D44: - | E44: - | F44: - | G44: -
B45: Sep | C45: 7597000 | D45: =C45-C44 -> 274000 | E45: =((C45/C44)-1)*100 -> 3.7416359 | F45: - | G45: -
B46: Dec | C46: 7738000 | D46: =C46-C45 -> 141000 | E46: =((C46/C45)-1)*100 -> 1.8559958 | F46: - | G46: -
A47: 2019 | B47: Mar | C47: 7528000 | D47: =C47-C46 -> -210000 | E47: =((C47/C46)-1)*100 -> -2.7138796 | F47: - | G47: -
B48: Jun | C48: 7426000 | D48: =C48-C47 -> -102000 | E48: =((C48/C47)-1)*100 -> -1.3549416 | F48: =C48-C44 -> 103000 | G48: =((C48/C44)-1)*100 -> 1.4065274
B49: Sep | C49: 7721000 | D49: =C49-C48 -> 295000 | E49: =((C49/C48)-1)*100 -> 3.972529 | F49: =C49-C45 -> 124000 | G49: =((C49/C45)-1)*100 -> 1.6322232
B50: Dec | C50: 7877000 | D50: =C50-C49 -> 156000 | E50: =((C50/C49)-1)*100 -> 2.0204637 | F50: =C50-C46 -> 139000 | G50: =((C50/C46)-1)*100 -> 1.7963298
A51: 2020 | B51: Mar | C51: 7660000 | D51: =C51-C50 -> -217000 | E51: =((C51/C50)-1)*100 -> -2.7548559 | F51: =C51-C47 -> 132000 | G51: =((C51/C47)-1)*100 -> 1.7534538
B52: Jun | C52: 7492000 | D52: =C52-C51 -> -168000 | E52: =((C52/C51)-1)*100 -> -2.1932115 | F52: =C52-C48 -> 66000 | G52: =((C52/C48)-1)*100 -> 0.88876919
B53: Sep | C53: 7931000 | D53: =C53-C52 -> 439000 | E53: =((C53/C52)-1)*100 -> 5.8595836 | F53: =C53-C49 -> 210000 | G53: =((C53/C49)-1)*100 -> 2.7198549
B54: Dec | C54: 7974000 | D54: =C54-C53 -> 43000 | E54: =((C54/C53)-1)*100 -> 0.54217627 | F54: =C54-C50 -> 97000 | G54: =((C54/C50)-1)*100 -> 1.2314333
A55: 2021 | B55: Mar | C55: 7864000 | D55: =C55-C54 -> -110000 | E55: =((C55/C54)-1)*100 -> -1.3794833 | F55: =C55-C51 -> 204000 | G55: =((C55/C51)-1)*100 -> 2.6631854
B56: Jun | C56: 7910000 | D56: =C56-C55 -> 46000 | E56: =((C56/C55)-1)*100 -> 0.58494405 | F56: =C56-C52 -> 418000 | G56: =((C56/C52)-1)*100 -> 5.5792846
B57: Sep | C57: 7899000 | D57: =C57-C56 -> -11000 | E57: =((C57/C56)-1)*100 -> -0.13906448 | F57: =C57-C53 -> -32000 | G57: =((C57/C53)-1)*100 -> -0.40348002
B58: Dec | C58: 8082000 | D58: =C58-C57 -> 183000 | E58: =((C58/C57)-1)*100 -> 2.316749 | F58: =C58-C54 -> 108000 | G58: =((C58/C54)-1)*100 -> 1.3544018
A59: 2022 | B59: Mar | C59: 7948000 | D59: =C59-C58 -> -134000 | E59: =((C59/C58)-1)*100 -> -1.6580054 | F59: =C59-C55 -> 84000 | G59: =((C59/C55)-1)*100 -> 1.0681587
B60: Jun | C60: 7952000 | D60: =C60-C59 -> 4000 | E60: =((C60/C59)-1)*100 -> 0.050327126 | F60: =C60-C56 -> 42000 | G60: =((C60/C56)-1)*100 -> 0.53097345
B61: Sep | C61: 8171000 | D61: =C61-C60 -> 219000 | E61: =((C61/C60)-1)*100 -> 2.7540241 | F61: =C61-C57 -> 272000 | G61: =((C61/C57)-1)*100 -> 3.4434739
B62: Dec | C62: 8455000 | D62: =C62-C61 -> 284000 | E62: =((C62/C61)-1)*100 -> 3.4757068 | F62: =C62-C58 -> 373000 | G62: =((C62/C58)-1)*100 -> 4.6151943
A63: 2023 | B63: Mar | C63: 8479000 | D63: =C63-C62 -> 24000 | E63: =((C63/C62)-1)*100 -> 0.28385571 | F63: =C63-C59 -> 531000 | G63: =((C63/C59)-1)*100 -> 6.680926
B64: Jun | C64: 8442000 | D64: =C64-C63 -> -37000 | E64: =((C64/C63)-1)*100 -> -0.43637221 | F64: =C64-C60 -> 490000 | G64: =((C64/C60)-1)*100 -> 6.1619718
B65: Sep | C65: 8918000 | D65: =C65-C64 -> 476000 | E65: =((C65/C64)-1)*100 -> 5.6384743 | F65: =C65-C61 -> 747000 | G65: =((C65/C61)-1)*100 -> 9.1420879
B66: Dec | C66: 9027000 | D66: =C66-C65 -> 109000 | E66: =((C66/C65)-1)*100 -> 1.2222471 | F66: =C66-C62 -> 572000 | G66: =((C66/C62)-1)*100 -> 6.7652277
A67: 2024 | B67: Mar | C67: 9338000 | D67: =C67-C66 -> 311000 | E67: =((C67/C66)-1)*100 -> 3.4452199 | F67: =C67-C63 -> 859000 | G67: =((C67/C63)-1)*100 -> 10.130912
B68: Jun | C68: 9292000 | D68: =C68-C67 -> -46000 | E68: =((C68/C67)-1)*100 -> -0.49261084 | F68: =C68-C64 -> 850000 | G68: =((C68/C64)-1)*100 -> 10.068704
B69: Sep | C69: 9657000 | D69: =C69-C68 -> 365000 | E69: =((C69/C68)-1)*100 -> 3.9281102 | F69: =C69-C65 -> 739000 | G69: =((C69/C65)-1)*100 -> 8.2866113
B70: Dec | C70: 10027000 | D70: =C70-C69 -> 370000 | E70: =((C70/C69)-1)*100 -> 3.8314176 | F70: =C70-C66 -> 1000000 | G70: =((C70/C66)-1)*100 -> 11.077877
A71: 2025 | B71: Mar | C71: 10049000 | D71: =C71-C70 -> 22000 | E71: =((C71/C70)-1)*100 -> 0.2194076 | F71: =C71-C67 -> 711000 | G71: =((C71/C67)-1)*100 -> 7.6140501
B72: Jun | C72: 10425000 | D72: =C72-C71 -> 376000 | E72: =((C72/C71)-1)*100 -> 3.7416658 | F72: =C72-C68 -> 1133000 | G72: =((C72/C68)-1)*100 -> 12.193285
B73: Sep | C73: 10849000 | D73: =C73-C72 -> 424000 | E73: =((C73/C72)-1)*100 -> 4.0671463 | F73: =C73-C69 -> 1192000 | G73: =((C73/C69)-1)*100 -> 12.343378
B74: Dec | C74: 11327000 | D74: =C74-C73 -> 478000 | E74: =((C74/C73)-1)*100 -> 4.405936 | F74: =C74-C70 -> 1300000 | G74: =((C74/C70)-1)*100 -> 12.964995
A75: 2026 | B75: Mar* | C75: 11373000 | D75: =C75-C74 -> 46000 | E75: =((C75/C74)-1)*100 -> 0.4061093 | F75: =C75-C71 -> 1324000 | G75: =((C75/C71)-1)*100 -> 13.17544
B76: Jun | C76: 11220000 | D76: =C76-C75 -> -153000 | E76: =((C76/C75)-1)*100 -> -1.3452915 | F76: =C76-C72 -> 795000 | G76: =((C76/C72)-1)*100 -> 7.6258993
A81: Year | B81: Quarter | C81: Bonus payments | D81: =TotalEarnings!D81 -> Change in bonus payments | E81: =TotalEarnings!E81 -> % change in bonus payments | F81: =TotalEarnings!F81 -> Change in bonus payments | G81: =TotalEarnings!G81 -> % change in bonus payments
D82: Quarterly | F82: Annual
A83: 2018 | B83: Jun | C83: 37000 | D83: - | E83: - | F83: - | G83: -
B84: Sep | C84: 94000 | D84: =C84-C83 -> 57000 | E84: =((C84/C83)-1)*100 -> 154.05405 | F84: - | G84: -
B85: Dec | C85: 1528000 | D85: =C85-C84 -> 1434000 | E85: =((C85/C84)-1)*100 -> 1525.5319 | F85: - | G85: -
A86: 2019 | B86: Mar | C86: 92000 | D86: =C86-C85 -> -1436000 | E86: =((C86/C85)-1)*100 -> -93.979058 | F86: - | G86: -
B87: Jun | C87: 111000 | D87: =C87-C86 -> 19000 | E87: =((C87/C86)-1)*100 -> 20.652174 | F87: =C87-C83 -> 74000 | G87: =((C87/C83)-1)*100 -> 200
B88: Sep | C88: 41000 | D88: =C88-C87 -> -70000 | E88: =((C88/C87)-1)*100 -> -63.063063 | F88: =C88-C84 -> -53000 | G88: =((C88/C84)-1)*100 -> -56.382979
B89: Dec | C89: 1422000 | D89: =C89-C88 -> 1381000 | E89: =((C89/C88)-1)*100 -> 3368.2927 | F89: =C89-C85 -> -106000 | G89: =((C89/C85)-1)*100 -> -6.9371728
A90: 2020 | B90: Mar | C90: 95000 | D90: =C90-C89 -> -1327000 | E90: =((C90/C89)-1)*100 -> -93.319269 | F90: =C90-C86 -> 3000 | G90: =((C90/C86)-1)*100 -> 3.2608696
B91: Jun | C91: 57000 | D91: =C91-C90 -> -38000 | E91: =((C91/C90)-1)*100 -> -40 | F91: =C91-C87 -> -54000 | G91: =((C91/C87)-1)*100 -> -48.648649
B92: Sep | C92: 44000 | D92: =C92-C91 -> -13000 | E92: =((C92/C91)-1)*100 -> -22.807018 | F92: =C92-C88 -> 3000 | G92: =((C92/C88)-1)*100 -> 7.3170732
B93: Dec | C93: 1272000 | D93: =C93-C92 -> 1228000 | E93: =((C93/C92)-1)*100 -> 2790.9091 | F93: =C93-C89 -> -150000 | G93: =((C93/C89)-1)*100 -> -10.548523
A94: 2021 | B94: Mar | C94: 197000 | D94: =C94-C93 -> -1075000 | E94: =((C94/C93)-1)*100 -> -84.512579 | F94: =C94-C90 -> 102000 | G94: =((C94/C90)-1)*100 -> 107.36842
B95: Jun | C95: 154000 | D95: =C95-C94 -> -43000 | E95: =((C95/C94)-1)*100 -> -21.827411 | F95: =C95-C91 -> 97000 | G95: =((C95/C91)-1)*100 -> 170.17544
B96: Sep | C96: 81000 | D96: =C96-C95 -> -73000 | E96: =((C96/C95)-1)*100 -> -47.402597 | F96: =C96-C92 -> 37000 | G96: =((C96/C92)-1)*100 -> 84.090909
B97: Dec | C97: 1606000 | D97: =C97-C96 -> 1525000 | E97: =((C97/C96)-1)*100 -> 1882.716 | F97: =C97-C93 -> 334000 | G97: =((C97/C93)-1)*100 -> 26.257862
A98: 2022 | B98: Mar | C98: 243000 | D98: =C98-C97 -> -1363000 | E98: =((C98/C97)-1)*100 -> -84.86924 | F98: =C98-C94 -> 46000 | G98: =((C98/C94)-1)*100 -> 23.350254
B99: Jun | C99: 124000 | D99: =C99-C98 -> -119000 | E99: =((C99/C98)-1)*100 -> -48.971193 | F99: =C99-C95 -> -30000 | G99: =((C99/C95)-1)*100 -> -19.480519
B100: Sep | C100: 109000 | D100: =C100-C99 -> -15000 | E100: =((C100/C99)-1)*100 -> -12.096774 | F100: =C100-C96 -> 28000 | G100: =((C100/C96)-1)*100 -> 34.567901
B101: Dec | C101: 1999000 | D101: =C101-C100 -> 1890000 | E101: =((C101/C100)-1)*100 -> 1733.945 | F101: =C101-C97 -> 393000 | G101: =((C101/C97)-1)*100 -> 24.470735
A102: 2023 | B102: Mar | C102: 557000 | D102: =C102-C101 -> -1442000 | E102: =((C102/C101)-1)*100 -> -72.136068 | F102: =C102-C98 -> 314000 | G102: =((C102/C98)-1)*100 -> 129.21811
B103: Jun | C103: 126000 | D103: =C103-C102 -> -431000 | E103: =((C103/C102)-1)*100 -> -77.378815 | F103: =C103-C99 -> 2000 | G103: =((C103/C99)-1)*100 -> 1.6129032
B104: Sep | C104: 97000 | D104: =C104-C103 -> -29000 | E104: =((C104/C103)-1)*100 -> -23.015873 | F104: =C104-C100 -> -12000 | G104: =((C104/C100)-1)*100 -> -11.009174
B105: Dec | C105: 1709000 | D105: =C105-C104 -> 1612000 | E105: =((C105/C104)-1)*100 -> 1661.8557 | F105: =C105-C101 -> -290000 | G105: =((C105/C101)-1)*100 -> -14.507254
A106: 2024 | B106: Mar | C106: 173000 | D106: =C106-C105 -> -1536000 | E106: =((C106/C105)-1)*100 -> -89.877121 | F106: =C106-C102 -> -384000 | G106: =((C106/C102)-1)*100 -> -68.940754
B107: Jun | C107: 135000 | D107: =C107-C106 -> -38000 | E107: =((C107/C106)-1)*100 -> -21.965318 | F107: =C107-C103 -> 9000 | G107: =((C107/C103)-1)*100 -> 7.1428571
B108: Sep | C108: 120000 | D108: =C108-C107 -> -15000 | E108: =((C108/C107)-1)*100 -> -11.111111 | F108: =C108-C104 -> 23000 | G108: =((C108/C104)-1)*100 -> 23.71134
B109: Dec | C109: 2306000 | D109: =C109-C108 -> 2186000 | E109: =((C109/C108)-1)*100 -> 1821.6667 | F109: =C109-C105 -> 597000 | G109: =((C109/C105)-1)*100 -> 34.932709
...

Sheet 5-Construction
A1: Table 5 - Construction (thousand)
A3: Year | B3: Quarter | C3: Total gross earnings | D3: Change in gross earnings | E3: % change in gross earnings | F3: Change in gross earnings | G3: % change in gross earnings
D4: Quarterly | F4: Annual
A5: 2018 | B5: Jun | C5: =C44+C83+C122 -> 33534000 | D5: - | E5: - | F5: - | G5: -
B6: Sep | C6: =C45+C84+C123 -> 33422000 | D6: =C6-C5 -> -112000 | E6: =((C6/C5)-1)*100 -> -0.33398938 | F6: - | G6: -
B7: Dec | C7: =C46+C85+C124 -> 38197000 | D7: =C7-C6 -> 4775000 | E7: =((C7/C6)-1)*100 -> 14.286997 | F7: - | G7: -
A8: 2019 | B8: Mar | C8: =C47+C86+C125 -> 33419000 | D8: =C8-C7 -> -4778000 | E8: =((C8/C7)-1)*100 -> -12.508836 | F8: - | G8: -
B9: Jun | C9: =C48+C87+C126 -> 34393000 | D9: =C9-C8 -> 974000 | E9: =((C9/C8)-1)*100 -> 2.9145097 | F9: =C9-C5 -> 859000 | G9: =((C9/C5)-1)*100 -> 2.5615793
B10: Sep | C10: =C49+C88+C127 -> 34260000 | D10: =C10-C9 -> -133000 | E10: =((C10/C9)-1)*100 -> -0.3867066 | F10: =C10-C6 -> 838000 | G10: =((C10/C6)-1)*100 -> 2.5073305
B11: Dec | C11: =C50+C89+C128 -> 38443000 | D11: =C11-C10 -> 4183000 | E11: =((C11/C10)-1)*100 -> 12.209574 | F11: =C11-C7 -> 246000 | G11: =((C11/C7)-1)*100 -> 0.64402964
A12: 2020 | B12: Mar | C12: =C51+C90+C129 -> 34320000 | D12: =C12-C11 -> -4123000 | E12: =((C12/C11)-1)*100 -> -10.724969 | F12: =C12-C8 -> 901000 | G12: =((C12/C8)-1)*100 -> 2.6960711
B13: Jun | C13: =C52+C91+C130 -> 24053000 | D13: =C13-C12 -> -10267000 | E13: =((C13/C12)-1)*100 -> -29.915501 | F13: =C13-C9 -> -10340000 | G13: =((C13/C9)-1)*100 -> -30.064257
B14: Sep | C14: =C53+C92+C131 -> 29808000 | D14: =C14-C13 -> 5755000 | E14: =((C14/C13)-1)*100 -> 23.926329 | F14: =C14-C10 -> -4452000 | G14: =((C14/C10)-1)*100 -> -12.994746
B15: Dec | C15: =C54+C93+C132 -> 33399000 | D15: =C15-C14 -> 3591000 | E15: =((C15/C14)-1)*100 -> 12.047101 | F15: =C15-C11 -> -5044000 | G15: =((C15/C11)-1)*100 -> -13.120724
A16: 2021 | B16: Mar | C16: =C55+C94+C133 -> 31192000 | D16: =C16-C15 -> -2207000 | E16: =((C16/C15)-1)*100 -> -6.6079823 | F16: =C16-C12 -> -3128000 | G16: =((C16/C12)-1)*100 -> -9.1142191
B17: Jun | C17: =C56+C95+C134 -> 33382000 | D17: =C17-C16 -> 2190000 | E17: =((C17/C16)-1)*100 -> 7.021031 | F17: =C17-C13 -> 9329000 | G17: =((C17/C13)-1)*100 -> 38.785183
B18: Sep | C18: =C57+C96+C135 -> 36799000 | D18: =C18-C17 -> 3417000 | E18: =((C18/C17)-1)*100 -> 10.236055 | F18: =C18-C14 -> 6991000 | G18: =((C18/C14)-1)*100 -> 23.453435
B19: Dec | C19: =C58+C97+C136 -> 39644000 | D19: =C19-C18 -> 2845000 | E19: =((C19/C18)-1)*100 -> 7.7311883 | F19: =C19-C15 -> 6245000 | G19: =((C19/C15)-1)*100 -> 18.698165
A20: 2022 | B20: Mar | C20: =C59+C98+C137 -> 36801000 | D20: =C20-C19 -> -2843000 | E20: =((C20/C19)-1)*100 -> -7.1713248 | F20: =C20-C16 -> 5609000 | G20: =((C20/C16)-1)*100 -> 17.982175
B21: Jun | C21: =C60+C99+C138 -> 40262000 | D21: =C21-C20 -> 3461000 | E21: =((C21/C20)-1)*100 -> 9.4046357 | F21: =C21-C17 -> 6880000 | G21: =((C21/C17)-1)*100 -> 20.60991
B22: Sep | C22: =C61+C100+C139 -> 40192000 | D22: =C22-C21 -> -70000 | E22: =((C22/C21)-1)*100 -> -0.17386121 | F22: =C22-C18 -> 3393000 | G22: =((C22/C18)-1)*100 -> 9.2203592
B23: Dec | C23: =C62+C101+C140 -> 46194000 | D23: =C23-C22 -> 6002000 | E23: =((C23/C22)-1)*100 -> 14.93332 | F23: =C23-C19 -> 6550000 | G23: =((C23/C19)-1)*100 -> 16.522046
A24: 2023 | B24: Mar | C24: =C63+C102+C141 -> 40525000 | D24: =C24-C23 -> -5669000 | E24: =((C24/C23)-1)*100 -> -12.272157 | F24: =C24-C20 -> 3724000 | G24: =((C24/C20)-1)*100 -> 10.11929
B25: Jun | C25: =C64+C103+C142 -> 43138000 | D25: =C25-C24 -> 2613000 | E25: =((C25/C24)-1)*100 -> 6.4478717 | F25: =C25-C21 -> 2876000 | G25: =((C25/C21)-1)*100 -> 7.143212
B26: Sep | C26: =C65+C104+C143 -> 42759000 | D26: =C26-C25 -> -379000 | E26: =((C26/C25)-1)*100 -> -0.87857573 | F26: =C26-C22 -> 2567000 | G26: =((C26/C22)-1)*100 -> 6.3868432
B27: Dec | C27: =C66+C105+C144 -> 47579000 | D27: =C27-C26 -> 4820000 | E27: =((C27/C26)-1)*100 -> 11.272481 | F27: =C27-C23 -> 1385000 | G27: =((C27/C23)-1)*100 -> 2.9982249
A28: 2024 | B28: Mar | C28: =C67+C106+C145 -> 41808000 | D28: =C28-C27 -> -5771000 | E28: =((C28/C27)-1)*100 -> -12.129301 | F28: =C28-C24 -> 1283000 | G28: =((C28/C24)-1)*100 -> 3.1659469
B29: Jun | C29: =C68+C107+C146 -> 43273000 | D29: =C29-C28 -> 1465000 | E29: =((C29/C28)-1)*100 -> 3.504114 | F29: =C29-C25 -> 135000 | G29: =((C29/C25)-1)*100 -> 0.31294914
B30: Sep | C30: =C69+C108+C147 -> 44214000 | D30: =C30-C29 -> 941000 | E30: =((C30/C29)-1)*100 -> 2.1745661 | F30: =C30-C26 -> 1455000 | G30: =((C30/C26)-1)*100 -> 3.4027924
B31: Dec | C31: =C70+C109+C148 -> 50619000 | D31: =C31-C30 -> 6405000 | E31: =((C31/C30)-1)*100 -> 14.486362 | F31: =C31-C27 -> 3040000 | G31: =((C31/C27)-1)*100 -> 6.3893735
A32: 2025 | B32: Mar | C32: =C71+C110+C149 -> 43522000 | D32: =C32-C31 -> -7097000 | E32: =((C32/C31)-1)*100 -> -14.020427 | F32: =C32-C28 -> 1714000 | G32: =((C32/C28)-1)*100 -> 4.0996938
B33: Jun | C33: =C72+C111+C150 -> 46031000 | D33: =C33-C32 -> 2509000 | E33: =((C33/C32)-1)*100 -> 5.7649005 | F33: =C33-C29 -> 2758000 | G33: =((C33/C29)-1)*100 -> 6.3734892
B34: Sep | C34: =C73+C112+C151 -> 46102000 | D34: =C34-C33 -> 71000 | E34: =((C34/C33)-1)*100 -> 0.15424388 | F34: =C34-C30 -> 1888000 | G34: =((C34/C30)-1)*100 -> 4.2701407
B35: Dec | C35: =C74+C113+C152 -> 51668000 | D35: =C35-C34 -> 5566000 | E35: =((C35/C34)-1)*100 -> 12.073229 | F35: =C35-C31 -> 1049000 | G35: =((C35/C31)-1)*100 -> 2.0723444
A36: 2026 | B36: Mar* | C36: =C75+C114+C153 -> 43195000 | D36: =C36-C35 -> -8473000 | E36: =((C36/C35)-1)*100 -> -16.398932 | F36: =C36-C32 -> -327000 | G36: =((C36/C32)-1)*100 -> -0.75134415
B37: Jun | C37: =C76+C115+C154 -> 44576000 | D37: =C37-C36 -> 1381000 | E37: =((C37/C36)-1)*100 -> 3.1971293 | F37: =C37-C33 -> -1455000 | G37: =((C37/C33)-1)*100 -> -3.1609133
A42: Year | B42: Quarter | C42: Basic Salary/Wages | D42: Change in basic salary/wages | E42: % change in basic salary/wages | F42: Change in basic salary/wages | G42: % change in basic salary/wages
D43: Quarterly | F43: Annual
A44: 2018 | B44: Jun | C44: 31074000 | D44: - | E44: - | F44: - | G44: -
B45: Sep | C45: 31464000 | D45: =C45-C44 -> 390000 | E45: =((C45/C44)-1)*100 -> 1.2550685 | F45: - | G45: -
B46: Dec | C46: 32252000 | D46: =C46-C45 -> 788000 | E46: =((C46/C45)-1)*100 -> 2.5044495 | F46: - | G46: -
A47: 2019 | B47: Mar | C47: 31185000 | D47: =C47-C46 -> -1067000 | E47: =((C47/C46)-1)*100 -> -3.308322 | F47: - | G47: -
B48: Jun | C48: 32272000 | D48: =C48-C47 -> 1087000 | E48: =((C48/C47)-1)*100 -> 3.4856502 | F48: =C48-C44 -> 1198000 | G48: =((C48/C44)-1)*100 -> 3.8553131
B49: Sep | C49: 32368000 | D49: =C49-C48 -> 96000 | E49: =((C49/C48)-1)*100 -> 0.29747149 | F49: =C49-C45 -> 904000 | G49: =((C49/C45)-1)*100 -> 2.8731248
B50: Dec | C50: 33304000 | D50: =C50-C49 -> 936000 | E50: =((C50/C49)-1)*100 -> 2.8917449 | F50: =C50-C46 -> 1052000 | G50: =((C50/C46)-1)*100 -> 3.2618132
A51: 2020 | B51: Mar | C51: 32400000 | D51: =C51-C50 -> -904000 | E51: =((C51/C50)-1)*100 -> -2.7143887 | F51: =C51-C47 -> 1215000 | G51: =((C51/C47)-1)*100 -> 3.8961039
B52: Jun | C52: 22903000 | D52: =C52-C51 -> -9497000 | E52: =((C52/C51)-1)*100 -> -29.311728 | F52: =C52-C48 -> -9369000 | G52: =((C52/C48)-1)*100 -> -29.031358
B53: Sep | C53: 28252000 | D53: =C53-C52 -> 5349000 | E53: =((C53/C52)-1)*100 -> 23.355019 | F53: =C53-C49 -> -4116000 | G53: =((C53/C49)-1)*100 -> -12.716263
B54: Dec | C54: 29834000 | D54: =C54-C53 -> 1582000 | E54: =((C54/C53)-1)*100 -> 5.5996036 | F54: =C54-C50 -> -3470000 | G54: =((C54/C50)-1)*100 -> -10.419169
A55: 2021 | B55: Mar | C55: 29207000 | D55: =C55-C54 -> -627000 | E55: =((C55/C54)-1)*100 -> -2.101629 | F55: =C55-C51 -> -3193000 | G55: =((C55/C51)-1)*100 -> -9.8549383
B56: Jun | C56: 31286000 | D56: =C56-C55 -> 2079000 | E56: =((C56/C55)-1)*100 -> 7.1181566 | F56: =C56-C52 -> 8383000 | G56: =((C56/C52)-1)*100 -> 36.602192
B57: Sep | C57: 34909000 | D57: =C57-C56 -> 3623000 | E57: =((C57/C56)-1)*100 -> 11.58026 | F57: =C57-C53 -> 6657000 | G57: =((C57/C53)-1)*100 -> 23.562934
B58: Dec | C58: 33976000 | D58: =C58-C57 -> -933000 | E58: =((C58/C57)-1)*100 -> -2.6726632 | F58: =C58-C54 -> 4142000 | G58: =((C58/C54)-1)*100 -> 13.883489
A59: 2022 | B59: Mar | C59: 33963000 | D59: =C59-C58 -> -13000 | E59: =((C59/C58)-1)*100 -> -0.038262303 | F59: =C59-C55 -> 4756000 | G59: =((C59/C55)-1)*100 -> 16.283768
B60: Jun | C60: 37196000 | D60: =C60-C59 -> 3233000 | E60: =((C60/C59)-1)*100 -> 9.5191826 | F60: =C60-C56 -> 5910000 | G60: =((C60/C56)-1)*100 -> 18.890238
B61: Sep | C61: 37700000 | D61: =C61-C60 -> 504000 | E61: =((C61/C60)-1)*100 -> 1.3549844 | F61: =C61-C57 -> 2791000 | G61: =((C61/C57)-1)*100 -> 7.9950729
B62: Dec | C62: 37515000 | D62: =C62-C61 -> -185000 | E62: =((C62/C61)-1)*100 -> -0.49071618 | F62: =C62-C58 -> 3539000 | G62: =((C62/C58)-1)*100 -> 10.416176
A63: 2023 | B63: Mar | C63: 37144000 | D63: =C63-C62 -> -371000 | E63: =((C63/C62)-1)*100 -> -0.98893776 | F63: =C63-C59 -> 3181000 | G63: =((C63/C59)-1)*100 -> 9.3660748
B64: Jun | C64: 39452000 | D64: =C64-C63 -> 2308000 | E64: =((C64/C63)-1)*100 -> 6.213655 | F64: =C64-C60 -> 2256000 | G64: =((C64/C60)-1)*100 -> 6.0651683
B65: Sep | C65: 40041000 | D65: =C65-C64 -> 589000 | E65: =((C65/C64)-1)*100 -> 1.4929535 | F65: =C65-C61 -> 2341000 | G65: =((C65/C61)-1)*100 -> 6.2095491
B66: Dec | C66: 39326000 | D66: =C66-C65 -> -715000 | E66: =((C66/C65)-1)*100 -> -1.7856697 | F66: =C66-C62 -> 1811000 | G66: =((C66/C62)-1)*100 -> 4.8274024
A67: 2024 | B67: Mar | C67: 38344000 | D67: =C67-C66 -> -982000 | E67: =((C67/C66)-1)*100 -> -2.4970757 | F67: =C67-C63 -> 1200000 | G67: =((C67/C63)-1)*100 -> 3.2306698
B68: Jun | C68: 39149000 | D68: =C68-C67 -> 805000 | E68: =((C68/C67)-1)*100 -> 2.0994158 | F68: =C68-C64 -> -303000 | G68: =((C68/C64)-1)*100 -> -0.7680219
B69: Sep | C69: 41206000 | D69: =C69-C68 -> 2057000 | E69: =((C69/C68)-1)*100 -> 5.2542849 | F69: =C69-C65 -> 1165000 | G69: =((C69/C65)-1)*100 -> 2.9095177
B70: Dec | C70: 42020000 | D70: =C70-C69 -> 814000 | E70: =((C70/C69)-1)*100 -> 1.9754405 | F70: =C70-C66 -> 2694000 | G70: =((C70/C66)-1)*100 -> 6.8504297
A71: 2025 | B71: Mar | C71: 40741000 | D71: =C71-C70 -> -1279000 | E71: =((C71/C70)-1)*100 -> -3.0437887 | F71: =C71-C67 -> 2397000 | G71: =((C71/C67)-1)*100 -> 6.251304
B72: Jun | C72: 42058000 | D72: =C72-C71 -> 1317000 | E72: =((C72/C71)-1)*100 -> 3.2326158 | F72: =C72-C68 -> 2909000 | G72: =((C72/C68)-1)*100 -> 7.4305857
B73: Sep | C73: 42883000 | D73: =C73-C72 -> 825000 | E73: =((C73/C72)-1)*100 -> 1.9615769 | F73: =C73-C69 -> 1677000 | G73: =((C73/C69)-1)*100 -> 4.0697957
B74: Dec | C74: 43212000 | D74: =C74-C73 -> 329000 | E74: =((C74/C73)-1)*100 -> 0.76720379 | F74: =C74-C70 -> 1192000 | G74: =((C74/C70)-1)*100 -> 2.8367444
A75: 2026 | B75: Mar* | C75: 39405000 | D75: =C75-C74 -> -3807000 | E75: =((C75/C74)-1)*100 -> -8.8100528 | F75: =C75-C71 -> -1336000 | G75: =((C75/C71)-1)*100 -> -3.2792519
B76: Jun | C76: 40569000 | D76: =C76-C75 -> 1164000 | E76: =((C76/C75)-1)*100 -> 2.9539399 | F76: =C76-C72 -> -1489000 | G76: =((C76/C72)-1)*100 -> -3.540349
A81: Year | B81: Quarter | C81: Bonus payments | D81: =TotalEarnings!D81 -> Change in bonus payments | E81: =TotalEarnings!E81 -> % change in bonus payments | F81: =TotalEarnings!F81 -> Change in bonus payments | G81: =TotalEarnings!G81 -> % change in bonus payments
D82: Quarterly | F82: Annual
A83: 2018 | B83: Jun | C83: 998000 | D83: - | E83: - | F83: - | G83: -
B84: Sep | C84: 587000 | D84: =C84-C83 -> -411000 | E84: =((C84/C83)-1)*100 -> -41.182365 | F84: - | G84: -
B85: Dec | C85: 4590000 | D85: =C85-C84 -> 4003000 | E85: =((C85/C84)-1)*100 -> 681.94208 | F85: - | G85: -
A86: 2019 | B86: Mar | C86: 1025000 | D86: =C86-C85 -> -3565000 | E86: =((C86/C85)-1)*100 -> -77.668845 | F86: - | G86: -
B87: Jun | C87: 796000 | D87: =C87-C86 -> -229000 | E87: =((C87/C86)-1)*100 -> -22.341463 | F87: =C87-C83 -> -202000 | G87: =((C87/C83)-1)*100 -> -20.240481
B88: Sep | C88: 505000 | D88: =C88-C87 -> -291000 | E88: =((C88/C87)-1)*100 -> -36.557789 | F88: =C88-C84 -> -82000 | G88: =((C88/C84)-1)*100 -> -13.969336
B89: Dec | C89: 3813000 | D89: =C89-C88 -> 3308000 | E89: =((C89/C88)-1)*100 -> 655.0495 | F89: =C89-C85 -> -777000 | G89: =((C89/C85)-1)*100 -> -16.928105
A90: 2020 | B90: Mar | C90: 767000 | D90: =C90-C89 -> -3046000 | E90: =((C90/C89)-1)*100 -> -79.884605 | F90: =C90-C86 -> -258000 | G90: =((C90/C86)-1)*100 -> -25.170732
B91: Jun | C91: 444000 | D91: =C91-C90 -> -323000 | E91: =((C91/C90)-1)*100 -> -42.112125 | F91: =C91-C87 -> -352000 | G91: =((C91/C87)-1)*100 -> -44.221106
B92: Sep | C92: 468000 | D92: =C92-C91 -> 24000 | E92: =((C92/C91)-1)*100 -> 5.4054054 | F92: =C92-C88 -> -37000 | G92: =((C92/C88)-1)*100 -> -7.3267327
B93: Dec | C93: 2411000 | D93: =C93-C92 -> 1943000 | E93: =((C93/C92)-1)*100 -> 415.17094 | F93: =C93-C89 -> -1402000 | G93: =((C93/C89)-1)*100 -> -36.768948
A94: 2021 | B94: Mar | C94: 844000 | D94: =C94-C93 -> -1567000 | E94: =((C94/C93)-1)*100 -> -64.993779 | F94: =C94-C90 -> 77000 | G94: =((C94/C90)-1)*100 -> 10.039113
B95: Jun | C95: 793000 | D95: =C95-C94 -> -51000 | E95: =((C95/C94)-1)*100 -> -6.042654 | F95: =C95-C91 -> 349000 | G95: =((C95/C91)-1)*100 -> 78.603604
B96: Sep | C96: 592000 | D96: =C96-C95 -> -201000 | E96: =((C96/C95)-1)*100 -> -25.346784 | F96: =C96-C92 -> 124000 | G96: =((C96/C92)-1)*100 -> 26.495726
B97: Dec | C97: 4207000 | D97: =C97-C96 -> 3615000 | E97: =((C97/C96)-1)*100 -> 610.64189 | F97: =C97-C93 -> 1796000 | G97: =((C97/C93)-1)*100 -> 74.491912
A98: 2022 | B98: Mar | C98: 1554000 | D98: =C98-C97 -> -2653000 | E98: =((C98/C97)-1)*100 -> -63.061564 | F98: =C98-C94 -> 710000 | G98: =((C98/C94)-1)*100 -> 84.123223
B99: Jun | C99: 1168000 | D99: =C99-C98 -> -386000 | E99: =((C99/C98)-1)*100 -> -24.839125 | F99: =C99-C95 -> 375000 | G99: =((C99/C95)-1)*100 -> 47.288777
B100: Sep | C100: 818000 | D100: =C100-C99 -> -350000 | E100: =((C100/C99)-1)*100 -> -29.965753 | F100: =C100-C96 -> 226000 | G100: =((C100/C96)-1)*100 -> 38.175676
B101: Dec | C101: 7023000 | D101: =C101-C100 -> 6205000 | E101: =((C101/C100)-1)*100 -> 758.55746 | F101: =C101-C97 -> 2816000 | G101: =((C101/C97)-1)*100 -> 66.936059
A102: 2023 | B102: Mar | C102: 1852000 | D102: =C102-C101 -> -5171000 | E102: =((C102/C101)-1)*100 -> -73.629503 | F102: =C102-C98 -> 298000 | G102: =((C102/C98)-1)*100 -> 19.176319
B103: Jun | C103: 1956000 | D103: =C103-C102 -> 104000 | E103: =((C103/C102)-1)*100 -> 5.6155508 | F103: =C103-C99 -> 788000 | G103: =((C103/C99)-1)*100 -> 67.465753
B104: Sep | C104: 1016000 | D104: =C104-C103 -> -940000 | E104: =((C104/C103)-1)*100 -> -48.05726 | F104: =C104-C100 -> 198000 | G104: =((C104/C100)-1)*100 -> 24.205379
B105: Dec | C105: 6481000 | D105: =C105-C104 -> 5465000 | E105: =((C105/C104)-1)*100 -> 537.8937 | F105: =C105-C101 -> -542000 | G105: =((C105/C101)-1)*100 -> -7.7174996
A106: 2024 | B106: Mar | C106: 1860000 | D106: =C106-C105 -> -4621000 | E106: =((C106/C105)-1)*100 -> -71.300725 | F106: =C106-C102 -> 8000 | G106: =((C106/C102)-1)*100 -> 0.43196544
B107: Jun | C107: 2328000 | D107: =C107-C106 -> 468000 | E107: =((C107/C106)-1)*100 -> 25.16129 | F107: =C107-C103 -> 372000 | G107: =((C107/C103)-1)*100 -> 19.018405
B108: Sep | C108: 1088000 | D108: =C108-C107 -> -1240000 | E108: =((C108/C107)-1)*100 -> -53.264605 | F108: =C108-C104 -> 72000 | G108: =((C108/C104)-1)*100 -> 7.0866142
B109: Dec | C109: 6607000 | D109: =C109-C108 -> 5519000 | E109: =((C109/C108)-1)*100 -> 507.26103 | F109: =C109-C105 -> 126000 | G109: =((C109/C105)-1)*100 -> 1.9441444
...

Sheet 6-Trade
A1: Table 6 - Trade (thousand)
A3: Year | B3: Quarter | C3: Total gross earnings | D3: Change in gross earnings | E3: % change in gross earnings | F3: Change in gross earnings | G3: % change in gross earnings
D4: Quarterly | F4: Annual
A5: 2018 | B5: Jun | C5: =C44+C83+C122 -> 94840000 | D5: - | E5: - | F5: - | G5: -
B6: Sep | C6: =C45+C84+C123 -> 96514000 | D6: =C6-C5 -> 1674000 | E6: =((C6/C5)-1)*100 -> 1.765078 | F6: - | G6: -
B7: Dec | C7: =C46+C85+C124 -> 107521000 | D7: =C7-C6 -> 11007000 | E7: =((C7/C6)-1)*100 -> 11.404563 | F7: - | G7: -
A8: 2019 | B8: Mar | C8: =C47+C86+C125 -> 99934000 | D8: =C8-C7 -> -7587000 | E8: =((C8/C7)-1)*100 -> -7.056296 | F8: - | G8: -
B9: Jun | C9: =C48+C87+C126 -> 102090000 | D9: =C9-C8 -> 2156000 | E9: =((C9/C8)-1)*100 -> 2.1574239 | F9: =C9-C5 -> 7250000 | G9: =((C9/C5)-1)*100 -> 7.6444538
B10: Sep | C10: =C49+C88+C127 -> 103750000 | D10: =C10-C9 -> 1660000 | E10: =((C10/C9)-1)*100 -> 1.6260163 | F10: =C10-C6 -> 7236000 | G10: =((C10/C6)-1)*100 -> 7.4973579
B11: Dec | C11: =C50+C89+C128 -> 113814000 | D11: =C11-C10 -> 10064000 | E11: =((C11/C10)-1)*100 -> 9.700241 | F11: =C11-C7 -> 6293000 | G11: =((C11/C7)-1)*100 -> 5.8528101
A12: 2020 | B12: Mar | C12: =C51+C90+C129 -> 105915000 | D12: =C12-C11 -> -7899000 | E12: =((C12/C11)-1)*100 -> -6.940271 | F12: =C12-C8 -> 5981000 | G12: =((C12/C8)-1)*100 -> 5.9849501
B13: Jun | C13: =C52+C91+C130 -> 86049000 | D13: =C13-C12 -> -19866000 | E13: =((C13/C12)-1)*100 -> -18.75655 | F13: =C13-C9 -> -16041000 | G13: =((C13/C9)-1)*100 -> -15.712607
B14: Sep | C14: =C53+C92+C131 -> 95128000 | D14: =C14-C13 -> 9079000 | E14: =((C14/C13)-1)*100 -> 10.550965 | F14: =C14-C10 -> -8622000 | G14: =((C14/C10)-1)*100 -> -8.3103614
B15: Dec | C15: =C54+C93+C132 -> 108352000 | D15: =C15-C14 -> 13224000 | E15: =((C15/C14)-1)*100 -> 13.90127 | F15: =C15-C11 -> -5462000 | G15: =((C15/C11)-1)*100 -> -4.7990581
A16: 2021 | B16: Mar | C16: =C55+C94+C133 -> 103859000 | D16: =C16-C15 -> -4493000 | E16: =((C16/C15)-1)*100 -> -4.1466701 | F16: =C16-C12 -> -2056000 | G16: =((C16/C12)-1)*100 -> -1.9411792
B17: Jun | C17: =C56+C95+C134 -> 107174000 | D17: =C17-C16 -> 3315000 | E17: =((C17/C16)-1)*100 -> 3.1918274 | F17: =C17-C13 -> 21125000 | G17: =((C17/C13)-1)*100 -> 24.549966
B18: Sep | C18: =C57+C96+C135 -> 108452000 | D18: =C18-C17 -> 1278000 | E18: =((C18/C17)-1)*100 -> 1.1924534 | F18: =C18-C14 -> 13324000 | G18: =((C18/C14)-1)*100 -> 14.006391
B19: Dec | C19: =C58+C97+C136 -> 122843000 | D19: =C19-C18 -> 14391000 | E19: =((C19/C18)-1)*100 -> 13.269465 | F19: =C19-C15 -> 14491000 | G19: =((C19/C15)-1)*100 -> 13.374003
A20: 2022 | B20: Mar | C20: =C59+C98+C137 -> 119151000 | D20: =C20-C19 -> -3692000 | E20: =((C20/C19)-1)*100 -> -3.0054623 | F20: =C20-C16 -> 15292000 | G20: =((C20/C16)-1)*100 -> 14.723808
B21: Jun | C21: =C60+C99+C138 -> 122484000 | D21: =C21-C20 -> 3333000 | E21: =((C21/C20)-1)*100 -> 2.7972908 | F21: =C21-C17 -> 15310000 | G21: =((C21/C17)-1)*100 -> 14.285181
B22: Sep | C22: =C61+C100+C139 -> 124803000 | D22: =C22-C21 -> 2319000 | E22: =((C22/C21)-1)*100 -> 1.8933085 | F22: =C22-C18 -> 16351000 | G22: =((C22/C18)-1)*100 -> 15.076716
B23: Dec | C23: =C62+C101+C140 -> 141778000 | D23: =C23-C22 -> 16975000 | E23: =((C23/C22)-1)*100 -> 13.601436 | F23: =C23-C19 -> 18935000 | G23: =((C23/C19)-1)*100 -> 15.413984
A24: 2023 | B24: Mar | C24: =C63+C102+C141 -> 126038000 | D24: =C24-C23 -> -15740000 | E24: =((C24/C23)-1)*100 -> -11.101863 | F24: =C24-C20 -> 6887000 | G24: =((C24/C20)-1)*100 -> 5.7800606
B25: Jun | C25: =C64+C103+C142 -> 130466000 | D25: =C25-C24 -> 4428000 | E25: =((C25/C24)-1)*100 -> 3.5132262 | F25: =C25-C21 -> 7982000 | G25: =((C25/C21)-1)*100 -> 6.5167695
B26: Sep | C26: =C65+C104+C143 -> 127565000 | D26: =C26-C25 -> -2901000 | E26: =((C26/C25)-1)*100 -> -2.2235678 | F26: =C26-C22 -> 2762000 | G26: =((C26/C22)-1)*100 -> 2.2130878
B27: Dec | C27: =C66+C105+C144 -> 142985000 | D27: =C27-C26 -> 15420000 | E27: =((C27/C26)-1)*100 -> 12.087955 | F27: =C27-C23 -> 1207000 | G27: =((C27/C23)-1)*100 -> 0.85133095
A28: 2024 | B28: Mar | C28: =C67+C106+C145 -> 131167000 | D28: =C28-C27 -> -11818000 | E28: =((C28/C27)-1)*100 -> -8.2652026 | F28: =C28-C24 -> 5129000 | G28: =((C28/C24)-1)*100 -> 4.0694076
B29: Jun | C29: =C68+C107+C146 -> 135465000 | D29: =C29-C28 -> 4298000 | E29: =((C29/C28)-1)*100 -> 3.2767388 | F29: =C29-C25 -> 4999000 | G29: =((C29/C25)-1)*100 -> 3.8316496
B30: Sep | C30: =C69+C108+C147 -> 134555000 | D30: =C30-C29 -> -910000 | E30: =((C30/C29)-1)*100 -> -0.67176023 | F30: =C30-C26 -> 6990000 | G30: =((C30/C26)-1)*100 -> 5.4795594
B31: Dec | C31: =C70+C109+C148 -> 148480000 | D31: =C31-C30 -> 13925000 | E31: =((C31/C30)-1)*100 -> 10.348928 | F31: =C31-C27 -> 5495000 | G31: =((C31/C27)-1)*100 -> 3.8430605
A32: 2025 | B32: Mar | C32: =C71+C110+C149 -> 137542000 | D32: =C32-C31 -> -10938000 | E32: =((C32/C31)-1)*100 -> -7.3666487 | F32: =C32-C28 -> 6375000 | G32: =((C32/C28)-1)*100 -> 4.8602164
B33: Jun | C33: =C72+C111+C150 -> 140863000 | D33: =C33-C32 -> 3321000 | E33: =((C33/C32)-1)*100 -> 2.4145352 | F33: =C33-C29 -> 5398000 | G33: =((C33/C29)-1)*100 -> 3.9847931
B34: Sep | C34: =C73+C112+C151 -> 140792000 | D34: =C34-C33 -> -71000 | E34: =((C34/C33)-1)*100 -> -0.050403584 | F34: =C34-C30 -> 6237000 | G34: =((C34/C30)-1)*100 -> 4.6352793
B35: Dec | C35: =C74+C113+C152 -> 155401000 | D35: =C35-C34 -> 14609000 | E35: =((C35/C34)-1)*100 -> 10.3763 | F35: =C35-C31 -> 6921000 | G35: =((C35/C31)-1)*100 -> 4.6612338
A36: 2026 | B36: Mar* | C36: =C75+C114+C153 -> 145360000 | D36: =C36-C35 -> -10041000 | E36: =((C36/C35)-1)*100 -> -6.4613484 | F36: =C36-C32 -> 7818000 | G36: =((C36/C32)-1)*100 -> 5.684082
B37: Jun | C37: =C76+C115+C154 -> 147096000 | D37: =C37-C36 -> 1736000 | E37: =((C37/C36)-1)*100 -> 1.1942763 | F37: =C37-C33 -> 6233000 | G37: =((C37/C33)-1)*100 -> 4.4248667
A42: Year | B42: Quarter | C42: Basic Salary/Wages | D42: Change in basic salary/wages | E42: % change in basic salary/wages | F42: Change in basic salary/wages | G42: % change in basic salary/wages
D43: Quarterly | F43: Annual
A44: 2018 | B44: Jun | C44: 87875000 | D44: - | E44: - | F44: - | G44: -
B45: Sep | C45: 89680000 | D45: =C45-C44 -> 1805000 | E45: =((C45/C44)-1)*100 -> 2.0540541 | F45: - | G45: -
B46: Dec | C46: 92064000 | D46: =C46-C45 -> 2384000 | E46: =((C46/C45)-1)*100 -> 2.6583408 | F46: - | G46: -
A47: 2019 | B47: Mar | C47: 92236000 | D47: =C47-C46 -> 172000 | E47: =((C47/C46)-1)*100 -> 0.18682656 | F47: - | G47: -
B48: Jun | C48: 94467000 | D48: =C48-C47 -> 2231000 | E48: =((C48/C47)-1)*100 -> 2.4187953 | F48: =C48-C44 -> 6592000 | G48: =((C48/C44)-1)*100 -> 7.5015647
B49: Sep | C49: 96212000 | D49: =C49-C48 -> 1745000 | E49: =((C49/C48)-1)*100 -> 1.8472059 | F49: =C49-C45 -> 6532000 | G49: =((C49/C45)-1)*100 -> 7.2836753
B50: Dec | C50: 98337000 | D50: =C50-C49 -> 2125000 | E50: =((C50/C49)-1)*100 -> 2.2086642 | F50: =C50-C46 -> 6273000 | G50: =((C50/C46)-1)*100 -> 6.8137383
A51: 2020 | B51: Mar | C51: 98155000 | D51: =C51-C50 -> -182000 | E51: =((C51/C50)-1)*100 -> -0.18507784 | F51: =C51-C47 -> 5919000 | G51: =((C51/C47)-1)*100 -> 6.4172341
B52: Jun | C52: 80381000 | D52: =C52-C51 -> -17774000 | E52: =((C52/C51)-1)*100 -> -18.108094 | F52: =C52-C48 -> -14086000 | G52: =((C52/C48)-1)*100 -> -14.911027
B53: Sep | C53: 88728000 | D53: =C53-C52 -> 8347000 | E53: =((C53/C52)-1)*100 -> 10.384295 | F53: =C53-C49 -> -7484000 | G53: =((C53/C49)-1)*100 -> -7.7786555
B54: Dec | C54: 93579000 | D54: =C54-C53 -> 4851000 | E54: =((C54/C53)-1)*100 -> 5.4672708 | F54: =C54-C50 -> -4758000 | G54: =((C54/C50)-1)*100 -> -4.8384637
A55: 2021 | B55: Mar | C55: 94735000 | D55: =C55-C54 -> 1156000 | E55: =((C55/C54)-1)*100 -> 1.2353199 | F55: =C55-C51 -> -3420000 | G55: =((C55/C51)-1)*100 -> -3.4842851
B56: Jun | C56: 98140000 | D56: =C56-C55 -> 3405000 | E56: =((C56/C55)-1)*100 -> 3.5942366 | F56: =C56-C52 -> 17759000 | G56: =((C56/C52)-1)*100 -> 22.09353
B57: Sep | C57: 98837000 | D57: =C57-C56 -> 697000 | E57: =((C57/C56)-1)*100 -> 0.7102099 | F57: =C57-C53 -> 10109000 | G57: =((C57/C53)-1)*100 -> 11.393247
B58: Dec | C58: 104142000 | D58: =C58-C57 -> 5305000 | E58: =((C58/C57)-1)*100 -> 5.3674231 | F58: =C58-C54 -> 10563000 | G58: =((C58/C54)-1)*100 -> 11.287789
A59: 2022 | B59: Mar | C59: 106431000 | D59: =C59-C58 -> 2289000 | E59: =((C59/C58)-1)*100 -> 2.1979605 | F59: =C59-C55 -> 11696000 | G59: =((C59/C55)-1)*100 -> 12.346018
B60: Jun | C60: 109967000 | D60: =C60-C59 -> 3536000 | E60: =((C60/C59)-1)*100 -> 3.3223403 | F60: =C60-C56 -> 11827000 | G60: =((C60/C56)-1)*100 -> 12.051151
B61: Sep | C61: 113855000 | D61: =C61-C60 -> 3888000 | E61: =((C61/C60)-1)*100 -> 3.5356061 | F61: =C61-C57 -> 15018000 | G61: =((C61/C57)-1)*100 -> 15.194715
B62: Dec | C62: 118551000 | D62: =C62-C61 -> 4696000 | E62: =((C62/C61)-1)*100 -> 4.1245444 | F62: =C62-C58 -> 14409000 | G62: =((C62/C58)-1)*100 -> 13.835916
A63: 2023 | B63: Mar | C63: 112457000 | D63: =C63-C62 -> -6094000 | E63: =((C63/C62)-1)*100 -> -5.1404037 | F63: =C63-C59 -> 6026000 | G63: =((C63/C59)-1)*100 -> 5.6618842
B64: Jun | C64: 116153000 | D64: =C64-C63 -> 3696000 | E64: =((C64/C63)-1)*100 -> 3.2865895 | F64: =C64-C60 -> 6186000 | G64: =((C64/C60)-1)*100 -> 5.625324
B65: Sep | C65: 117240000 | D65: =C65-C64 -> 1087000 | E65: =((C65/C64)-1)*100 -> 0.93583463 | F65: =C65-C61 -> 3385000 | G65: =((C65/C61)-1)*100 -> 2.9730798
B66: Dec | C66: 121345000 | D66: =C66-C65 -> 4105000 | E66: =((C66/C65)-1)*100 -> 3.5013647 | F66: =C66-C62 -> 2794000 | G66: =((C66/C62)-1)*100 -> 2.3567916
A67: 2024 | B67: Mar | C67: 118875000 | D67: =C67-C66 -> -2470000 | E67: =((C67/C66)-1)*100 -> -2.0355186 | F67: =C67-C63 -> 6418000 | G67: =((C67/C63)-1)*100 -> 5.7070703
B68: Jun | C68: 121687000 | D68: =C68-C67 -> 2812000 | E68: =((C68/C67)-1)*100 -> 2.36551 | F68: =C68-C64 -> 5534000 | G68: =((C68/C64)-1)*100 -> 4.7644056
B69: Sep | C69: 123784000 | D69: =C69-C68 -> 2097000 | E69: =((C69/C68)-1)*100 -> 1.7232736 | F69: =C69-C65 -> 6544000 | G69: =((C69/C65)-1)*100 -> 5.5817127
B70: Dec | C70: 126548000 | D70: =C70-C69 -> 2764000 | E70: =((C70/C69)-1)*100 -> 2.2329219 | F70: =C70-C66 -> 5203000 | G70: =((C70/C66)-1)*100 -> 4.2877745
A71: 2025 | B71: Mar | C71: 124217000 | D71: =C71-C70 -> -2331000 | E71: =((C71/C70)-1)*100 -> -1.8419888 | F71: =C71-C67 -> 5342000 | G71: =((C71/C67)-1)*100 -> 4.493796
B72: Jun | C72: 128025000 | D72: =C72-C71 -> 3808000 | E72: =((C72/C71)-1)*100 -> 3.0656029 | F72: =C72-C68 -> 6338000 | G72: =((C72/C68)-1)*100 -> 5.2084446
B73: Sep | C73: 130038000 | D73: =C73-C72 -> 2013000 | E73: =((C73/C72)-1)*100 -> 1.5723492 | F73: =C73-C69 -> 6254000 | G73: =((C73/C69)-1)*100 -> 5.0523493
B74: Dec | C74: 132268000 | D74: =C74-C73 -> 2230000 | E74: =((C74/C73)-1)*100 -> 1.7148833 | F74: =C74-C70 -> 5720000 | G74: =((C74/C70)-1)*100 -> 4.520024
A75: 2026 | B75: Mar* | C75: 131824000 | D75: =C75-C74 -> -444000 | E75: =((C75/C74)-1)*100 -> -0.3356821 | F75: =C75-C71 -> 7607000 | G75: =((C75/C71)-1)*100 -> 6.1239605
B76: Jun | C76: 132718000 | D76: =C76-C75 -> 894000 | E76: =((C76/C75)-1)*100 -> 0.67817696 | F76: =C76-C72 -> 4693000 | G76: =((C76/C72)-1)*100 -> 3.6656903
A81: Year | B81: Quarter | C81: Bonus payments | D81: =TotalEarnings!D81 -> Change in bonus payments | E81: =TotalEarnings!E81 -> % change in bonus payments | F81: =TotalEarnings!F81 -> Change in bonus payments | G81: =TotalEarnings!G81 -> % change in bonus payments
D82: Quarterly | F82: Annual
A83: 2018 | B83: Jun | C83: 4540000 | D83: - | E83: - | F83: - | G83: -
B84: Sep | C84: 4516000 | D84: =C84-C83 -> -24000 | E84: =((C84/C83)-1)*100 -> -0.52863436 | F84: - | G84: -
B85: Dec | C85: 12916000 | D85: =C85-C84 -> 8400000 | E85: =((C85/C84)-1)*100 -> 186.00531 | F85: - | G85: -
A86: 2019 | B86: Mar | C86: 5274000 | D86: =C86-C85 -> -7642000 | E86: =((C86/C85)-1)*100 -> -59.166925 | F86: - | G86: -
B87: Jun | C87: 4858000 | D87: =C87-C86 -> -416000 | E87: =((C87/C86)-1)*100 -> -7.8877512 | F87: =C87-C83 -> 318000 | G87: =((C87/C83)-1)*100 -> 7.0044053
B88: Sep | C88: 5026000 | D88: =C88-C87 -> 168000 | E88: =((C88/C87)-1)*100 -> 3.4582133 | F88: =C88-C84 -> 510000 | G88: =((C88/C84)-1)*100 -> 11.29318
B89: Dec | C89: 12867000 | D89: =C89-C88 -> 7841000 | E89: =((C89/C88)-1)*100 -> 156.00875 | F89: =C89-C85 -> -49000 | G89: =((C89/C85)-1)*100 -> -0.37937442
A90: 2020 | B90: Mar | C90: 5093000 | D90: =C90-C89 -> -7774000 | E90: =((C90/C89)-1)*100 -> -60.418124 | F90: =C90-C86 -> -181000 | G90: =((C90/C86)-1)*100 -> -3.4319302
B91: Jun | C91: 3914000 | D91: =C91-C90 -> -1179000 | E91: =((C91/C90)-1)*100 -> -23.149421 | F91: =C91-C87 -> -944000 | G91: =((C91/C87)-1)*100 -> -19.431865
B92: Sep | C92: 4458000 | D92: =C92-C91 -> 544000 | E92: =((C92/C91)-1)*100 -> 13.898825 | F92: =C92-C88 -> -568000 | G92: =((C92/C88)-1)*100 -> -11.301234
B93: Dec | C93: 12425000 | D93: =C93-C92 -> 7967000 | E93: =((C93/C92)-1)*100 -> 178.71243 | F93: =C93-C89 -> -442000 | G93: =((C93/C89)-1)*100 -> -3.4351442
A94: 2021 | B94: Mar | C94: 6813000 | D94: =C94-C93 -> -5612000 | E94: =((C94/C93)-1)*100 -> -45.167002 | F94: =C94-C90 -> 1720000 | G94: =((C94/C90)-1)*100 -> 33.771844
B95: Jun | C95: 6426000 | D95: =C95-C94 -> -387000 | E95: =((C95/C94)-1)*100 -> -5.680317 | F95: =C95-C91 -> 2512000 | G95: =((C95/C91)-1)*100 -> 64.179867
B96: Sep | C96: 7246000 | D96: =C96-C95 -> 820000 | E96: =((C96/C95)-1)*100 -> 12.76066 | F96: =C96-C92 -> 2788000 | G96: =((C96/C92)-1)*100 -> 62.539255
B97: Dec | C97: 15962000 | D97: =C97-C96 -> 8716000 | E97: =((C97/C96)-1)*100 -> 120.28705 | F97: =C97-C93 -> 3537000 | G97: =((C97/C93)-1)*100 -> 28.466801
A98: 2022 | B98: Mar | C98: 9835000 | D98: =C98-C97 -> -6127000 | E98: =((C98/C97)-1)*100 -> -38.384914 | F98: =C98-C94 -> 3022000 | G98: =((C98/C94)-1)*100 -> 44.356378
B99: Jun | C99: 9439000 | D99: =C99-C98 -> -396000 | E99: =((C99/C98)-1)*100 -> -4.0264362 | F99: =C99-C95 -> 3013000 | G99: =((C99/C95)-1)*100 -> 46.887644
B100: Sep | C100: 8172000 | D100: =C100-C99 -> -1267000 | E100: =((C100/C99)-1)*100 -> -13.423032 | F100: =C100-C96 -> 926000 | G100: =((C100/C96)-1)*100 -> 12.779465
B101: Dec | C101: 19628000 | D101: =C101-C100 -> 11456000 | E101: =((C101/C100)-1)*100 -> 140.186 | F101: =C101-C97 -> 3666000 | G101: =((C101/C97)-1)*100 -> 22.967047
A102: 2023 | B102: Mar | C102: 10252000 | D102: =C102-C101 -> -9376000 | E102: =((C102/C101)-1)*100 -> -47.768494 | F102: =C102-C98 -> 417000 | G102: =((C102/C98)-1)*100 -> 4.2399593
B103: Jun | C103: 10780000 | D103: =C103-C102 -> 528000 | E103: =((C103/C102)-1)*100 -> 5.1502146 | F103: =C103-C99 -> 1341000 | G103: =((C103/C99)-1)*100 -> 14.207013
B104: Sep | C104: 7159000 | D104: =C104-C103 -> -3621000 | E104: =((C104/C103)-1)*100 -> -33.589981 | F104: =C104-C100 -> -1013000 | G104: =((C104/C100)-1)*100 -> -12.395986
B105: Dec | C105: 18257000 | D105: =C105-C104 -> 11098000 | E105: =((C105/C104)-1)*100 -> 155.02165 | F105: =C105-C101 -> -1371000 | G105: =((C105/C101)-1)*100 -> -6.9849195
A106: 2024 | B106: Mar | C106: 8730000 | D106: =C106-C105 -> -9527000 | E106: =((C106/C105)-1)*100 -> -52.182724 | F106: =C106-C102 -> -1522000 | G106: =((C106/C102)-1)*100 -> -14.845884
B107: Jun | C107: 10058000 | D107: =C107-C106 -> 1328000 | E107: =((C107/C106)-1)*100 -> 15.211913 | F107: =C107-C103 -> -722000 | G107: =((C107/C103)-1)*100 -> -6.6975881
B108: Sep | C108: 7409000 | D108: =C108-C107 -> -2649000 | E108: =((C108/C107)-1)*100 -> -26.337244 | F108: =C108-C104 -> 250000 | G108: =((C108/C104)-1)*100 -> 3.4921078
B109: Dec | C109: 18508000 | D109: =C109-C108 -> 11099000 | E109: =((C109/C108)-1)*100 -> 149.80429 | F109: =C109-C105 -> 251000 | G109: =((C109/C105)-1)*100 -> 1.3748151
...

Sheet 7-Transport
A1: Table 7 - Transport (thousand)
A3: Year | B3: Quarter | C3: Total gross earnings | D3: Change in gross earnings | E3: % change in gross earnings | F3: Change in gross earnings | G3: % change in gross earnings
D4: Quarterly | F4: Annual
A5: 2018 | B5: Jun | C5: =C44+C83+C122 -> 37871000 | D5: - | E5: - | F5: - | G5: -
B6: Sep | C6: =C45+C84+C123 -> 38571000 | D6: =C6-C5 -> 700000 | E6: =((C6/C5)-1)*100 -> 1.84838 | F6: - | G6: -
B7: Dec | C7: =C46+C85+C124 -> 41629000 | D7: =C7-C6 -> 3058000 | E7: =((C7/C6)-1)*100 -> 7.9282362 | F7: - | G7: -
A8: 2019 | B8: Mar | C8: =C47+C86+C125 -> 38627000 | D8: =C8-C7 -> -3002000 | E8: =((C8/C7)-1)*100 -> -7.211319 | F8: - | G8: -
B9: Jun | C9: =C48+C87+C126 -> 41961000 | D9: =C9-C8 -> 3334000 | E9: =((C9/C8)-1)*100 -> 8.6312683 | F9: =C9-C5 -> 4090000 | G9: =((C9/C5)-1)*100 -> 10.79982
B10: Sep | C10: =C49+C88+C127 -> 39650000 | D10: =C10-C9 -> -2311000 | E10: =((C10/C9)-1)*100 -> -5.5074951 | F10: =C10-C6 -> 1079000 | G10: =((C10/C6)-1)*100 -> 2.7974385
B11: Dec | C11: =C50+C89+C128 -> 43703000 | D11: =C11-C10 -> 4053000 | E11: =((C11/C10)-1)*100 -> 10.221942 | F11: =C11-C7 -> 2074000 | G11: =((C11/C7)-1)*100 -> 4.9821038
A12: 2020 | B12: Mar | C12: =C51+C90+C129 -> 38241000 | D12: =C12-C11 -> -5462000 | E12: =((C12/C11)-1)*100 -> -12.497998 | F12: =C12-C8 -> -386000 | G12: =((C12/C8)-1)*100 -> -0.99930101
B13: Jun | C13: =C52+C91+C130 -> 35272000 | D13: =C13-C12 -> -2969000 | E13: =((C13/C12)-1)*100 -> -7.7639183 | F13: =C13-C9 -> -6689000 | G13: =((C13/C9)-1)*100 -> -15.940993
B14: Sep | C14: =C53+C92+C131 -> 33427000 | D14: =C14-C13 -> -1845000 | E14: =((C14/C13)-1)*100 -> -5.230778 | F14: =C14-C10 -> -6223000 | G14: =((C14/C10)-1)*100 -> -15.69483
B15: Dec | C15: =C54+C93+C132 -> 36854000 | D15: =C15-C14 -> 3427000 | E15: =((C15/C14)-1)*100 -> 10.252191 | F15: =C15-C11 -> -6849000 | G15: =((C15/C11)-1)*100 -> -15.671693
A16: 2021 | B16: Mar | C16: =C55+C94+C133 -> 33546000 | D16: =C16-C15 -> -3308000 | E16: =((C16/C15)-1)*100 -> -8.9759592 | F16: =C16-C12 -> -4695000 | G16: =((C16/C12)-1)*100 -> -12.277399
B17: Jun | C17: =C56+C95+C134 -> 38661000 | D17: =C17-C16 -> 5115000 | E17: =((C17/C16)-1)*100 -> 15.24772 | F17: =C17-C13 -> 3389000 | G17: =((C17/C13)-1)*100 -> 9.6081878
B18: Sep | C18: =C57+C96+C135 -> 36747000 | D18: =C18-C17 -> -1914000 | E18: =((C18/C17)-1)*100 -> -4.9507255 | F18: =C18-C14 -> 3320000 | G18: =((C18/C14)-1)*100 -> 9.9320908
B19: Dec | C19: =C58+C97+C136 -> 41657000 | D19: =C19-C18 -> 4910000 | E19: =((C19/C18)-1)*100 -> 13.361635 | F19: =C19-C15 -> 4803000 | G19: =((C19/C15)-1)*100 -> 13.032507
A20: 2022 | B20: Mar | C20: =C59+C98+C137 -> 37686000 | D20: =C20-C19 -> -3971000 | E20: =((C20/C19)-1)*100 -> -9.5326116 | F20: =C20-C16 -> 4140000 | G20: =((C20/C16)-1)*100 -> 12.341263
B21: Jun | C21: =C60+C99+C138 -> 41135000 | D21: =C21-C20 -> 3449000 | E21: =((C21/C20)-1)*100 -> 9.1519397 | F21: =C21-C17 -> 2474000 | G21: =((C21/C17)-1)*100 -> 6.3992137
B22: Sep | C22: =C61+C100+C139 -> 40130000 | D22: =C22-C21 -> -1005000 | E22: =((C22/C21)-1)*100 -> -2.4431749 | F22: =C22-C18 -> 3383000 | G22: =((C22/C18)-1)*100 -> 9.2061937
B23: Dec | C23: =C62+C101+C140 -> 44679000 | D23: =C23-C22 -> 4549000 | E23: =((C23/C22)-1)*100 -> 11.335659 | F23: =C23-C19 -> 3022000 | G23: =((C23/C19)-1)*100 -> 7.254483
A24: 2023 | B24: Mar | C24: =C63+C102+C141 -> 43258000 | D24: =C24-C23 -> -1421000 | E24: =((C24/C23)-1)*100 -> -3.1804651 | F24: =C24-C20 -> 5572000 | G24: =((C24/C20)-1)*100 -> 14.785331
B25: Jun | C25: =C64+C103+C142 -> 45578000 | D25: =C25-C24 -> 2320000 | E25: =((C25/C24)-1)*100 -> 5.3631698 | F25: =C25-C21 -> 4443000 | G25: =((C25/C21)-1)*100 -> 10.801021
B26: Sep | C26: =C65+C104+C143 -> 45660000 | D26: =C26-C25 -> 82000 | E26: =((C26/C25)-1)*100 -> 0.17991136 | F26: =C26-C22 -> 5530000 | G26: =((C26/C22)-1)*100 -> 13.780214
B27: Dec | C27: =C66+C105+C144 -> 50519000 | D27: =C27-C26 -> 4859000 | E27: =((C27/C26)-1)*100 -> 10.6417 | F27: =C27-C23 -> 5840000 | G27: =((C27/C23)-1)*100 -> 13.071018
A28: 2024 | B28: Mar | C28: =C67+C106+C145 -> 47109000 | D28: =C28-C27 -> -3410000 | E28: =((C28/C27)-1)*100 -> -6.7499357 | F28: =C28-C24 -> 3851000 | G28: =((C28/C24)-1)*100 -> 8.9023996
B29: Jun | C29: =C68+C107+C146 -> 48528000 | D29: =C29-C28 -> 1419000 | E29: =((C29/C28)-1)*100 -> 3.0121633 | F29: =C29-C25 -> 2950000 | G29: =((C29/C25)-1)*100 -> 6.4724209
B30: Sep | C30: =C69+C108+C147 -> 47799000 | D30: =C30-C29 -> -729000 | E30: =((C30/C29)-1)*100 -> -1.5022255 | F30: =C30-C26 -> 2139000 | G30: =((C30/C26)-1)*100 -> 4.6846255
B31: Dec | C31: =C70+C109+C148 -> 52355000 | D31: =C31-C30 -> 4556000 | E31: =((C31/C30)-1)*100 -> 9.5315802 | F31: =C31-C27 -> 1836000 | G31: =((C31/C27)-1)*100 -> 3.6342762
A32: 2025 | B32: Mar | C32: =C71+C110+C149 -> 48057000 | D32: =C32-C31 -> -4298000 | E32: =((C32/C31)-1)*100 -> -8.2093401 | F32: =C32-C28 -> 948000 | G32: =((C32/C28)-1)*100 -> 2.0123543
B33: Jun | C33: =C72+C111+C150 -> 49758000 | D33: =C33-C32 -> 1701000 | E33: =((C33/C32)-1)*100 -> 3.5395468 | F33: =C33-C29 -> 1230000 | G33: =((C33/C29)-1)*100 -> 2.5346192
B34: Sep | C34: =C73+C112+C151 -> 48992000 | D34: =C34-C33 -> -766000 | E34: =((C34/C33)-1)*100 -> -1.5394509 | F34: =C34-C30 -> 1193000 | G34: =((C34/C30)-1)*100 -> 2.4958681
B35: Dec | C35: =C74+C113+C152 -> 53453000 | D35: =C35-C34 -> 4461000 | E35: =((C35/C34)-1)*100 -> 9.1055683 | F35: =C35-C31 -> 1098000 | G35: =((C35/C31)-1)*100 -> 2.0972209
A36: 2026 | B36: Mar* | C36: =C75+C114+C153 -> 51966000 | D36: =C36-C35 -> -1487000 | E36: =((C36/C35)-1)*100 -> -2.7818831 | F36: =C36-C32 -> 3909000 | G36: =((C36/C32)-1)*100 -> 8.1340908
B37: Jun | C37: =C76+C115+C154 -> 51493000 | D37: =C37-C36 -> -473000 | E37: =((C37/C36)-1)*100 -> -0.91021052 | F37: =C37-C33 -> 1735000 | G37: =((C37/C33)-1)*100 -> 3.4868765
A42: Year | B42: Quarter | C42: Basic Salary/Wages | D42: Change in basic salary/wages | E42: % change in basic salary/wages | F42: Change in basic salary/wages | G42: % change in basic salary/wages
D43: Quarterly | F43: Annual
A44: 2018 | B44: Jun | C44: 32903000 | D44: - | E44: - | F44: - | G44: -
B45: Sep | C45: 33833000 | D45: =C45-C44 -> 930000 | E45: =((C45/C44)-1)*100 -> 2.82649 | F45: - | G45: -
B46: Dec | C46: 34548000 | D46: =C46-C45 -> 715000 | E46: =((C46/C45)-1)*100 -> 2.1133213 | F46: - | G46: -
A47: 2019 | B47: Mar | C47: 34698000 | D47: =C47-C46 -> 150000 | E47: =((C47/C46)-1)*100 -> 0.43417853 | F47: - | G47: -
B48: Jun | C48: 35531000 | D48: =C48-C47 -> 833000 | E48: =((C48/C47)-1)*100 -> 2.4007147 | F48: =C48-C44 -> 2628000 | G48: =((C48/C44)-1)*100 -> 7.9871136
B49: Sep | C49: 35290000 | D49: =C49-C48 -> -241000 | E49: =((C49/C48)-1)*100 -> -0.67828094 | F49: =C49-C45 -> 1457000 | G49: =((C49/C45)-1)*100 -> 4.3064464
B50: Dec | C50: 35995000 | D50: =C50-C49 -> 705000 | E50: =((C50/C49)-1)*100 -> 1.9977331 | F50: =C50-C46 -> 1447000 | G50: =((C50/C46)-1)*100 -> 4.1883756
A51: 2020 | B51: Mar | C51: 35217000 | D51: =C51-C50 -> -778000 | E51: =((C51/C50)-1)*100 -> -2.1614113 | F51: =C51-C47 -> 519000 | G51: =((C51/C47)-1)*100 -> 1.4957634
B52: Jun | C52: 30120000 | D52: =C52-C51 -> -5097000 | E52: =((C52/C51)-1)*100 -> -14.473124 | F52: =C52-C48 -> -5411000 | G52: =((C52/C48)-1)*100 -> -15.228955
B53: Sep | C53: 30491000 | D53: =C53-C52 -> 371000 | E53: =((C53/C52)-1)*100 -> 1.2317397 | F53: =C53-C49 -> -4799000 | G53: =((C53/C49)-1)*100 -> -13.598753
B54: Dec | C54: 30936000 | D54: =C54-C53 -> 445000 | E54: =((C54/C53)-1)*100 -> 1.459447 | F54: =C54-C50 -> -5059000 | G54: =((C54/C50)-1)*100 -> -14.05473
A55: 2021 | B55: Mar | C55: 30637000 | D55: =C55-C54 -> -299000 | E55: =((C55/C54)-1)*100 -> -0.96651151 | F55: =C55-C51 -> -4580000 | G55: =((C55/C51)-1)*100 -> -13.005083
B56: Jun | C56: 32633000 | D56: =C56-C55 -> 1996000 | E56: =((C56/C55)-1)*100 -> 6.5149982 | F56: =C56-C52 -> 2513000 | G56: =((C56/C52)-1)*100 -> 8.3432935
B57: Sep | C57: 33401000 | D57: =C57-C56 -> 768000 | E57: =((C57/C56)-1)*100 -> 2.3534459 | F57: =C57-C53 -> 2910000 | G57: =((C57/C53)-1)*100 -> 9.5437998
B58: Dec | C58: 35077000 | D58: =C58-C57 -> 1676000 | E58: =((C58/C57)-1)*100 -> 5.0178138 | F58: =C58-C54 -> 4141000 | G58: =((C58/C54)-1)*100 -> 13.3857
A59: 2022 | B59: Mar | C59: 33811000 | D59: =C59-C58 -> -1266000 | E59: =((C59/C58)-1)*100 -> -3.6092026 | F59: =C59-C55 -> 3174000 | G59: =((C59/C55)-1)*100 -> 10.360022
B60: Jun | C60: 35564000 | D60: =C60-C59 -> 1753000 | E60: =((C60/C59)-1)*100 -> 5.1847032 | F60: =C60-C56 -> 2931000 | G60: =((C60/C56)-1)*100 -> 8.9817056
B61: Sep | C61: 36612000 | D61: =C61-C60 -> 1048000 | E61: =((C61/C60)-1)*100 -> 2.9468001 | F61: =C61-C57 -> 3211000 | G61: =((C61/C57)-1)*100 -> 9.6134846
B62: Dec | C62: 37993000 | D62: =C62-C61 -> 1381000 | E62: =((C62/C61)-1)*100 -> 3.7719873 | F62: =C62-C58 -> 2916000 | G62: =((C62/C58)-1)*100 -> 8.3131397
A63: 2023 | B63: Mar | C63: 38991000 | D63: =C63-C62 -> 998000 | E63: =((C63/C62)-1)*100 -> 2.6267997 | F63: =C63-C59 -> 5180000 | G63: =((C63/C59)-1)*100 -> 15.320458
B64: Jun | C64: 40018000 | D64: =C64-C63 -> 1027000 | E64: =((C64/C63)-1)*100 -> 2.6339412 | F64: =C64-C60 -> 4454000 | G64: =((C64/C60)-1)*100 -> 12.523901
B65: Sep | C65: 41037000 | D65: =C65-C64 -> 1019000 | E65: =((C65/C64)-1)*100 -> 2.5463541 | F65: =C65-C61 -> 4425000 | G65: =((C65/C61)-1)*100 -> 12.086201
B66: Dec | C66: 41883000 | D66: =C66-C65 -> 846000 | E66: =((C66/C65)-1)*100 -> 2.0615542 | F66: =C66-C62 -> 3890000 | G66: =((C66/C62)-1)*100 -> 10.238728
A67: 2024 | B67: Mar | C67: 42279000 | D67: =C67-C66 -> 396000 | E67: =((C67/C66)-1)*100 -> 0.94549101 | F67: =C67-C63 -> 3288000 | G67: =((C67/C63)-1)*100 -> 8.4327152
B68: Jun | C68: 43125000 | D68: =C68-C67 -> 846000 | E68: =((C68/C67)-1)*100 -> 2.0009934 | F68: =C68-C64 -> 3107000 | G68: =((C68/C64)-1)*100 -> 7.7640062
B69: Sep | C69: 43482000 | D69: =C69-C68 -> 357000 | E69: =((C69/C68)-1)*100 -> 0.82782609 | F69: =C69-C65 -> 2445000 | G69: =((C69/C65)-1)*100 -> 5.9580379
B70: Dec | C70: 44531000 | D70: =C70-C69 -> 1049000 | E70: =((C70/C69)-1)*100 -> 2.4124925 | F70: =C70-C66 -> 2648000 | G70: =((C70/C66)-1)*100 -> 6.3223742
A71: 2025 | B71: Mar | C71: 43853000 | D71: =C71-C70 -> -678000 | E71: =((C71/C70)-1)*100 -> -1.5225349 | F71: =C71-C67 -> 1574000 | G71: =((C71/C67)-1)*100 -> 3.7228884
B72: Jun | C72: 44467000 | D72: =C72-C71 -> 614000 | E72: =((C72/C71)-1)*100 -> 1.4001323 | F72: =C72-C68 -> 1342000 | G72: =((C72/C68)-1)*100 -> 3.1118841
B73: Sep | C73: 44786000 | D73: =C73-C72 -> 319000 | E73: =((C73/C72)-1)*100 -> 0.71738593 | F73: =C73-C69 -> 1304000 | G73: =((C73/C69)-1)*100 -> 2.9989421
B74: Dec | C74: 45670000 | D74: =C74-C73 -> 884000 | E74: =((C74/C73)-1)*100 -> 1.9738311 | F74: =C74-C70 -> 1139000 | G74: =((C74/C70)-1)*100 -> 2.5577687
A75: 2026 | B75: Mar* | C75: 45298000 | D75: =C75-C74 -> -372000 | E75: =((C75/C74)-1)*100 -> -0.81453908 | F75: =C75-C71 -> 1445000 | G75: =((C75/C71)-1)*100 -> 3.2950995
B76: Jun | C76: 45239000 | D76: =C76-C75 -> -59000 | E76: =((C76/C75)-1)*100 -> -0.13024858 | F76: =C76-C72 -> 772000 | G76: =((C76/C72)-1)*100 -> 1.7361189
A81: Year | B81: Quarter | C81: Bonus payments | D81: =TotalEarnings!D81 -> Change in bonus payments | E81: =TotalEarnings!E81 -> % change in bonus payments | F81: =TotalEarnings!F81 -> Change in bonus payments | G81: =TotalEarnings!G81 -> % change in bonus payments
D82: Quarterly | F82: Annual
A83: 2018 | B83: Jun | C83: 2837000 | D83: - | E83: - | F83: - | G83: -
B84: Sep | C84: 2832000 | D84: =C84-C83 -> -5000 | E84: =((C84/C83)-1)*100 -> -0.17624251 | F84: - | G84: -
B85: Dec | C85: 5107000 | D85: =C85-C84 -> 2275000 | E85: =((C85/C84)-1)*100 -> 80.331921 | F85: - | G85: -
A86: 2019 | B86: Mar | C86: 2058000 | D86: =C86-C85 -> -3049000 | E86: =((C86/C85)-1)*100 -> -59.702369 | F86: - | G86: -
B87: Jun | C87: 4288000 | D87: =C87-C86 -> 2230000 | E87: =((C87/C86)-1)*100 -> 108.35763 | F87: =C87-C83 -> 1451000 | G87: =((C87/C83)-1)*100 -> 51.145576
B88: Sep | C88: 2359000 | D88: =C88-C87 -> -1929000 | E88: =((C88/C87)-1)*100 -> -44.986007 | F88: =C88-C84 -> -473000 | G88: =((C88/C84)-1)*100 -> -16.701977
B89: Dec | C89: 5581000 | D89: =C89-C88 -> 3222000 | E89: =((C89/C88)-1)*100 -> 136.5833 | F89: =C89-C85 -> 474000 | G89: =((C89/C85)-1)*100 -> 9.2813785
A90: 2020 | B90: Mar | C90: 1080000 | D90: =C90-C89 -> -4501000 | E90: =((C90/C89)-1)*100 -> -80.648629 | F90: =C90-C86 -> -978000 | G90: =((C90/C86)-1)*100 -> -47.521866
B91: Jun | C91: 3938000 | D91: =C91-C90 -> 2858000 | E91: =((C91/C90)-1)*100 -> 264.62963 | F91: =C91-C87 -> -350000 | G91: =((C91/C87)-1)*100 -> -8.1623134
B92: Sep | C92: 1207000 | D92: =C92-C91 -> -2731000 | E92: =((C92/C91)-1)*100 -> -69.349924 | F92: =C92-C88 -> -1152000 | G92: =((C92/C88)-1)*100 -> -48.834252
B93: Dec | C93: 4067000 | D93: =C93-C92 -> 2860000 | E93: =((C93/C92)-1)*100 -> 236.95112 | F93: =C93-C89 -> -1514000 | G93: =((C93/C89)-1)*100 -> -27.127755
A94: 2021 | B94: Mar | C94: 1224000 | D94: =C94-C93 -> -2843000 | E94: =((C94/C93)-1)*100 -> -69.904106 | F94: =C94-C90 -> 144000 | G94: =((C94/C90)-1)*100 -> 13.333333
B95: Jun | C95: 4041000 | D95: =C95-C94 -> 2817000 | E95: =((C95/C94)-1)*100 -> 230.14706 | F95: =C95-C91 -> 103000 | G95: =((C95/C91)-1)*100 -> 2.6155409
B96: Sep | C96: 1374000 | D96: =C96-C95 -> -2667000 | E96: =((C96/C95)-1)*100 -> -65.998515 | F96: =C96-C92 -> 167000 | G96: =((C96/C92)-1)*100 -> 13.835957
B97: Dec | C97: 4493000 | D97: =C97-C96 -> 3119000 | E97: =((C97/C96)-1)*100 -> 227.00146 | F97: =C97-C93 -> 426000 | G97: =((C97/C93)-1)*100 -> 10.474551
A98: 2022 | B98: Mar | C98: 1910000 | D98: =C98-C97 -> -2583000 | E98: =((C98/C97)-1)*100 -> -57.489428 | F98: =C98-C94 -> 686000 | G98: =((C98/C94)-1)*100 -> 56.045752
B99: Jun | C99: 3408000 | D99: =C99-C98 -> 1498000 | E99: =((C99/C98)-1)*100 -> 78.429319 | F99: =C99-C95 -> -633000 | G99: =((C99/C95)-1)*100 -> -15.664439
B100: Sep | C100: 1330000 | D100: =C100-C99 -> -2078000 | E100: =((C100/C99)-1)*100 -> -60.974178 | F100: =C100-C96 -> -44000 | G100: =((C100/C96)-1)*100 -> -3.202329
B101: Dec | C101: 4447000 | D101: =C101-C100 -> 3117000 | E101: =((C101/C100)-1)*100 -> 234.3609 | F101: =C101-C97 -> -46000 | G101: =((C101/C97)-1)*100 -> -1.0238148
A102: 2023 | B102: Mar | C102: 2069000 | D102: =C102-C101 -> -2378000 | E102: =((C102/C101)-1)*100 -> -53.474252 | F102: =C102-C98 -> 159000 | G102: =((C102/C98)-1)*100 -> 8.3246073
B103: Jun | C103: 3038000 | D103: =C103-C102 -> 969000 | E103: =((C103/C102)-1)*100 -> 46.834219 | F103: =C103-C99 -> -370000 | G103: =((C103/C99)-1)*100 -> -10.856808
B104: Sep | C104: 2146000 | D104: =C104-C103 -> -892000 | E104: =((C104/C103)-1)*100 -> -29.361422 | F104: =C104-C100 -> 816000 | G104: =((C104/C100)-1)*100 -> 61.353383
B105: Dec | C105: 6086000 | D105: =C105-C104 -> 3940000 | E105: =((C105/C104)-1)*100 -> 183.59739 | F105: =C105-C101 -> 1639000 | G105: =((C105/C101)-1)*100 -> 36.856308
A106: 2024 | B106: Mar | C106: 2389000 | D106: =C106-C105 -> -3697000 | E106: =((C106/C105)-1)*100 -> -60.745974 | F106: =C106-C102 -> 320000 | G106: =((C106/C102)-1)*100 -> 15.466409
B107: Jun | C107: 3291000 | D107: =C107-C106 -> 902000 | E107: =((C107/C106)-1)*100 -> 37.756383 | F107: =C107-C103 -> 253000 | G107: =((C107/C103)-1)*100 -> 8.3278473
B108: Sep | C108: 2217000 | D108: =C108-C107 -> -1074000 | E108: =((C108/C107)-1)*100 -> -32.634458 | F108: =C108-C104 -> 71000 | G108: =((C108/C104)-1)*100 -> 3.3084809
B109: Dec | C109: 5730000 | D109: =C109-C108 -> 3513000 | E109: =((C109/C108)-1)*100 -> 158.45737 | F109: =C109-C105 -> -356000 | G109: =((C109/C105)-1)*100 -> -5.8494906
...

Sheet 8-Finance
A1: Table 8 - Business services (thousand)
A3: Year | B3: Quarter | C3: Total gross earnings | D3: Change in gross earnings | E3: % change in gross earnings | F3: Change in gross earnings | G3: % change in gross earnings
D4: Quarterly | F4: Annual
A5: 2018 | B5: Jun | C5: =C44+C83+C122 -> 173673000 | D5: - | E5: - | F5: - | G5: -
B6: Sep | C6: =C45+C84+C123 -> 183294000 | D6: =C6-C5 -> 9621000 | E6: =((C6/C5)-1)*100 -> 5.5397212 | F6: - | G6: -
B7: Dec | C7: =C46+C85+C124 -> 193395000 | D7: =C7-C6 -> 10101000 | E7: =((C7/C6)-1)*100 -> 5.5108187 | F7: - | G7: -
A8: 2019 | B8: Mar | C8: =C47+C86+C125 -> 189128000 | D8: =C8-C7 -> -4267000 | E8: =((C8/C7)-1)*100 -> -2.2063652 | F8: - | G8: -
B9: Jun | C9: =C48+C87+C126 -> 185836000 | D9: =C9-C8 -> -3292000 | E9: =((C9/C8)-1)*100 -> -1.7406201 | F9: =C9-C5 -> 12163000 | G9: =((C9/C5)-1)*100 -> 7.0033914
B10: Sep | C10: =C49+C88+C127 -> 196497000 | D10: =C10-C9 -> 10661000 | E10: =((C10/C9)-1)*100 -> 5.7367787 | F10: =C10-C6 -> 13203000 | G10: =((C10/C6)-1)*100 -> 7.2031818
B11: Dec | C11: =C50+C89+C128 -> 216593000 | D11: =C11-C10 -> 20096000 | E11: =((C11/C10)-1)*100 -> 10.227128 | F11: =C11-C7 -> 23198000 | G11: =((C11/C7)-1)*100 -> 11.995139
A12: 2020 | B12: Mar | C12: =C51+C90+C129 -> 203810000 | D12: =C12-C11 -> -12783000 | E12: =((C12/C11)-1)*100 -> -5.9018528 | F12: =C12-C8 -> 14682000 | G12: =((C12/C8)-1)*100 -> 7.7629965
B13: Jun | C13: =C52+C91+C130 -> 177988000 | D13: =C13-C12 -> -25822000 | E13: =((C13/C12)-1)*100 -> -12.669643 | F13: =C13-C9 -> -7848000 | G13: =((C13/C9)-1)*100 -> -4.2230784
B14: Sep | C14: =C53+C92+C131 -> 189584000 | D14: =C14-C13 -> 11596000 | E14: =((C14/C13)-1)*100 -> 6.515046 | F14: =C14-C10 -> -6913000 | G14: =((C14/C10)-1)*100 -> -3.5181199
B15: Dec | C15: =C54+C93+C132 -> 218661000 | D15: =C15-C14 -> 29077000 | E15: =((C15/C14)-1)*100 -> 15.337265 | F15: =C15-C11 -> 2068000 | G15: =((C15/C11)-1)*100 -> 0.95478617
A16: 2021 | B16: Mar | C16: =C55+C94+C133 -> 206323000 | D16: =C16-C15 -> -12338000 | E16: =((C16/C15)-1)*100 -> -5.6425243 | F16: =C16-C12 -> 2513000 | G16: =((C16/C12)-1)*100 -> 1.2330111
B17: Jun | C17: =C56+C95+C134 -> 203013000 | D17: =C17-C16 -> -3310000 | E17: =((C17/C16)-1)*100 -> -1.6042807 | F17: =C17-C13 -> 25025000 | G17: =((C17/C13)-1)*100 -> 14.059937
B18: Sep | C18: =C57+C96+C135 -> 221726000 | D18: =C18-C17 -> 18713000 | E18: =((C18/C17)-1)*100 -> 9.2176363 | F18: =C18-C14 -> 32142000 | G18: =((C18/C14)-1)*100 -> 16.953962
B19: Dec | C19: =C58+C97+C136 -> 238151000 | D19: =C19-C18 -> 16425000 | E19: =((C19/C18)-1)*100 -> 7.4077916 | F19: =C19-C15 -> 19490000 | G19: =((C19/C15)-1)*100 -> 8.9133407
A20: 2022 | B20: Mar | C20: =C59+C98+C137 -> 234306000 | D20: =C20-C19 -> -3845000 | E20: =((C20/C19)-1)*100 -> -1.6145219 | F20: =C20-C16 -> 27983000 | G20: =((C20/C16)-1)*100 -> 13.562715
B21: Jun | C21: =C60+C99+C138 -> 230001000 | D21: =C21-C20 -> -4305000 | E21: =((C21/C20)-1)*100 -> -1.8373409 | F21: =C21-C17 -> 26988000 | G21: =((C21/C17)-1)*100 -> 13.29373
B22: Sep | C22: =C61+C100+C139 -> 248116000 | D22: =C22-C21 -> 18115000 | E22: =((C22/C21)-1)*100 -> 7.8760527 | F22: =C22-C18 -> 26390000 | G22: =((C22/C18)-1)*100 -> 11.902077
B23: Dec | C23: =C62+C101+C140 -> 267518000 | D23: =C23-C22 -> 19402000 | E23: =((C23/C22)-1)*100 -> 7.8197295 | F23: =C23-C19 -> 29367000 | G23: =((C23/C19)-1)*100 -> 12.331252
A24: 2023 | B24: Mar | C24: =C63+C102+C141 -> 271995000 | D24: =C24-C23 -> 4477000 | E24: =((C24/C23)-1)*100 -> 1.6735322 | F24: =C24-C20 -> 37689000 | G24: =((C24/C20)-1)*100 -> 16.085376
B25: Jun | C25: =C64+C103+C142 -> 255126000 | D25: =C25-C24 -> -16869000 | E25: =((C25/C24)-1)*100 -> -6.2019522 | F25: =C25-C21 -> 25125000 | G25: =((C25/C21)-1)*100 -> 10.923866
B26: Sep | C26: =C65+C104+C143 -> 269378000 | D26: =C26-C25 -> 14252000 | E26: =((C26/C25)-1)*100 -> 5.5862593 | F26: =C26-C22 -> 21262000 | G26: =((C26/C22)-1)*100 -> 8.5693788
B27: Dec | C27: =C66+C105+C144 -> 275244000 | D27: =C27-C26 -> 5866000 | E27: =((C27/C26)-1)*100 -> 2.1776092 | F27: =C27-C23 -> 7726000 | G27: =((C27/C23)-1)*100 -> 2.88803
A28: 2024 | B28: Mar | C28: =C67+C106+C145 -> 284736000 | D28: =C28-C27 -> 9492000 | E28: =((C28/C27)-1)*100 -> 3.4485765 | F28: =C28-C24 -> 12741000 | G28: =((C28/C24)-1)*100 -> 4.6842773
B29: Jun | C29: =C68+C107+C146 -> 263087000 | D29: =C29-C28 -> -21649000 | E29: =((C29/C28)-1)*100 -> -7.6031833 | F29: =C29-C25 -> 7961000 | G29: =((C29/C25)-1)*100 -> 3.1204189
B30: Sep | C30: =C69+C108+C147 -> 275827000 | D30: =C30-C29 -> 12740000 | E30: =((C30/C29)-1)*100 -> 4.8425046 | F30: =C30-C26 -> 6449000 | G30: =((C30/C26)-1)*100 -> 2.3940337
B31: Dec | C31: =C70+C109+C148 -> 284600000 | D31: =C31-C30 -> 8773000 | E31: =((C31/C30)-1)*100 -> 3.1806168 | F31: =C31-C27 -> 9356000 | G31: =((C31/C27)-1)*100 -> 3.3991658
A32: 2025 | B32: Mar | C32: =C71+C110+C149 -> 286459000 | D32: =C32-C31 -> 1859000 | E32: =((C32/C31)-1)*100 -> 0.65319747 | F32: =C32-C28 -> 1723000 | G32: =((C32/C28)-1)*100 -> 0.60512194
B33: Jun | C33: =C72+C111+C150 -> 273823000 | D33: =C33-C32 -> -12636000 | E33: =((C33/C32)-1)*100 -> -4.4111025 | F33: =C33-C29 -> 10736000 | G33: =((C33/C29)-1)*100 -> 4.0807794
B34: Sep | C34: =C73+C112+C151 -> 281764000 | D34: =C34-C33 -> 7941000 | E34: =((C34/C33)-1)*100 -> 2.9000486 | F34: =C34-C30 -> 5937000 | G34: =((C34/C30)-1)*100 -> 2.1524361
B35: Dec | C35: =C74+C113+C152 -> 297934000 | D35: =C35-C34 -> 16170000 | E35: =((C35/C34)-1)*100 -> 5.7388453 | F35: =C35-C31 -> 13334000 | G35: =((C35/C31)-1)*100 -> 4.6851722
A36: 2026 | B36: Mar* | C36: =C75+C114+C153 -> 293473000 | D36: =C36-C35 -> -4461000 | E36: =((C36/C35)-1)*100 -> -1.4973115 | F36: =C36-C32 -> 7014000 | G36: =((C36/C32)-1)*100 -> 2.4485179
B37: Jun | C37: =C76+C115+C154 -> 277963000 | D37: =C37-C36 -> -15510000 | E37: =((C37/C36)-1)*100 -> -5.2849836 | F37: =C37-C33 -> 4140000 | G37: =((C37/C33)-1)*100 -> 1.5119256
A42: Year | B42: Quarter | C42: Basic Salary/Wages | D42: Change in basic salary/wages | E42: % change in basic salary/wages | F42: Change in basic salary/wages | G42: % change in basic salary/wages
D43: Quarterly | F43: Annual
A44: 2018 | B44: Jun | C44: 156308000 | D44: - | E44: - | F44: - | G44: -
B45: Sep | C45: 159764000 | D45: =C45-C44 -> 3456000 | E45: =((C45/C44)-1)*100 -> 2.2110193 | F45: - | G45: -
B46: Dec | C46: 165836000 | D46: =C46-C45 -> 6072000 | E46: =((C46/C45)-1)*100 -> 3.8006059 | F46: - | G46: -
A47: 2019 | B47: Mar | C47: 166346000 | D47: =C47-C46 -> 510000 | E47: =((C47/C46)-1)*100 -> 0.30753274 | F47: - | G47: -
B48: Jun | C48: 168677000 | D48: =C48-C47 -> 2331000 | E48: =((C48/C47)-1)*100 -> 1.4012961 | F48: =C48-C44 -> 12369000 | G48: =((C48/C44)-1)*100 -> 7.9132226
B49: Sep | C49: 172277000 | D49: =C49-C48 -> 3600000 | E49: =((C49/C48)-1)*100 -> 2.1342566 | F49: =C49-C45 -> 12513000 | G49: =((C49/C45)-1)*100 -> 7.8321775
B50: Dec | C50: 177216000 | D50: =C50-C49 -> 4939000 | E50: =((C50/C49)-1)*100 -> 2.8668946 | F50: =C50-C46 -> 11380000 | G50: =((C50/C46)-1)*100 -> 6.8622012
A51: 2020 | B51: Mar | C51: 177860000 | D51: =C51-C50 -> 644000 | E51: =((C51/C50)-1)*100 -> 0.36339834 | F51: =C51-C47 -> 11514000 | G51: =((C51/C47)-1)*100 -> 6.9217174
B52: Jun | C52: 164068000 | D52: =C52-C51 -> -13792000 | E52: =((C52/C51)-1)*100 -> -7.7544136 | F52: =C52-C48 -> -4609000 | G52: =((C52/C48)-1)*100 -> -2.7324413
B53: Sep | C53: 170766000 | D53: =C53-C52 -> 6698000 | E53: =((C53/C52)-1)*100 -> 4.0824536 | F53: =C53-C49 -> -1511000 | G53: =((C53/C49)-1)*100 -> -0.87707587
B54: Dec | C54: 178148000 | D54: =C54-C53 -> 7382000 | E54: =((C54/C53)-1)*100 -> 4.3228746 | F54: =C54-C50 -> 932000 | G54: =((C54/C50)-1)*100 -> 0.52591188
A55: 2021 | B55: Mar | C55: 177403000 | D55: =C55-C54 -> -745000 | E55: =((C55/C54)-1)*100 -> -0.41819162 | F55: =C55-C51 -> -457000 | G55: =((C55/C51)-1)*100 -> -0.25694366
B56: Jun | C56: 182986000 | D56: =C56-C55 -> 5583000 | E56: =((C56/C55)-1)*100 -> 3.1470719 | F56: =C56-C52 -> 18918000 | G56: =((C56/C52)-1)*100 -> 11.530585
B57: Sep | C57: 188506000 | D57: =C57-C56 -> 5520000 | E57: =((C57/C56)-1)*100 -> 3.0166242 | F57: =C57-C53 -> 17740000 | G57: =((C57/C53)-1)*100 -> 10.388485
B58: Dec | C58: 195405000 | D58: =C58-C57 -> 6899000 | E58: =((C58/C57)-1)*100 -> 3.6598305 | F58: =C58-C54 -> 17257000 | G58: =((C58/C54)-1)*100 -> 9.6868896
A59: 2022 | B59: Mar | C59: 197099000 | D59: =C59-C58 -> 1694000 | E59: =((C59/C58)-1)*100 -> 0.86691743 | F59: =C59-C55 -> 19696000 | G59: =((C59/C55)-1)*100 -> 11.102405
B60: Jun | C60: 205579000 | D60: =C60-C59 -> 8480000 | E60: =((C60/C59)-1)*100 -> 4.3024064 | F60: =C60-C56 -> 22593000 | G60: =((C60/C56)-1)*100 -> 12.346846
B61: Sep | C61: 211009000 | D61: =C61-C60 -> 5430000 | E61: =((C61/C60)-1)*100 -> 2.6413204 | F61: =C61-C57 -> 22503000 | G61: =((C61/C57)-1)*100 -> 11.937551
B62: Dec | C62: 217908000 | D62: =C62-C61 -> 6899000 | E62: =((C62/C61)-1)*100 -> 3.2695288 | F62: =C62-C58 -> 22503000 | G62: =((C62/C58)-1)*100 -> 11.516082
A63: 2023 | B63: Mar | C63: 221986000 | D63: =C63-C62 -> 4078000 | E63: =((C63/C62)-1)*100 -> 1.871432 | F63: =C63-C59 -> 24887000 | G63: =((C63/C59)-1)*100 -> 12.62665
B64: Jun | C64: 227302000 | D64: =C64-C63 -> 5316000 | E64: =((C64/C63)-1)*100 -> 2.3947456 | F64: =C64-C60 -> 21723000 | G64: =((C64/C60)-1)*100 -> 10.566741
B65: Sep | C65: 230215000 | D65: =C65-C64 -> 2913000 | E65: =((C65/C64)-1)*100 -> 1.2815549 | F65: =C65-C61 -> 19206000 | G65: =((C65/C61)-1)*100 -> 9.1019814
B66: Dec | C66: 232218000 | D66: =C66-C65 -> 2003000 | E66: =((C66/C65)-1)*100 -> 0.87005625 | F66: =C66-C62 -> 14310000 | G66: =((C66/C62)-1)*100 -> 6.5669916
A67: 2024 | B67: Mar | C67: 231970000 | D67: =C67-C66 -> -248000 | E67: =((C67/C66)-1)*100 -> -0.1067962 | F67: =C67-C63 -> 9984000 | G67: =((C67/C63)-1)*100 -> 4.4975809
B68: Jun | C68: 238148000 | D68: =C68-C67 -> 6178000 | E68: =((C68/C67)-1)*100 -> 2.6632754 | F68: =C68-C64 -> 10846000 | G68: =((C68/C64)-1)*100 -> 4.7716254
B69: Sep | C69: 238944000 | D69: =C69-C68 -> 796000 | E69: =((C69/C68)-1)*100 -> 0.33424593 | F69: =C69-C65 -> 8729000 | G69: =((C69/C65)-1)*100 -> 3.791673
B70: Dec | C70: 240618000 | D70: =C70-C69 -> 1674000 | E70: =((C70/C69)-1)*100 -> 0.70058256 | F70: =C70-C66 -> 8400000 | G70: =((C70/C66)-1)*100 -> 3.6172906
A71: 2025 | B71: Mar | C71: 240170000 | D71: =C71-C70 -> -448000 | E71: =((C71/C70)-1)*100 -> -0.18618723 | F71: =C71-C67 -> 8200000 | G71: =((C71/C67)-1)*100 -> 3.5349399
B72: Jun | C72: 244824000 | D72: =C72-C71 -> 4654000 | E72: =((C72/C71)-1)*100 -> 1.9377941 | F72: =C72-C68 -> 6676000 | G72: =((C72/C68)-1)*100 -> 2.8032988
B73: Sep | C73: 244866000 | D73: =C73-C72 -> 42000 | E73: =((C73/C72)-1)*100 -> 0.017155181 | F73: =C73-C69 -> 5922000 | G73: =((C73/C69)-1)*100 -> 2.478405
B74: Dec | C74: 248210000 | D74: =C74-C73 -> 3344000 | E74: =((C74/C73)-1)*100 -> 1.3656449 | F74: =C74-C70 -> 7592000 | G74: =((C74/C70)-1)*100 -> 3.1552087
A75: 2026 | B75: Mar* | C75: 241247000 | D75: =C75-C74 -> -6963000 | E75: =((C75/C74)-1)*100 -> -2.8052858 | F75: =C75-C71 -> 1077000 | G75: =((C75/C71)-1)*100 -> 0.44843236
B76: Jun | C76: 245638000 | D76: =C76-C75 -> 4391000 | E76: =((C76/C75)-1)*100 -> 1.8201263 | F76: =C76-C72 -> 814000 | G76: =((C76/C72)-1)*100 -> 0.33248374
A81: Year | B81: Quarter | C81: Bonus payments | D81: =TotalEarnings!D81 -> Change in bonus payments | E81: =TotalEarnings!E81 -> % change in bonus payments | F81: =TotalEarnings!F81 -> Change in bonus payments | G81: =TotalEarnings!G81 -> % change in bonus payments
D82: Quarterly | F82: Annual
A83: 2018 | B83: Jun | C83: 14684000 | D83: - | E83: - | F83: - | G83: -
B84: Sep | C84: 20807000 | D84: =C84-C83 -> 6123000 | E84: =((C84/C83)-1)*100 -> 41.698447 | F84: - | G84: -
B85: Dec | C85: 24661000 | D85: =C85-C84 -> 3854000 | E85: =((C85/C84)-1)*100 -> 18.522613 | F85: - | G85: -
A86: 2019 | B86: Mar | C86: 20070000 | D86: =C86-C85 -> -4591000 | E86: =((C86/C85)-1)*100 -> -18.616439 | F86: - | G86: -
B87: Jun | C87: 13914000 | D87: =C87-C86 -> -6156000 | E87: =((C87/C86)-1)*100 -> -30.672646 | F87: =C87-C83 -> -770000 | G87: =((C87/C83)-1)*100 -> -5.2438028
B88: Sep | C88: 20981000 | D88: =C88-C87 -> 7067000 | E88: =((C88/C87)-1)*100 -> 50.790571 | F88: =C88-C84 -> 174000 | G88: =((C88/C84)-1)*100 -> 0.83625703
B89: Dec | C89: 35815000 | D89: =C89-C88 -> 14834000 | E89: =((C89/C88)-1)*100 -> 70.702064 | F89: =C89-C85 -> 11154000 | G89: =((C89/C85)-1)*100 -> 45.229309
A90: 2020 | B90: Mar | C90: 22577000 | D90: =C90-C89 -> -13238000 | E90: =((C90/C89)-1)*100 -> -36.962167 | F90: =C90-C86 -> 2507000 | G90: =((C90/C86)-1)*100 -> 12.491281
B91: Jun | C91: 11229000 | D91: =C91-C90 -> -11348000 | E91: =((C91/C90)-1)*100 -> -50.263543 | F91: =C91-C87 -> -2685000 | G91: =((C91/C87)-1)*100 -> -19.297111
B92: Sep | C92: 15880000 | D92: =C92-C91 -> 4651000 | E92: =((C92/C91)-1)*100 -> 41.419539 | F92: =C92-C88 -> -5101000 | G92: =((C92/C88)-1)*100 -> -24.312473
B93: Dec | C93: 37044000 | D93: =C93-C92 -> 21164000 | E93: =((C93/C92)-1)*100 -> 133.27456 | F93: =C93-C89 -> 1229000 | G93: =((C93/C89)-1)*100 -> 3.4315231
A94: 2021 | B94: Mar | C94: 25743000 | D94: =C94-C93 -> -11301000 | E94: =((C94/C93)-1)*100 -> -30.506965 | F94: =C94-C90 -> 3166000 | G94: =((C94/C90)-1)*100 -> 14.023121
B95: Jun | C95: 16458000 | D95: =C95-C94 -> -9285000 | E95: =((C95/C94)-1)*100 -> -36.068057 | F95: =C95-C91 -> 5229000 | G95: =((C95/C91)-1)*100 -> 46.566925
B96: Sep | C96: 29544000 | D96: =C96-C95 -> 13086000 | E96: =((C96/C95)-1)*100 -> 79.511484 | F96: =C96-C92 -> 13664000 | G96: =((C96/C92)-1)*100 -> 86.04534
B97: Dec | C97: 39276000 | D97: =C97-C96 -> 9732000 | E97: =((C97/C96)-1)*100 -> 32.940699 | F97: =C97-C93 -> 2232000 | G97: =((C97/C93)-1)*100 -> 6.0252672
A98: 2022 | B98: Mar | C98: 33892000 | D98: =C98-C97 -> -5384000 | E98: =((C98/C97)-1)*100 -> -13.708117 | F98: =C98-C94 -> 8149000 | G98: =((C98/C94)-1)*100 -> 31.655207
B99: Jun | C99: 20540000 | D99: =C99-C98 -> -13352000 | E99: =((C99/C98)-1)*100 -> -39.395728 | F99: =C99-C95 -> 4082000 | G99: =((C99/C95)-1)*100 -> 24.802528
B100: Sep | C100: 32943000 | D100: =C100-C99 -> 12403000 | E100: =((C100/C99)-1)*100 -> 60.384615 | F100: =C100-C96 -> 3399000 | G100: =((C100/C96)-1)*100 -> 11.504874
B101: Dec | C101: 45712000 | D101: =C101-C100 -> 12769000 | E101: =((C101/C100)-1)*100 -> 38.76089 | F101: =C101-C97 -> 6436000 | G101: =((C101/C97)-1)*100 -> 16.386597
A102: 2023 | B102: Mar | C102: 46095000 | D102: =C102-C101 -> 383000 | E102: =((C102/C101)-1)*100 -> 0.83785439 | F102: =C102-C98 -> 12203000 | G102: =((C102/C98)-1)*100 -> 36.005547
B103: Jun | C103: 23330000 | D103: =C103-C102 -> -22765000 | E103: =((C103/C102)-1)*100 -> -49.387135 | F103: =C103-C99 -> 2790000 | G103: =((C103/C99)-1)*100 -> 13.583252
B104: Sep | C104: 34108000 | D104: =C104-C103 -> 10778000 | E104: =((C104/C103)-1)*100 -> 46.198028 | F104: =C104-C100 -> 1165000 | G104: =((C104/C100)-1)*100 -> 3.5364114
B105: Dec | C105: 37383000 | D105: =C105-C104 -> 3275000 | E105: =((C105/C104)-1)*100 -> 9.6018529 | F105: =C105-C101 -> -8329000 | G105: =((C105/C101)-1)*100 -> -18.220599
A106: 2024 | B106: Mar | C106: 47472000 | D106: =C106-C105 -> 10089000 | E106: =((C106/C105)-1)*100 -> 26.988203 | F106: =C106-C102 -> 1377000 | G106: =((C106/C102)-1)*100 -> 2.9873088
B107: Jun | C107: 19412000 | D107: =C107-C106 -> -28060000 | E107: =((C107/C106)-1)*100 -> -59.108527 | F107: =C107-C103 -> -3918000 | G107: =((C107/C103)-1)*100 -> -16.793828
B108: Sep | C108: 31069000 | D108: =C108-C107 -> 11657000 | E108: =((C108/C107)-1)*100 -> 60.050484 | F108: =C108-C104 -> -3039000 | G108: =((C108/C104)-1)*100 -> -8.9099332
B109: Dec | C109: 38876000 | D109: =C109-C108 -> 7807000 | E109: =((C109/C108)-1)*100 -> 25.127941 | F109: =C109-C105 -> 1493000 | G109: =((C109/C105)-1)*100 -> 3.993794
...

Sheet 9-Community
A1: Table 9 - Community services (thousand)
A3: Year | B3: Quarter | C3: Total gross earnings | D3: Change in gross earnings | E3: % change in gross earnings | F3: Change in gross earnings | G3: % change in gross earnings
D4: Quarterly | F4: Annual
A5: 2018 | B5: Jun | C5: =C44+C83+C122 -> 209930000 | D5: - | E5: - | F5: - | G5: -
B6: Sep | C6: =C45+C84+C123 -> 227955000 | D6: =C6-C5 -> 18025000 | E6: =((C6/C5)-1)*100 -> 8.5861954 | F6: - | G6: -
B7: Dec | C7: =C46+C85+C124 -> 235115000 | D7: =C7-C6 -> 7160000 | E7: =((C7/C6)-1)*100 -> 3.1409708 | F7: - | G7: -
A8: 2019 | B8: Mar | C8: =C47+C86+C125 -> 226371000 | D8: =C8-C7 -> -8744000 | E8: =((C8/C7)-1)*100 -> -3.7190311 | F8: - | G8: -
B9: Jun | C9: =C48+C87+C126 -> 236711000 | D9: =C9-C8 -> 10340000 | E9: =((C9/C8)-1)*100 -> 4.5677229 | F9: =C9-C5 -> 26781000 | G9: =((C9/C5)-1)*100 -> 12.75711
B10: Sep | C10: =C49+C88+C127 -> 241219000 | D10: =C10-C9 -> 4508000 | E10: =((C10/C9)-1)*100 -> 1.904432 | F10: =C10-C6 -> 13264000 | G10: =((C10/C6)-1)*100 -> 5.8186923
B11: Dec | C11: =C50+C89+C128 -> 254340000 | D11: =C11-C10 -> 13121000 | E11: =((C11/C10)-1)*100 -> 5.4394554 | F11: =C11-C7 -> 19225000 | G11: =((C11/C7)-1)*100 -> 8.1768496
A12: 2020 | B12: Mar | C12: =C51+C90+C129 -> 244461000 | D12: =C12-C11 -> -9879000 | E12: =((C12/C11)-1)*100 -> -3.8841708 | F12: =C12-C8 -> 18090000 | G12: =((C12/C8)-1)*100 -> 7.9913063
B13: Jun | C13: =C52+C91+C130 -> 235043000 | D13: =C13-C12 -> -9418000 | E13: =((C13/C12)-1)*100 -> -3.8525573 | F13: =C13-C9 -> -1668000 | G13: =((C13/C9)-1)*100 -> -0.70465673
B14: Sep | C14: =C53+C92+C131 -> 241559000 | D14: =C14-C13 -> 6516000 | E14: =((C14/C13)-1)*100 -> 2.7722587 | F14: =C14-C10 -> 340000 | G14: =((C14/C10)-1)*100 -> 0.14095075
B15: Dec | C15: =C54+C93+C132 -> 255815000 | D15: =C15-C14 -> 14256000 | E15: =((C15/C14)-1)*100 -> 5.9016638 | F15: =C15-C11 -> 1475000 | G15: =((C15/C11)-1)*100 -> 0.57993237
A16: 2021 | B16: Mar | C16: =C55+C94+C133 -> 251145000 | D16: =C16-C15 -> -4670000 | E16: =((C16/C15)-1)*100 -> -1.825538 | F16: =C16-C12 -> 6684000 | G16: =((C16/C12)-1)*100 -> 2.7341785
B17: Jun | C17: =C56+C95+C134 -> 257158000 | D17: =C17-C16 -> 6013000 | E17: =((C17/C16)-1)*100 -> 2.3942344 | F17: =C17-C13 -> 22115000 | G17: =((C17/C13)-1)*100 -> 9.4089167
B18: Sep | C18: =C57+C96+C135 -> 273316000 | D18: =C18-C17 -> 16158000 | E18: =((C18/C17)-1)*100 -> 6.2832967 | F18: =C18-C14 -> 31757000 | G18: =((C18/C14)-1)*100 -> 13.146685
B19: Dec | C19: =C58+C97+C136 -> 286099000 | D19: =C19-C18 -> 12783000 | E19: =((C19/C18)-1)*100 -> 4.6770039 | F19: =C19-C15 -> 30284000 | G19: =((C19/C15)-1)*100 -> 11.838242
A20: 2022 | B20: Mar | C20: =C59+C98+C137 -> 268321000 | D20: =C20-C19 -> -17778000 | E20: =((C20/C19)-1)*100 -> -6.2139329 | F20: =C20-C16 -> 17176000 | G20: =((C20/C16)-1)*100 -> 6.839077
B21: Jun | C21: =C60+C99+C138 -> 272958000 | D21: =C21-C20 -> 4637000 | E21: =((C21/C20)-1)*100 -> 1.728154 | F21: =C21-C17 -> 15800000 | G21: =((C21/C17)-1)*100 -> 6.1440826
B22: Sep | C22: =C61+C100+C139 -> 274502000 | D22: =C22-C21 -> 1544000 | E22: =((C22/C21)-1)*100 -> 0.56565479 | F22: =C22-C18 -> 1186000 | G22: =((C22/C18)-1)*100 -> 0.43392996
B23: Dec | C23: =C62+C101+C140 -> 296841000 | D23: =C23-C22 -> 22339000 | E23: =((C23/C22)-1)*100 -> 8.1380099 | F23: =C23-C19 -> 10742000 | G23: =((C23/C19)-1)*100 -> 3.7546444
A24: 2023 | B24: Mar | C24: =C63+C102+C141 -> 286263000 | D24: =C24-C23 -> -10578000 | E24: =((C24/C23)-1)*100 -> -3.5635239 | F24: =C24-C20 -> 17942000 | G24: =((C24/C20)-1)*100 -> 6.686767
B25: Jun | C25: =C64+C103+C142 -> 295184000 | D25: =C25-C24 -> 8921000 | E25: =((C25/C24)-1)*100 -> 3.116365 | F25: =C25-C21 -> 22226000 | G25: =((C25/C21)-1)*100 -> 8.1426447
B26: Sep | C26: =C65+C104+C143 -> 305197000 | D26: =C26-C25 -> 10013000 | E26: =((C26/C25)-1)*100 -> 3.3921215 | F26: =C26-C22 -> 30695000 | G26: =((C26/C22)-1)*100 -> 11.182068
B27: Dec | C27: =C66+C105+C144 -> 310843000 | D27: =C27-C26 -> 5646000 | E27: =((C27/C26)-1)*100 -> 1.8499527 | F27: =C27-C23 -> 14002000 | G27: =((C27/C23)-1)*100 -> 4.7170034
A28: 2024 | B28: Mar | C28: =C67+C106+C145 -> 299139000 | D28: =C28-C27 -> -11704000 | E28: =((C28/C27)-1)*100 -> -3.7652448 | F28: =C28-C24 -> 12876000 | G28: =((C28/C24)-1)*100 -> 4.4979617
B29: Jun | C29: =C68+C107+C146 -> 309814000 | D29: =C29-C28 -> 10675000 | E29: =((C29/C28)-1)*100 -> 3.5685751 | F29: =C29-C25 -> 14630000 | G29: =((C29/C25)-1)*100 -> 4.9562307
B30: Sep | C30: =C69+C108+C147 -> 312066000 | D30: =C30-C29 -> 2252000 | E30: =((C30/C29)-1)*100 -> 0.72688775 | F30: =C30-C26 -> 6869000 | G30: =((C30/C26)-1)*100 -> 2.2506774
B31: Dec | C31: =C70+C109+C148 -> 324368000 | D31: =C31-C30 -> 12302000 | E31: =((C31/C30)-1)*100 -> 3.9421148 | F31: =C31-C27 -> 13525000 | G31: =((C31/C27)-1)*100 -> 4.3510711
A32: 2025 | B32: Mar | C32: =C71+C110+C149 -> 312192000 | D32: =C32-C31 -> -12176000 | E32: =((C32/C31)-1)*100 -> -3.7537612 | F32: =C32-C28 -> 13053000 | G32: =((C32/C28)-1)*100 -> 4.3635233
B33: Jun | C33: =C72+C111+C150 -> 320334000 | D33: =C33-C32 -> 8142000 | E33: =((C33/C32)-1)*100 -> 2.6080105 | F33: =C33-C29 -> 10520000 | G33: =((C33/C29)-1)*100 -> 3.3955857
B34: Sep | C34: =C73+C112+C151 -> 324715000 | D34: =C34-C33 -> 4381000 | E34: =((C34/C33)-1)*100 -> 1.367635 | F34: =C34-C30 -> 12649000 | G34: =((C34/C30)-1)*100 -> 4.0533092
B35: Dec | C35: =C74+C113+C152 -> 342907000 | D35: =C35-C34 -> 18192000 | E35: =((C35/C34)-1)*100 -> 5.6024514 | F35: =C35-C31 -> 18539000 | G35: =((C35/C31)-1)*100 -> 5.715422
A36: 2026 | B36: Mar* | C36: =C75+C114+C153 -> 331569000 | D36: =C36-C35 -> -11338000 | E36: =((C36/C35)-1)*100 -> -3.3064359 | F36: =C36-C32 -> 19377000 | G36: =((C36/C32)-1)*100 -> 6.2067574
B37: Jun | C37: =C76+C115+C154 -> 339343000 | D37: =C37-C36 -> 7774000 | E37: =((C37/C36)-1)*100 -> 2.34461 | F37: =C37-C33 -> 19009000 | G37: =((C37/C33)-1)*100 -> 5.9341188
A42: Year | B42: Quarter | C42: Basic Salary/Wages | D42: Change in basic salary/wages | E42: % change in basic salary/wages | F42: Change in basic salary/wages | G42: % change in basic salary/wages
D43: Quarterly | F43: Annual
A44: 2018 | B44: Jun | C44: 195948000 | D44: - | E44: - | F44: - | G44: -
B45: Sep | C45: 212602000 | D45: =C45-C44 -> 16654000 | E45: =((C45/C44)-1)*100 -> 8.4991937 | F45: - | G45: -
B46: Dec | C46: 211010000 | D46: =C46-C45 -> -1592000 | E46: =((C46/C45)-1)*100 -> -0.74881704 | F46: - | G46: -
A47: 2019 | B47: Mar | C47: 210170000 | D47: =C47-C46 -> -840000 | E47: =((C47/C46)-1)*100 -> -0.3980854 | F47: - | G47: -
B48: Jun | C48: 219961000 | D48: =C48-C47 -> 9791000 | E48: =((C48/C47)-1)*100 -> 4.6586097 | F48: =C48-C44 -> 24013000 | G48: =((C48/C44)-1)*100 -> 12.254782
B49: Sep | C49: 223978000 | D49: =C49-C48 -> 4017000 | E49: =((C49/C48)-1)*100 -> 1.8262328 | F49: =C49-C45 -> 11376000 | G49: =((C49/C45)-1)*100 -> 5.3508434
B50: Dec | C50: 227236000 | D50: =C50-C49 -> 3258000 | E50: =((C50/C49)-1)*100 -> 1.4546071 | F50: =C50-C46 -> 16226000 | G50: =((C50/C46)-1)*100 -> 7.689683
A51: 2020 | B51: Mar | C51: 227421000 | D51: =C51-C50 -> 185000 | E51: =((C51/C50)-1)*100 -> 0.081413156 | F51: =C51-C47 -> 17251000 | G51: =((C51/C47)-1)*100 -> 8.2081172
B52: Jun | C52: 219035000 | D52: =C52-C51 -> -8386000 | E52: =((C52/C51)-1)*100 -> -3.6874343 | F52: =C52-C48 -> -926000 | G52: =((C52/C48)-1)*100 -> -0.42098372
B53: Sep | C53: 225341000 | D53: =C53-C52 -> 6306000 | E53: =((C53/C52)-1)*100 -> 2.8789919 | F53: =C53-C49 -> 1363000 | G53: =((C53/C49)-1)*100 -> 0.60854191
B54: Dec | C54: 232024000 | D54: =C54-C53 -> 6683000 | E54: =((C54/C53)-1)*100 -> 2.9657275 | F54: =C54-C50 -> 4788000 | G54: =((C54/C50)-1)*100 -> 2.1070605
A55: 2021 | B55: Mar | C55: 232868000 | D55: =C55-C54 -> 844000 | E55: =((C55/C54)-1)*100 -> 0.36375547 | F55: =C55-C51 -> 5447000 | G55: =((C55/C51)-1)*100 -> 2.3951174
B56: Jun | C56: 238168000 | D56: =C56-C55 -> 5300000 | E56: =((C56/C55)-1)*100 -> 2.2759675 | F56: =C56-C52 -> 19133000 | G56: =((C56/C52)-1)*100 -> 8.7351337
B57: Sep | C57: 254609000 | D57: =C57-C56 -> 16441000 | E57: =((C57/C56)-1)*100 -> 6.9031104 | F57: =C57-C53 -> 29268000 | G57: =((C57/C53)-1)*100 -> 12.988315
B58: Dec | C58: 257469000 | D58: =C58-C57 -> 2860000 | E58: =((C58/C57)-1)*100 -> 1.123291 | F58: =C58-C54 -> 25445000 | G58: =((C58/C54)-1)*100 -> 10.966538
A59: 2022 | B59: Mar | C59: 249183000 | D59: =C59-C58 -> -8286000 | E59: =((C59/C58)-1)*100 -> -3.2182515 | F59: =C59-C55 -> 16315000 | G59: =((C59/C55)-1)*100 -> 7.0061151
B60: Jun | C60: 250954000 | D60: =C60-C59 -> 1771000 | E60: =((C60/C59)-1)*100 -> 0.71072264 | F60: =C60-C56 -> 12786000 | G60: =((C60/C56)-1)*100 -> 5.3684794
B61: Sep | C61: 254680000 | D61: =C61-C60 -> 3726000 | E61: =((C61/C60)-1)*100 -> 1.4847343 | F61: =C61-C57 -> 71000 | G61: =((C61/C57)-1)*100 -> 0.027885896
B62: Dec | C62: 267112000 | D62: =C62-C61 -> 12432000 | E62: =((C62/C61)-1)*100 -> 4.8814198 | F62: =C62-C58 -> 9643000 | G62: =((C62/C58)-1)*100 -> 3.7453053
A63: 2023 | B63: Mar | C63: 264155000 | D63: =C63-C62 -> -2957000 | E63: =((C63/C62)-1)*100 -> -1.1070263 | F63: =C63-C59 -> 14972000 | G63: =((C63/C59)-1)*100 -> 6.0084356
B64: Jun | C64: 273887000 | D64: =C64-C63 -> 9732000 | E64: =((C64/C63)-1)*100 -> 3.6842006 | F64: =C64-C60 -> 22933000 | G64: =((C64/C60)-1)*100 -> 9.1383281
B65: Sep | C65: 280225000 | D65: =C65-C64 -> 6338000 | E65: =((C65/C64)-1)*100 -> 2.314093 | F65: =C65-C61 -> 25545000 | G65: =((C65/C61)-1)*100 -> 10.030234
B66: Dec | C66: 277362000 | D66: =C66-C65 -> -2863000 | E66: =((C66/C65)-1)*100 -> -1.021679 | F66: =C66-C62 -> 10250000 | G66: =((C66/C62)-1)*100 -> 3.8373416
A67: 2024 | B67: Mar | C67: 276106000 | D67: =C67-C66 -> -1256000 | E67: =((C67/C66)-1)*100 -> -0.45283781 | F67: =C67-C63 -> 11951000 | G67: =((C67/C63)-1)*100 -> 4.5242377
B68: Jun | C68: 286824000 | D68: =C68-C67 -> 10718000 | E68: =((C68/C67)-1)*100 -> 3.8818425 | F68: =C68-C64 -> 12937000 | G68: =((C68/C64)-1)*100 -> 4.7234809
B69: Sep | C69: 287007000 | D69: =C69-C68 -> 183000 | E69: =((C69/C68)-1)*100 -> 0.063802192 | F69: =C69-C65 -> 6782000 | G69: =((C69/C65)-1)*100 -> 2.4201981
B70: Dec | C70: 290018000 | D70: =C70-C69 -> 3011000 | E70: =((C70/C69)-1)*100 -> 1.0491033 | F70: =C70-C66 -> 12656000 | G70: =((C70/C66)-1)*100 -> 4.5629899
A71: 2025 | B71: Mar | C71: 287284000 | D71: =C71-C70 -> -2734000 | E71: =((C71/C70)-1)*100 -> -0.94270011 | F71: =C71-C67 -> 11178000 | G71: =((C71/C67)-1)*100 -> 4.0484452
B72: Jun | C72: 296278000 | D72: =C72-C71 -> 8994000 | E72: =((C72/C71)-1)*100 -> 3.1306999 | F72: =C72-C68 -> 9454000 | G72: =((C72/C68)-1)*100 -> 3.296098
B73: Sep | C73: 299169000 | D73: =C73-C72 -> 2891000 | E73: =((C73/C72)-1)*100 -> 0.97577275 | F73: =C73-C69 -> 12162000 | G73: =((C73/C69)-1)*100 -> 4.2375273
B74: Dec | C74: 305102000 | D74: =C74-C73 -> 5933000 | E74: =((C74/C73)-1)*100 -> 1.98316 | F74: =C74-C70 -> 15084000 | G74: =((C74/C70)-1)*100 -> 5.2010565
A75: 2026 | B75: Mar* | C75: 304396000 | D75: =C75-C74 -> -706000 | E75: =((C75/C74)-1)*100 -> -0.23139802 | F75: =C75-C71 -> 17112000 | G75: =((C75/C71)-1)*100 -> 5.9564751
B76: Jun | C76: 313511000 | D76: =C76-C75 -> 9115000 | E76: =((C76/C75)-1)*100 -> 2.9944546 | F76: =C76-C72 -> 17233000 | G76: =((C76/C72)-1)*100 -> 5.8164967
A81: Year | B81: Quarter | C81: Bonus payments | D81: =TotalEarnings!D81 -> Change in bonus payments | E81: =TotalEarnings!E81 -> % change in bonus payments | F81: =TotalEarnings!F81 -> Change in bonus payments | G81: =TotalEarnings!G81 -> % change in bonus payments
D82: Quarterly | F82: Annual
A83: 2018 | B83: Jun | C83: 9982000 | D83: - | E83: - | F83: - | G83: -
B84: Sep | C84: 11422000 | D84: =C84-C83 -> 1440000 | E84: =((C84/C83)-1)*100 -> 14.425967 | F84: - | G84: -
B85: Dec | C85: 18469000 | D85: =C85-C84 -> 7047000 | E85: =((C85/C84)-1)*100 -> 61.696726 | F85: - | G85: -
A86: 2019 | B86: Mar | C86: 10199000 | D86: =C86-C85 -> -8270000 | E86: =((C86/C85)-1)*100 -> -44.777736 | F86: - | G86: -
B87: Jun | C87: 10251000 | D87: =C87-C86 -> 52000 | E87: =((C87/C86)-1)*100 -> 0.50985391 | F87: =C87-C83 -> 269000 | G87: =((C87/C83)-1)*100 -> 2.6948507
B88: Sep | C88: 11059000 | D88: =C88-C87 -> 808000 | E88: =((C88/C87)-1)*100 -> 7.8821578 | F88: =C88-C84 -> -363000 | G88: =((C88/C84)-1)*100 -> -3.1780774
B89: Dec | C89: 20889000 | D89: =C89-C88 -> 9830000 | E89: =((C89/C88)-1)*100 -> 88.886879 | F89: =C89-C85 -> 2420000 | G89: =((C89/C85)-1)*100 -> 13.103038
A90: 2020 | B90: Mar | C90: 10577000 | D90: =C90-C89 -> -10312000 | E90: =((C90/C89)-1)*100 -> -49.365695 | F90: =C90-C86 -> 378000 | G90: =((C90/C86)-1)*100 -> 3.7062457
B91: Jun | C91: 10319000 | D91: =C91-C90 -> -258000 | E91: =((C91/C90)-1)*100 -> -2.439255 | F91: =C91-C87 -> 68000 | G91: =((C91/C87)-1)*100 -> 0.66334992
B92: Sep | C92: 10455000 | D92: =C92-C91 -> 136000 | E92: =((C92/C91)-1)*100 -> 1.3179572 | F92: =C92-C88 -> -604000 | G92: =((C92/C88)-1)*100 -> -5.461615
B93: Dec | C93: 17663000 | D93: =C93-C92 -> 7208000 | E93: =((C93/C92)-1)*100 -> 68.943089 | F93: =C93-C89 -> -3226000 | G93: =((C93/C89)-1)*100 -> -15.443535
A94: 2021 | B94: Mar | C94: 11446000 | D94: =C94-C93 -> -6217000 | E94: =((C94/C93)-1)*100 -> -35.197871 | F94: =C94-C90 -> 869000 | G94: =((C94/C90)-1)*100 -> 8.2159402
B95: Jun | C95: 11938000 | D95: =C95-C94 -> 492000 | E95: =((C95/C94)-1)*100 -> 4.2984449 | F95: =C95-C91 -> 1619000 | G95: =((C95/C91)-1)*100 -> 15.689505
B96: Sep | C96: 11644000 | D96: =C96-C95 -> -294000 | E96: =((C96/C95)-1)*100 -> -2.4627241 | F96: =C96-C92 -> 1189000 | G96: =((C96/C92)-1)*100 -> 11.372549
B97: Dec | C97: 20578000 | D97: =C97-C96 -> 8934000 | E97: =((C97/C96)-1)*100 -> 76.726211 | F97: =C97-C93 -> 2915000 | G97: =((C97/C93)-1)*100 -> 16.503425
A98: 2022 | B98: Mar | C98: 12025000 | D98: =C98-C97 -> -8553000 | E98: =((C98/C97)-1)*100 -> -41.563806 | F98: =C98-C94 -> 579000 | G98: =((C98/C94)-1)*100 -> 5.0585357
B99: Jun | C99: 14496000 | D99: =C99-C98 -> 2471000 | E99: =((C99/C98)-1)*100 -> 20.548857 | F99: =C99-C95 -> 2558000 | G99: =((C99/C95)-1)*100 -> 21.427375
B100: Sep | C100: 12582000 | D100: =C100-C99 -> -1914000 | E100: =((C100/C99)-1)*100 -> -13.203642 | F100: =C100-C96 -> 938000 | G100: =((C100/C96)-1)*100 -> 8.055651
B101: Dec | C101: 22357000 | D101: =C101-C100 -> 9775000 | E101: =((C101/C100)-1)*100 -> 77.690351 | F101: =C101-C97 -> 1779000 | G101: =((C101/C97)-1)*100 -> 8.645155
A102: 2023 | B102: Mar | C102: 14041000 | D102: =C102-C101 -> -8316000 | E102: =((C102/C101)-1)*100 -> -37.196404 | F102: =C102-C98 -> 2016000 | G102: =((C102/C98)-1)*100 -> 16.765073
B103: Jun | C103: 13249000 | D103: =C103-C102 -> -792000 | E103: =((C103/C102)-1)*100 -> -5.6406239 | F103: =C103-C99 -> -1247000 | G103: =((C103/C99)-1)*100 -> -8.6023731
B104: Sep | C104: 17008000 | D104: =C104-C103 -> 3759000 | E104: =((C104/C103)-1)*100 -> 28.371953 | F104: =C104-C100 -> 4426000 | G104: =((C104/C100)-1)*100 -> 35.177237
B105: Dec | C105: 25248000 | D105: =C105-C104 -> 8240000 | E105: =((C105/C104)-1)*100 -> 48.447789 | F105: =C105-C101 -> 2891000 | G105: =((C105/C101)-1)*100 -> 12.931073
A106: 2024 | B106: Mar | C106: 14781000 | D106: =C106-C105 -> -10467000 | E106: =((C106/C105)-1)*100 -> -41.456749 | F106: =C106-C102 -> 740000 | G106: =((C106/C102)-1)*100 -> 5.2702799
B107: Jun | C107: 13996000 | D107: =C107-C106 -> -785000 | E107: =((C107/C106)-1)*100 -> -5.3108721 | F107: =C107-C103 -> 747000 | G107: =((C107/C103)-1)*100 -> 5.6381614
B108: Sep | C108: 15882000 | D108: =C108-C107 -> 1886000 | E108: =((C108/C107)-1)*100 -> 13.475279 | F108: =C108-C104 -> -1126000 | G108: =((C108/C104)-1)*100 -> -6.6204139
B109: Dec | C109: 25774000 | D109: =C109-C108 -> 9892000 | E109: =((C109/C108)-1)*100 -> 62.284347 | F109: =C109-C105 -> 526000 | G109: =((C109/C105)-1)*100 -> 2.0833333
...
