Workbook

Sheet TotalEarnings
A1: Table 1: Gross earnings (thousand)
A3: Year | B3: Quarter | C3: Gross earnings | D3: Change in gross earnings | E3: % change in gross earnings | F3: Change in gross earnings | G3: % change in gross earnings
D4: Quarterly | F4: Annual
A5: 2018 | B5: Jun | C5: =C44+C83+C122 -> 657451000 | D5: - | E5: - | F5: - | G5: -
B6: Sep | C6: =C45+C84+C123 -> 690882000 | D6: =C6-C5 -> 33431000 | E6: =((C6/C5)-1)*100 -> 5.0849417 | F6: - | G6: -
B7: Dec | C7: =C46+C85+C124 -> 738526000 | D7: =C7-C6 -> 47644000 | E7: =((C7/C6)-1)*100 -> 6.8961125 | F7: - | G7: -
A8: 2019 | B8: Mar | C8: =C47+C86+C125 -> 700039000 | D8: =C8-C7 -> -38487000 | E8: =((C8/C7)-1)*100 -> -5.2113263 | F8: - | G8: -
B9: Jun | C9: =C48+C87+C126 -> 711042000 | D9: =C9-C8 -> 11003000 | E9: =((C9/C8)-1)*100 -> 1.5717696 | F9: =C9-C5 -> 53591000 | G9: =((C9/C5)-1)*100 -> 8.1513299
B10: Sep | C10: =C49+C88+C127 -> 729087000 | D10: =C10-C9 -> 18045000 | E10: =((C10/C9)-1)*100 -> 2.5378248 | F10: =C10-C6 -> 38205000 | G10: =((C10/C6)-1)*100 -> 5.5298879
B11: Dec | C11: =C50+C89+C128 -> 790986000 | D11: =C11-C10 -> 61899000 | E11: =((C11/C10)-1)*100 -> 8.4899333 | F11: =C11-C7 -> 52460000 | G11: =((C11/C7)-1)*100 -> 7.1033383
A12: 2020 | B12: Mar | C12: =C51+C90+C129 -> 741954000 | D12: =C12-C11 -> -49032000 | E12: =((C12/C11)-1)*100 -> -6.1988455 | F12: =C12-C8 -> 41915000 | G12: =((C12/C8)-1)*100 -> 5.9875236
B13: Jun | C13: =C52+C91+C130 -> 657604000 | D13: =C13-C12 -> -84350000 | E13: =((C13/C12)-1)*100 -> -11.368629 | F13: =C13-C9 -> -53438000 | G13: =((C13/C9)-1)*100 -> -7.5154492
B14: Sep | C14: =C53+C92+C131 -> 699863000 | D14: =C14-C13 -> 42259000 | E14: =((C14/C13)-1)*100 -> 6.4262079 | F14: =C14-C10 -> -29224000 | G14: =((C14/C10)-1)*100 -> -4.0083008
B15: Dec | C15: =C54+C93+C132 -> 775613000 | D15: =C15-C14 -> 75750000 | E15: =((C15/C14)-1)*100 -> 10.823547 | F15: =C15-C11 -> -15373000 | G15: =((C15/C11)-1)*100 -> -1.9435237
A16: 2021 | B16: Mar | C16: =C55+C94+C133 -> 742485000 | D16: =C16-C15 -> -33128000 | E16: =((C16/C15)-1)*100 -> -4.2712023 | F16: =C16-C12 -> 531000 | G16: =((C16/C12)-1)*100 -> 0.071567779
B17: Jun | C17: =C56+C95+C134 -> 763422000 | D17: =C17-C16 -> 20937000 | E17: =((C17/C16)-1)*100 -> 2.8198549 | F17: =C17-C13 -> 105818000 | G17: =((C17/C13)-1)*100 -> 16.091447
B18: Sep | C18: =C57+C96+C135 -> 805831000 | D18: =C18-C17 -> 42409000 | E18: =((C18/C17)-1)*100 -> 5.5551189 | F18: =C18-C14 -> 105968000 | G18: =((C18/C14)-1)*100 -> 15.141249
B19: Dec | C19: =C58+C97+C136 -> 867343000 | D19: =C19-C18 -> 61512000 | E19: =((C19/C18)-1)*100 -> 7.6333623 | F19: =C19-C15 -> 91730000 | G19: =((C19/C15)-1)*100 -> 11.826774
A20: 2022 | B20: Mar | C20: =C59+C98+C137 -> 827907000 | D20: =C20-C19 -> -39436000 | E20: =((C20/C19)-1)*100 -> -4.5467595 | F20: =C20-C16 -> 85422000 | G20: =((C20/C16)-1)*100 -> 11.504879
B21: Jun | C21: =C60+C99+C138 -> 840299000 | D21: =C21-C20 -> 12392000 | E21: =((C21/C20)-1)*100 -> 1.4967865 | F21: =C21-C17 -> 76877000 | G21: =((C21/C17)-1)*100 -> 10.070053
B22: Sep | C22: =C61+C100+C139 -> 866288000 | D22: =C22-C21 -> 25989000 | E22: =((C22/C21)-1)*100 -> 3.0928277 | F22: =C22-C18 -> 60457000 | G22: =((C22/C18)-1)*100 -> 7.5024416
B23: Dec | C23: =C62+C101+C140 -> 954001000 | D23: =C23-C22 -> 87713000 | E23: =((C23/C22)-1)*100 -> 10.125155 | F23: =C23-C19 -> 86658000 | G23: =((C23/C19)-1)*100 -> 9.991203
A24: 2023 | B24: Mar | C24: =C63+C102+C141 -> 914464000 | D24: =C24-C23 -> -39537000 | E24: =((C24/C23)-1)*100 -> -4.1443353 | F24: =C24-C20 -> 86557000 | G24: =((C24/C20)-1)*100 -> 10.454918
B25: Jun | C25: =C64+C103+C142 -> 917068000 | D25: =C25-C24 -> 2604000 | E25: =((C25/C24)-1)*100 -> 0.28475697 | F25: =C25-C21 -> 76769000 | G25: =((C25/C21)-1)*100 -> 9.1359147
B26: Sep | C26: =C65+C104+C143 -> 941468000 | D26: =C26-C25 -> 24400000 | E26: =((C26/C25)-1)*100 -> 2.6606533 | F26: =C26-C22 -> 75180000 | G26: =((C26/C22)-1)*100 -> 8.6784072
B27: Dec | C27: =C66+C105+C144 -> 993012000 | D27: =C27-C26 -> 51544000 | E27: =((C27/C26)-1)*100 -> 5.4748542 | F27: =C27-C23 -> 39011000 | G27: =((C27/C23)-1)*100 -> 4.0891991
A28: 2024 | B28: Mar | C28: =C67+C106+C145 -> 956997000 | D28: =C28-C27 -> -36015000 | E28: =((C28/C27)-1)*100 -> -3.6268444 | F28: =C28-C24 -> 42533000 | G28: =((C28/C24)-1)*100 -> 4.6511399
B29: Jun | C29: =C68+C107+C146 -> 954090000 | D29: =C29-C28 -> -2907000 | E29: =((C29/C28)-1)*100 -> -0.30376271 | F29: =C29-C25 -> 37022000 | G29: =((C29/C25)-1)*100 -> 4.0369962
B30: Sep | C30: =C69+C108+C147 -> 969420000 | D30: =C30-C29 -> 15330000 | E30: =((C30/C29)-1)*100 -> 1.6067667 | F30: =C30-C26 -> 27952000 | G30: =((C30/C26)-1)*100 -> 2.9689804
B31: Dec | C31: =C70+C109+C148 -> 1030492000 | D31: =C31-C30 -> 61072000 | E31: =((C31/C30)-1)*100 -> 6.2998494 | F31: =C31-C27 -> 37480000 | G31: =((C31/C27)-1)*100 -> 3.7743753
A32: 2025 | B32: Mar | C32: =C71+C110+C149 -> 984661000 | D32: =C32-C31 -> -45831000 | E32: =((C32/C31)-1)*100 -> -4.4474872 | F32: =C32-C28 -> 27664000 | G32: =((C32/C28)-1)*100 -> 2.8907092
B33: Jun | C33: =C72+C111+C150 -> 989956000 | D33: =C33-C32 -> 5295000 | E33: =((C33/C32)-1)*100 -> 0.53774852 | F33: =C33-C29 -> 35866000 | G33: =((C33/C29)-1)*100 -> 3.7591841
B34: Sep | C34: =C73+C112+C151 -> 1005380000 | D34: =C34-C33 -> 15424000 | E34: =((C34/C33)-1)*100 -> 1.558049 | F34: =C34-C30 -> 35960000 | G34: =((C34/C30)-1)*100 -> 3.7094345
B35: Dec | C35: =C74+C113+C152 -> 1079444000 | D35: =C35-C34 -> 74064000 | E35: =((C35/C34)-1)*100 -> 7.3667668 | F35: =C35-C31 -> 48952000 | G35: =((C35/C31)-1)*100 -> 4.7503523
A36: 2026 | B36: Mar* | C36: =C75+C114+C153 -> 1029907000 | D36: =C36-C35 -> -49537000 | E36: =((C36/C35)-1)*100 -> -4.5891218 | F36: =C36-C32 -> 45246000 | G36: =((C36/C32)-1)*100 -> 4.595084
B37: Jun | C37: =C76+C115+C154 -> 1025061000 | D37: =C37-C36 -> -4846000 | E37: =((C37/C36)-1)*100 -> -0.47052792 | F37: =C37-C33 -> 35105000 | G37: =((C37/C33)-1)*100 -> 3.5461172
A42: Year | B42: Quarter | C42: Basic Salary/Wages | D42: Change in basic salary/wages | E42: % change in basic salary/wages | F42: Change in basic salary/wages | G42: % change in basic salary/wages
D43: Quarterly | F43: Annual
A44: 2018 | B44: Jun | C44: ='2-Mining'!C5+'3-Manufacturing'!C44+'4-Electricity'!C44+'5-Construction'!C44+'6-Trade'!C44+'7-Transport'!C44+'8-Finance'!C44+'9-Community'!C44 -> 604509000 | D44: - | E44: - | F44: - | G44: -
B45: Sep | C45: ='2-Mining'!C6+'3-Manufacturing'!C45+'4-Electricity'!C45+'5-Construction'!C45+'6-Trade'!C45+'7-Transport'!C45+'8-Finance'!C45+'9-Community'!C45 -> 631736000 | D45: =C45-C44 -> 27227000 | E45: =((C45/C44)-1)*100 -> 4.5039859 | F45: - | G45: -
...

Sheet 2-Mining
A1: Table 2 - Mining (thousand)
A3: Year | B3: Quarter | C3: Total gross earnings | D3: Change in gross earnings | E3: % change in gross earnings | F3: Change in gross earnings | G3: % change in gross earnings
D4: Quarterly | F4: Annual
A5: 2018 | B5: Jun | C5: 31902000 | D5: - | E5: - | F5: - | G5: -
B6: Sep | C6: 33754000 | D6: 1852000 | E6: 5.8052787 | F6: - | G6: -
B7: Dec | C7: 34427000 | D7: 673000 | E7: 1.9938378 | F7: - | G7: -
A8: 2019 | B8: Mar | C8: 33570000 | D8: -857000 | E8: -2.4893252 | F8: - | G8: -
B9: Jun | C9: 34640000 | D9: 1070000 | E9: 3.1873697 | F9: 2738000 | G9: 8.582534
B10: Sep | C10: 37020000 | D10: 2380000 | E10: 6.8706697 | F10: 3266000 | G10: 9.6758903
B11: Dec | C11: 37891000 | D11: 871000 | E11: 2.3527823 | F11: 3464000 | G11: 10.06187
A12: 2020 | B12: Mar | C12: 37903000 | D12: 12000 | E12: 0.03166979 | F12: 4333000 | G12: 12.907358
B13: Jun | C13: 33899000 | D13: -4004000 | E13: -10.563808 | F13: -741000 | G13: -2.1391455
B14: Sep | C14: 38484000 | D14: 4585000 | E14: 13.525473 | F14: 1464000 | G14: 3.9546191
B15: Dec | C15: 39355000 | D15: 871000 | E15: 2.2632782 | F15: 1464000 | G15: 3.8637143
A16: 2021 | B16: Mar | C16: 39646000 | D16: 291000 | E16: 0.7394232 | F16: 1743000 | G16: 4.5985806
B17: Jun | C17: 40076000 | D17: 430000 | E17: 1.0845987 | F17: 6177000 | G17: 18.221776
B18: Sep | C18: 43583000 | D18: =C18-C17 -> 3507000 | E18: =((C18/C17)-1)*100 -> 8.7508733 | F18: =C18-C14 -> 5099000 | G18: =((C18/C14)-1)*100 -> 13.249662
B19: Dec | C19: 41659000 | D19: =C19-C18 -> -1924000 | E19: =((C19/C18)-1)*100 -> -4.4145653 | F19: =C19-C15 -> 2304000 | G19: =((C19/C15)-1)*100 -> 5.8544022
A20: 2022 | B20: Mar | C20: 41475000 | D20: =C20-C19 -> -184000 | E20: =((C20/C19)-1)*100 -> -0.44168127 | F20: =C20-C16 -> 1829000 | G20: =((C20/C16)-1)*100 -> 4.613328
B21: Jun | C21: 42537000 | D21: =C21-C20 -> 1062000 | E21: =((C21/C20)-1)*100 -> 2.5605787 | F21: =C21-C17 -> 2461000 | G21: =((C21/C17)-1)*100 -> 6.1408324
B22: Sep | C22: 44553000 | D22: =C22-C21 -> 2016000 | E22: =((C22/C21)-1)*100 -> 4.7394033 | F22: =C22-C18 -> 970000 | G22: =((C22/C18)-1)*100 -> 2.2256384
B23: Dec | C23: 45605000 | D23: =C23-C22 -> 1052000 | E23: =((C23/C22)-1)*100 -> 2.3612327 | F23: =C23-C19 -> 3946000 | G23: =((C23/C19)-1)*100 -> 9.4721429
A24: 2023 | B24: Mar | C24: 46089000 | D24: =C24-C23 -> 484000 | E24: =((C24/C23)-1)*100 -> 1.0612871 | F24: =C24-C20 -> 4614000 | G24: =((C24/C20)-1)*100 -> 11.124774
B25: Jun | C25: 46369000 | D25: =C25-C24 -> 280000 | E25: =((C25/C24)-1)*100 -> 0.60752023 | F25: =C25-C21 -> 3832000 | G25: =((C25/C21)-1)*100 -> 9.0086278
B26: Sep | C26: 48564000 | D26: =C26-C25 -> 2195000 | E26: =((C26/C25)-1)*100 -> 4.7337661 | F26: =C26-C22 -> 4011000 | G26: =((C26/C22)-1)*100 -> 9.0027608
B27: Dec | C27: 48985000 | D27: =C27-C26 -> 421000 | E27: =((C27/C26)-1)*100 -> 0.86689729 | F27: =C27-C23 -> 3380000 | G27: =((C27/C23)-1)*100 -> 7.411468
A28: 2024 | B28: Mar | C28: 48196000 | D28: =C28-C27 -> -789000 | E28: =((C28/C27)-1)*100 -> -1.6106972 | F28: =C28-C24 -> 2107000 | G28: =((C28/C24)-1)*100 -> 4.5715898
B29: Jun | C29: 48389000 | D29: =C29-C28 -> 193000 | E29: =((C29/C28)-1)*100 -> 0.40044817 | F29: =C29-C25 -> 2020000 | G29: =((C29/C25)-1)*100 -> 4.3563588
B30: Sep | C30: 49853000 | D30: =C30-C29 -> 1464000 | E30: =((C30/C29)-1)*100 -> 3.025481 | F30: =C30-C26 -> 1289000 | G30: =((C30/C26)-1)*100 -> 2.6542295
B31: Dec | C31: 48848000 | D31: =C31-C30 -> -1005000 | E31: =((C31/C30)-1)*100 -> -2.0159268 | F31: =C31-C27 -> -137000 | G31: =((C31/C27)-1)*100 -> -0.27967745
A32: 2025 | B32: Mar | C32: 48718000 | D32: =C32-C31 -> -130000 | E32: =((C32/C31)-1)*100 -> -0.26613167 | F32: =C32-C28 -> 522000 | G32: =((C32/C28)-1)*100 -> 1.0830774
B33: Jun | C33: 49816000 | D33: =C33-C32 -> 1098000 | E33: =((C33/C32)-1)*100 -> 2.2537871 | F33: =C33-C29 -> 1427000 | G33: =((C33/C29)-1)*100 -> 2.9490173
B34: Sep | C34: 52326000 | D34: =C34-C33 -> 2510000 | E34: =((C34/C33)-1)*100 -> 5.0385418 | F34: =C34-C30 -> 2473000 | G34: =((C34/C30)-1)*100 -> 4.9605841
B35: Dec | C35: 52567000 | D35: =C35-C34 -> 241000 | E35: =((C35/C34)-1)*100 -> 0.46057409 | F35: =C35-C31 -> 3719000 | G35: =((C35/C31)-1)*100 -> 7.613413
A36: 2026 | B36: Mar* | C36: 53238000 | D36: =C36-C35 -> 671000 | E36: =((C36/C35)-1)*100 -> 1.2764662 | F36: =C36-C32 -> 4520000 | G36: =((C36/C32)-1)*100 -> 9.277885
B37: Jun | C37: 52480000 | D37: =C37-C36 -> -758000 | E37: =((C37/C36)-1)*100 -> -1.423795 | F37: =C37-C33 -> 2664000 | G37: =((C37/C33)-1)*100 -> 5.3476795

Sheet 3-Manufacturing
A1: Table 3 - Manufacturing (thousand)
A3: Year | B3: Quarter | C3: Total gross earnings | D3: Change in gross earnings | E3: % change in gross earnings | F3: Change in gross earnings | G3: % change in gross earnings
D4: Quarterly | F4: Annual
A5: 2018 | B5: Jun | C5: =C44+C83+C122 -> 67770000 | D5: - | E5: - | F5: - | G5: -
B6: Sep | C6: =C45+C84+C123 -> 69229000 | D6: =C6-C5 -> 1459000 | E6: =((C6/C5)-1)*100 -> 2.15287 | F6: - | G6: -
B7: Dec | C7: =C46+C85+C124 -> 78511000 | D7: =C7-C6 -> 9282000 | E7: =((C7/C6)-1)*100 -> 13.407676 | F7: - | G7: -
A8: 2019 | B8: Mar | C8: =C47+C86+C125 -> 70875000 | D8: =C8-C7 -> -7636000 | E8: =((C8/C7)-1)*100 -> -9.7260257 | F8: - | G8: -
B9: Jun | C9: =C48+C87+C126 -> 67338000 | D9: =C9-C8 -> -3537000 | E9: =((C9/C8)-1)*100 -> -4.9904762 | F9: =C9-C5 -> -432000 | G9: =((C9/C5)-1)*100 -> -0.6374502
B10: Sep | C10: =C49+C88+C127 -> 68463000 | D10: =C10-C9 -> 1125000 | E10: =((C10/C9)-1)*100 -> 1.6706763 | F10: =C10-C6 -> -766000 | G10: =((C10/C6)-1)*100 -> -1.1064727
B11: Dec | C11: =C50+C89+C128 -> 76432000 | D11: =C11-C10 -> 7969000 | E11: =((C11/C10)-1)*100 -> 11.639864 | F11: =C11-C7 -> -2079000 | G11: =((C11/C7)-1)*100 -> -2.6480366
A12: 2020 | B12: Mar | C12: =C51+C90+C129 -> 69064000 | D12: =C12-C11 -> -7368000 | E12: =((C12/C11)-1)*100 -> -9.6399414 | F12: =C12-C8 -> -1811000 | G12: =((C12/C8)-1)*100 -> -2.5552028
B13: Jun | C13: =C52+C91+C130 -> 57282000 | D13: =C13-C12 -> -11782000 | E13: =((C13/C12)-1)*100 -> -17.059539 | F13: =C13-C9 -> -10056000 | G13: =((C13/C9)-1)*100 -> -14.933618
B14: Sep | C14: =C53+C92+C131 -> 63468000 | D14: =C14-C13 -> 6186000 | E14: =((C14/C13)-1)*100 -> 10.799204 | F14: =C14-C10 -> -4995000 | G14: =((C14/C10)-1)*100 -> -7.2959117
B15: Dec | C15: =C54+C93+C132 -> 73490000 | D15: =C15-C14 -> 10022000 | E15: =((C15/C14)-1)*100 -> 15.790635 | F15: =C15-C11 -> -2942000 | G15: =((C15/C11)-1)*100 -> -3.8491731
A16: 2021 | B16: Mar | C16: =C55+C94+C133 -> 68232000 | D16: =C16-C15 -> -5258000 | E16: =((C16/C15)-1)*100 -> -7.1547149 | F16: =C16-C12 -> -832000 | G16: =((C16/C12)-1)*100 -> -1.2046797
B17: Jun | C17: =C56+C95+C134 -> 75286000 | D17: =C17-C16 -> 7054000 | E17: =((C17/C16)-1)*100 -> 10.338258 | F17: =C17-C13 -> 18004000 | G17: =((C17/C13)-1)*100 -> 31.430467
B18: Sep | C18: =C57+C96+C135 -> 76922000 | D18: =C18-C17 -> 1636000 | E18: =((C18/C17)-1)*100 -> 2.1730468 | F18: =C18-C14 -> 13454000 | G18: =((C18/C14)-1)*100 -> 21.198084
B19: Dec | C19: =C58+C97+C136 -> 87426000 | D19: =C19-C18 -> 10504000 | E19: =((C19/C18)-1)*100 -> 13.655391 | F19: =C19-C15 -> 13936000 | G19: =((C19/C15)-1)*100 -> 18.963124
A20: 2022 | B20: Mar | C20: =C59+C98+C137 -> 81461000 | D20: =C20-C19 -> -5965000 | E20: =((C20/C19)-1)*100 -> -6.8229131 | F20: =C20-C16 -> 13229000 | G20: =((C20/C16)-1)*100 -> 19.388264
B21: Jun | C21: =C60+C99+C138 -> 82273000 | D21: =C21-C20 -> 812000 | E21: =((C21/C20)-1)*100 -> 0.99679601 | F21: =C21-C17 -> 6987000 | G21: =((C21/C17)-1)*100 -> 9.2806099
B22: Sep | C22: =C61+C100+C139 -> 85208000 | D22: =C22-C21 -> 2935000 | E22: =((C22/C21)-1)*100 -> 3.5673915 | F22: =C22-C18 -> 8286000 | G22: =((C22/C18)-1)*100 -> 10.771951
B23: Dec | C23: =C62+C101+C140 -> 100429000 | D23: =C23-C22 -> 15221000 | E23: =((C23/C22)-1)*100 -> 17.863346 | F23: =C23-C19 -> 13003000 | G23: =((C23/C19)-1)*100 -> 14.87315
A24: 2023 | B24: Mar | C24: =C63+C102+C141 -> 90621000 | D24: =C24-C23 -> -9808000 | E24: =((C24/C23)-1)*100 -> -9.7661034 | F24: =C24-C20 -> 9160000 | G24: =((C24/C20)-1)*100 -> 11.244645
B25: Jun | C25: =C64+C103+C142 -> 91969000 | D25: =C25-C24 -> 1348000 | E25: =((C25/C24)-1)*100 -> 1.4875139 | F25: =C25-C21 -> 9696000 | G25: =((C25/C21)-1)*100 -> 11.785154
B26: Sep | C26: =C65+C104+C143 -> 92730000 | D26: =C26-C25 -> 761000 | E26: =((C26/C25)-1)*100 -> 0.82745273 | F26: =C26-C22 -> 7522000 | G26: =((C26/C22)-1)*100 -> 8.8278096
B27: Dec | C27: =C66+C105+C144 -> 105519000 | D27: =C27-C26 -> 12789000 | E27: =((C27/C26)-1)*100 -> 13.791653 | F27: =C27-C23 -> 5090000 | G27: =((C27/C23)-1)*100 -> 5.0682572
A28: 2024 | B28: Mar | C28: =C67+C106+C145 -> 94608000 | D28: =C28-C27 -> -10911000 | E28: =((C28/C27)-1)*100 -> -10.340318 | F28: =C28-C24 -> 3987000 | G28: =((C28/C24)-1)*100 -> 4.3996425
B29: Jun | C29: =C68+C107+C146 -> 95379000 | D29: =C29-C28 -> 771000 | E29: =((C29/C28)-1)*100 -> 0.81494165 | F29: =C29-C25 -> 3410000 | G29: =((C29/C25)-1)*100 -> 3.7077711
B30: Sep | C30: =C69+C108+C147 -> 94640000 | D30: =C30-C29 -> -739000 | E30: =((C30/C29)-1)*100 -> -0.77480368 | F30: =C30-C26 -> 1910000 | G30: =((C30/C26)-1)*100 -> 2.0597433
B31: Dec | C31: =C70+C109+C148 -> 108232000 | D31: =C31-C30 -> 13592000 | E31: =((C31/C30)-1)*100 -> 14.361792 | F31: =C31-C27 -> 2713000 | G31: =((C31/C27)-1)*100 -> 2.5711009
A32: 2025 | B32: Mar | C32: =C71+C110+C149 -> 97310000 | D32: =C32-C31 -> -10922000 | E32: =((C32/C31)-1)*100 -> -10.091285 | F32: =C32-C28 -> 2702000 | G32: =((C32/C28)-1)*100 -> 2.8559953
B33: Jun | C33: =C72+C111+C150 -> 97867000 | D33: =C33-C32 -> 557000 | E33: =((C33/C32)-1)*100 -> 0.57239749 | F33: =C33-C29 -> 2488000 | G33: =((C33/C29)-1)*100 -> 2.6085407
B34: Sep | C34: =C73+C112+C151 -> 99012000 | D34: =C34-C33 -> 1145000 | E34: =((C34/C33)-1)*100 -> 1.1699551 | F34: =C34-C30 -> 4372000 | G34: =((C34/C30)-1)*100 -> 4.6196112
B35: Dec | C35: =C74+C113+C152 -> 111247000 | D35: =C35-C34 -> 12235000 | E35: =((C35/C34)-1)*100 -> 12.357088 | F35: =C35-C31 -> 3015000 | G35: =((C35/C31)-1)*100 -> 2.7856826
A36: 2026 | B36: Mar* | C36: =C75+C114+C153 -> 98828000 | D36: =C36-C35 -> -12419000 | E36: =((C36/C35)-1)*100 -> -11.163447 | F36: =C36-C32 -> 1518000 | G36: =((C36/C32)-1)*100 -> 1.559963
B37: Jun | C37: =C76+C115+C154 -> 99825000 | D37: =C37-C36 -> 997000 | E37: =((C37/C36)-1)*100 -> 1.0088234 | F37: =C37-C33 -> 1958000 | G37: =((C37/C33)-1)*100 -> 2.0006744
A42: Year | B42: Quarter | C42: Basic Salary/Wages | D42: Change in basic salary/wages | E42: % change in basic salary/wages | F42: Change in basic salary/wages | G42: % change in basic salary/wages
D43: Quarterly | F43: Annual
A44: 2018 | B44: Jun | C44: 61176000 | D44: - | E44: - | F44: - | G44: -
B45: Sep | C45: 63042000 | D45: =C45-C44 -> 1866000 | E45: =((C45/C44)-1)*100 -> 3.0502158 | F45: - | G45: -
...

Sheet 4-Electricity
A1: Table 4 - Electricity (thousand)
A3: Year | B3: Quarter | C3: Total gross earnings | D3: Change in gross earnings | E3: % change in gross earnings | F3: Change in gross earnings | G3: % change in gross earnings
D4: Quarterly | F4: Annual
A5: 2018 | B5: Jun | C5: =C44+C83+C122 -> 7931000 | D5: - | E5: - | F5: - | G5: -
B6: Sep | C6: =C45+C84+C123 -> 8143000 | D6: =C6-C5 -> 212000 | E6: =((C6/C5)-1)*100 -> 2.6730551 | F6: - | G6: -
B7: Dec | C7: =C46+C85+C124 -> 9731000 | D7: =C7-C6 -> 1588000 | E7: =((C7/C6)-1)*100 -> 19.501412 | F7: - | G7: -
A8: 2019 | B8: Mar | C8: =C47+C86+C125 -> 8115000 | D8: =C8-C7 -> -1616000 | E8: =((C8/C7)-1)*100 -> -16.606721 | F8: - | G8: -
B9: Jun | C9: =C48+C87+C126 -> 8073000 | D9: =C9-C8 -> -42000 | E9: =((C9/C8)-1)*100 -> -0.51756007 | F9: =C9-C5 -> 142000 | G9: =((C9/C5)-1)*100 -> 1.7904426
B10: Sep | C10: =C49+C88+C127 -> 8228000 | D10: =C10-C9 -> 155000 | E10: =((C10/C9)-1)*100 -> 1.9199802 | F10: =C10-C6 -> 85000 | G10: =((C10/C6)-1)*100 -> 1.0438413
B11: Dec | C11: =C50+C89+C128 -> 9770000 | D11: =C11-C10 -> 1542000 | E11: =((C11/C10)-1)*100 -> 18.740885 | F11: =C11-C7 -> 39000 | G11: =((C11/C7)-1)*100 -> 0.40078101
A12: 2020 | B12: Mar | C12: =C51+C90+C129 -> 8240000 | D12: =C12-C11 -> -1530000 | E12: =((C12/C11)-1)*100 -> -15.660184 | F12: =C12-C8 -> 125000 | G12: =((C12/C8)-1)*100 -> 1.5403574
B13: Jun | C13: =C52+C91+C130 -> 8018000 | D13: =C13-C12 -> -222000 | E13: =((C13/C12)-1)*100 -> -2.6941748 | F13: =C13-C9 -> -55000 | G13: =((C13/C9)-1)*100 -> -0.68128329
B14: Sep | C14: =C53+C92+C131 -> 8405000 | D14: =C14-C13 -> 387000 | E14: =((C14/C13)-1)*100 -> 4.8266401 | F14: =C14-C10 -> 177000 | G14: =((C14/C10)-1)*100 -> 2.1511911
B15: Dec | C15: =C54+C93+C132 -> 9687000 | D15: =C15-C14 -> 1282000 | E15: =((C15/C14)-1)*100 -> 15.252826 | F15: =C15-C11 -> -83000 | G15: =((C15/C11)-1)*100 -> -0.84953941
A16: 2021 | B16: Mar | C16: =C55+C94+C133 -> 8542000 | D16: =C16-C15 -> -1145000 | E16: =((C16/C15)-1)*100 -> -11.819965 | F16: =C16-C12 -> 302000 | G16: =((C16/C12)-1)*100 -> 3.6650485
B17: Jun | C17: =C56+C95+C134 -> 8672000 | D17: =C17-C16 -> 130000 | E17: =((C17/C16)-1)*100 -> 1.5218918 | F17: =C17-C13 -> 654000 | G17: =((C17/C13)-1)*100 -> 8.1566475
B18: Sep | C18: =C57+C96+C135 -> 8286000 | D18: =C18-C17 -> -386000 | E18: =((C18/C17)-1)*100 -> -4.451107 | F18: =C18-C14 -> -119000 | G18: =((C18/C14)-1)*100 -> -1.4158239
B19: Dec | C19: =C58+C97+C136 -> 9864000 | D19: =C19-C18 -> 1578000 | E19: =((C19/C18)-1)*100 -> 19.044171 | F19: =C19-C15 -> 177000 | G19: =((C19/C15)-1)*100 -> 1.8271911
A20: 2022 | B20: Mar | C20: =C59+C98+C137 -> 8706000 | D20: =C20-C19 -> -1158000 | E20: =((C20/C19)-1)*100 -> -11.739659 | F20: =C20-C16 -> 164000 | G20: =((C20/C16)-1)*100 -> 1.9199251
B21: Jun | C21: =C60+C99+C138 -> 8649000 | D21: =C21-C20 -> -57000 | E21: =((C21/C20)-1)*100 -> -0.65472088 | F21: =C21-C17 -> -23000 | G21: =((C21/C17)-1)*100 -> -0.2652214
B22: Sep | C22: =C61+C100+C139 -> 8784000 | D22: =C22-C21 -> 135000 | E22: =((C22/C21)-1)*100 -> 1.5608741 | F22: =C22-C18 -> 498000 | G22: =((C22/C18)-1)*100 -> 6.0101376
B23: Dec | C23: =C62+C101+C140 -> 10957000 | D23: =C23-C22 -> 2173000 | E23: =((C23/C22)-1)*100 -> 24.73816 | F23: =C23-C19 -> 1093000 | G23: =((C23/C19)-1)*100 -> 11.080697
A24: 2023 | B24: Mar | C24: =C63+C102+C141 -> 9675000 | D24: =C24-C23 -> -1282000 | E24: =((C24/C23)-1)*100 -> -11.700283 | F24: =C24-C20 -> 969000 | G24: =((C24/C20)-1)*100 -> 11.130255
B25: Jun | C25: =C64+C103+C142 -> 9238000 | D25: =C25-C24 -> -437000 | E25: =((C25/C24)-1)*100 -> -4.5167959 | F25: =C25-C21 -> 589000 | G25: =((C25/C21)-1)*100 -> 6.8100358
B26: Sep | C26: =C65+C104+C143 -> 9615000 | D26: =C26-C25 -> 377000 | E26: =((C26/C25)-1)*100 -> 4.0809699 | F26: =C26-C22 -> 831000 | G26: =((C26/C22)-1)*100 -> 9.4603825
B27: Dec | C27: =C66+C105+C144 -> 11338000 | D27: =C27-C26 -> 1723000 | E27: =((C27/C26)-1)*100 -> 17.919917 | F27: =C27-C23 -> 381000 | G27: =((C27/C23)-1)*100 -> 3.4772292
A28: 2024 | B28: Mar | C28: =C67+C106+C145 -> 10234000 | D28: =C28-C27 -> -1104000 | E28: =((C28/C27)-1)*100 -> -9.737167 | F28: =C28-C24 -> 559000 | G28: =((C28/C24)-1)*100 -> 5.7777778
B29: Jun | C29: =C68+C107+C146 -> 10155000 | D29: =C29-C28 -> -79000 | E29: =((C29/C28)-1)*100 -> -0.77193668 | F29: =C29-C25 -> 917000 | G29: =((C29/C25)-1)*100 -> 9.926391
B30: Sep | C30: =C69+C108+C147 -> 10466000 | D30: =C30-C29 -> 311000 | E30: =((C30/C29)-1)*100 -> 3.0625308 | F30: =C30-C26 -> 851000 | G30: =((C30/C26)-1)*100 -> 8.850754
B31: Dec | C31: =C70+C109+C148 -> 12990000 | D31: =C31-C30 -> 2524000 | E31: =((C31/C30)-1)*100 -> 24.116186 | F31: =C31-C27 -> 1652000 | G31: =((C31/C27)-1)*100 -> 14.570471
A32: 2025 | B32: Mar | C32: =C71+C110+C149 -> 10861000 | D32: =C32-C31 -> -2129000 | E32: =((C32/C31)-1)*100 -> -16.38953 | F32: =C32-C28 -> 627000 | G32: =((C32/C28)-1)*100 -> 6.1266367
B33: Jun | C33: =C72+C111+C150 -> 11464000 | D33: =C33-C32 -> 603000 | E33: =((C33/C32)-1)*100 -> 5.551975 | F33: =C33-C29 -> 1309000 | G33: =((C33/C29)-1)*100 -> 12.890202
B34: Sep | C34: =C73+C112+C151 -> 11677000 | D34: =C34-C33 -> 213000 | E34: =((C34/C33)-1)*100 -> 1.8579902 | F34: =C34-C30 -> 1211000 | G34: =((C34/C30)-1)*100 -> 11.570801
B35: Dec | C35: =C74+C113+C152 -> 14267000 | D35: =C35-C34 -> 2590000 | E35: =((C35/C34)-1)*100 -> 22.180355 | F35: =C35-C31 -> 1277000 | G35: =((C35/C31)-1)*100 -> 9.830639
A36: 2026 | B36: Mar* | C36: =C75+C114+C153 -> 12278000 | D36: =C36-C35 -> -1989000 | E36: =((C36/C35)-1)*100 -> -13.941263 | F36: =C36-C32 -> 1417000 | G36: =((C36/C32)-1)*100 -> 13.046681
B37: Jun | C37: =C76+C115+C154 -> 12285000 | D37: =C37-C36 -> 7000 | E37: =((C37/C36)-1)*100 -> 0.057012543 | F37: =C37-C33 -> 821000 | G37: =((C37/C33)-1)*100 -> 7.1615492
A42: Year | B42: Quarter | C42: Basic Salary/Wages | D42: Change in basic salary/wages | E42: % change in basic salary/wages | F42: Change in basic salary/wages | G42: % change in basic salary/wages
D43: Quarterly | F43: Annual
A44: 2018 | B44: Jun | C44: 7323000 | D44: - | E44: - | F44: - | G44: -
B45: Sep | C45: 7597000 | D45: =C45-C44 -> 274000 | E45: =((C45/C44)-1)*100 -> 3.7416359 | F45: - | G45: -
...

Sheet 5-Construction
A1: Table 5 - Construction (thousand)
A3: Year | B3: Quarter | C3: Total gross earnings | D3: Change in gross earnings | E3: % change in gross earnings | F3: Change in gross earnings | G3: % change in gross earnings
D4: Quarterly | F4: Annual
A5: 2018 | B5: Jun | C5: =C44+C83+C122 -> 33534000 | D5: - | E5: - | F5: - | G5: -
B6: Sep | C6: =C45+C84+C123 -> 33422000 | D6: =C6-C5 -> -112000 | E6: =((C6/C5)-1)*100 -> -0.33398938 | F6: - | G6: -
B7: Dec | C7: =C46+C85+C124 -> 38197000 | D7: =C7-C6 -> 4775000 | E7: =((C7/C6)-1)*100 -> 14.286997 | F7: - | G7: -
A8: 2019 | B8: Mar | C8: =C47+C86+C125 -> 33419000 | D8: =C8-C7 -> -4778000 | E8: =((C8/C7)-1)*100 -> -12.508836 | F8: - | G8: -
B9: Jun | C9: =C48+C87+C126 -> 34393000 | D9: =C9-C8 -> 974000 | E9: =((C9/C8)-1)*100 -> 2.9145097 | F9: =C9-C5 -> 859000 | G9: =((C9/C5)-1)*100 -> 2.5615793
B10: Sep | C10: =C49+C88+C127 -> 34260000 | D10: =C10-C9 -> -133000 | E10: =((C10/C9)-1)*100 -> -0.3867066 | F10: =C10-C6 -> 838000 | G10: =((C10/C6)-1)*100 -> 2.5073305
B11: Dec | C11: =C50+C89+C128 -> 38443000 | D11: =C11-C10 -> 4183000 | E11: =((C11/C10)-1)*100 -> 12.209574 | F11: =C11-C7 -> 246000 | G11: =((C11/C7)-1)*100 -> 0.64402964
A12: 2020 | B12: Mar | C12: =C51+C90+C129 -> 34320000 | D12: =C12-C11 -> -4123000 | E12: =((C12/C11)-1)*100 -> -10.724969 | F12: =C12-C8 -> 901000 | G12: =((C12/C8)-1)*100 -> 2.6960711
B13: Jun | C13: =C52+C91+C130 -> 24053000 | D13: =C13-C12 -> -10267000 | E13: =((C13/C12)-1)*100 -> -29.915501 | F13: =C13-C9 -> -10340000 | G13: =((C13/C9)-1)*100 -> -30.064257
B14: Sep | C14: =C53+C92+C131 -> 29808000 | D14: =C14-C13 -> 5755000 | E14: =((C14/C13)-1)*100 -> 23.926329 | F14: =C14-C10 -> -4452000 | G14: =((C14/C10)-1)*100 -> -12.994746
B15: Dec | C15: =C54+C93+C132 -> 33399000 | D15: =C15-C14 -> 3591000 | E15: =((C15/C14)-1)*100 -> 12.047101 | F15: =C15-C11 -> -5044000 | G15: =((C15/C11)-1)*100 -> -13.120724
A16: 2021 | B16: Mar | C16: =C55+C94+C133 -> 31192000 | D16: =C16-C15 -> -2207000 | E16: =((C16/C15)-1)*100 -> -6.6079823 | F16: =C16-C12 -> -3128000 | G16: =((C16/C12)-1)*100 -> -9.1142191
B17: Jun | C17: =C56+C95+C134 -> 33382000 | D17: =C17-C16 -> 2190000 | E17: =((C17/C16)-1)*100 -> 7.021031 | F17: =C17-C13 -> 9329000 | G17: =((C17/C13)-1)*100 -> 38.785183
B18: Sep | C18: =C57+C96+C135 -> 36799000 | D18: =C18-C17 -> 3417000 | E18: =((C18/C17)-1)*100 -> 10.236055 | F18: =C18-C14 -> 6991000 | G18: =((C18/C14)-1)*100 -> 23.453435
B19: Dec | C19: =C58+C97+C136 -> 39644000 | D19: =C19-C18 -> 2845000 | E19: =((C19/C18)-1)*100 -> 7.7311883 | F19: =C19-C15 -> 6245000 | G19: =((C19/C15)-1)*100 -> 18.698165
A20: 2022 | B20: Mar | C20: =C59+C98+C137 -> 36801000 | D20: =C20-C19 -> -2843000 | E20: =((C20/C19)-1)*100 -> -7.1713248 | F20: =C20-C16 -> 5609000 | G20: =((C20/C16)-1)*100 -> 17.982175
B21: Jun | C21: =C60+C99+C138 -> 40262000 | D21: =C21-C20 -> 3461000 | E21: =((C21/C20)-1)*100 -> 9.4046357 | F21: =C21-C17 -> 6880000 | G21: =((C21/C17)-1)*100 -> 20.60991
B22: Sep | C22: =C61+C100+C139 -> 40192000 | D22: =C22-C21 -> -70000 | E22: =((C22/C21)-1)*100 -> -0.17386121 | F22: =C22-C18 -> 3393000 | G22: =((C22/C18)-1)*100 -> 9.2203592
B23: Dec | C23: =C62+C101+C140 -> 46194000 | D23: =C23-C22 -> 6002000 | E23: =((C23/C22)-1)*100 -> 14.93332 | F23: =C23-C19 -> 6550000 | G23: =((C23/C19)-1)*100 -> 16.522046
A24: 2023 | B24: Mar | C24: =C63+C102+C141 -> 40525000 | D24: =C24-C23 -> -5669000 | E24: =((C24/C23)-1)*100 -> -12.272157 | F24: =C24-C20 -> 3724000 | G24: =((C24/C20)-1)*100 -> 10.11929
B25: Jun | C25: =C64+C103+C142 -> 43138000 | D25: =C25-C24 -> 2613000 | E25: =((C25/C24)-1)*100 -> 6.4478717 | F25: =C25-C21 -> 2876000 | G25: =((C25/C21)-1)*100 -> 7.143212
B26: Sep | C26: =C65+C104+C143 -> 42759000 | D26: =C26-C25 -> -379000 | E26: =((C26/C25)-1)*100 -> -0.87857573 | F26: =C26-C22 -> 2567000 | G26: =((C26/C22)-1)*100 -> 6.3868432
B27: Dec | C27: =C66+C105+C144 -> 47579000 | D27: =C27-C26 -> 4820000 | E27: =((C27/C26)-1)*100 -> 11.272481 | F27: =C27-C23 -> 1385000 | G27: =((C27/C23)-1)*100 -> 2.9982249
A28: 2024 | B28: Mar | C28: =C67+C106+C145 -> 41808000 | D28: =C28-C27 -> -5771000 | E28: =((C28/C27)-1)*100 -> -12.129301 | F28: =C28-C24 -> 1283000 | G28: =((C28/C24)-1)*100 -> 3.1659469
B29: Jun | C29: =C68+C107+C146 -> 43273000 | D29: =C29-C28 -> 1465000 | E29: =((C29/C28)-1)*100 -> 3.504114 | F29: =C29-C25 -> 135000 | G29: =((C29/C25)-1)*100 -> 0.31294914
B30: Sep | C30: =C69+C108+C147 -> 44214000 | D30: =C30-C29 -> 941000 | E30: =((C30/C29)-1)*100 -> 2.1745661 | F30: =C30-C26 -> 1455000 | G30: =((C30/C26)-1)*100 -> 3.4027924
B31: Dec | C31: =C70+C109+C148 -> 50619000 | D31: =C31-C30 -> 6405000 | E31: =((C31/C30)-1)*100 -> 14.486362 | F31: =C31-C27 -> 3040000 | G31: =((C31/C27)-1)*100 -> 6.3893735
A32: 2025 | B32: Mar | C32: =C71+C110+C149 -> 43522000 | D32: =C32-C31 -> -7097000 | E32: =((C32/C31)-1)*100 -> -14.020427 | F32: =C32-C28 -> 1714000 | G32: =((C32/C28)-1)*100 -> 4.0996938
B33: Jun | C33: =C72+C111+C150 -> 46031000 | D33: =C33-C32 -> 2509000 | E33: =((C33/C32)-1)*100 -> 5.7649005 | F33: =C33-C29 -> 2758000 | G33: =((C33/C29)-1)*100 -> 6.3734892
B34: Sep | C34: =C73+C112+C151 -> 46102000 | D34: =C34-C33 -> 71000 | E34: =((C34/C33)-1)*100 -> 0.15424388 | F34: =C34-C30 -> 1888000 | G34: =((C34/C30)-1)*100 -> 4.2701407
B35: Dec | C35: =C74+C113+C152 -> 51668000 | D35: =C35-C34 -> 5566000 | E35: =((C35/C34)-1)*100 -> 12.073229 | F35: =C35-C31 -> 1049000 | G35: =((C35/C31)-1)*100 -> 2.0723444
A36: 2026 | B36: Mar* | C36: =C75+C114+C153 -> 43195000 | D36: =C36-C35 -> -8473000 | E36: =((C36/C35)-1)*100 -> -16.398932 | F36: =C36-C32 -> -327000 | G36: =((C36/C32)-1)*100 -> -0.75134415
B37: Jun | C37: =C76+C115+C154 -> 44576000 | D37: =C37-C36 -> 1381000 | E37: =((C37/C36)-1)*100 -> 3.1971293 | F37: =C37-C33 -> -1455000 | G37: =((C37/C33)-1)*100 -> -3.1609133
A42: Year | B42: Quarter | C42: Basic Salary/Wages | D42: Change in basic salary/wages | E42: % change in basic salary/wages | F42: Change in basic salary/wages | G42: % change in basic salary/wages
D43: Quarterly | F43: Annual
A44: 2018 | B44: Jun | C44: 31074000 | D44: - | E44: - | F44: - | G44: -
B45: Sep | C45: 31464000 | D45: =C45-C44 -> 390000 | E45: =((C45/C44)-1)*100 -> 1.2550685 | F45: - | G45: -
...

Sheet 6-Trade
A1: Table 6 - Trade (thousand)
A3: Year | B3: Quarter | C3: Total gross earnings | D3: Change in gross earnings | E3: % change in gross earnings | F3: Change in gross earnings | G3: % change in gross earnings
D4: Quarterly | F4: Annual
A5: 2018 | B5: Jun | C5: =C44+C83+C122 -> 94840000 | D5: - | E5: - | F5: - | G5: -
B6: Sep | C6: =C45+C84+C123 -> 96514000 | D6: =C6-C5 -> 1674000 | E6: =((C6/C5)-1)*100 -> 1.765078 | F6: - | G6: -
B7: Dec | C7: =C46+C85+C124 -> 107521000 | D7: =C7-C6 -> 11007000 | E7: =((C7/C6)-1)*100 -> 11.404563 | F7: - | G7: -
A8: 2019 | B8: Mar | C8: =C47+C86+C125 -> 99934000 | D8: =C8-C7 -> -7587000 | E8: =((C8/C7)-1)*100 -> -7.056296 | F8: - | G8: -
B9: Jun | C9: =C48+C87+C126 -> 102090000 | D9: =C9-C8 -> 2156000 | E9: =((C9/C8)-1)*100 -> 2.1574239 | F9: =C9-C5 -> 7250000 | G9: =((C9/C5)-1)*100 -> 7.6444538
B10: Sep | C10: =C49+C88+C127 -> 103750000 | D10: =C10-C9 -> 1660000 | E10: =((C10/C9)-1)*100 -> 1.6260163 | F10: =C10-C6 -> 7236000 | G10: =((C10/C6)-1)*100 -> 7.4973579
B11: Dec | C11: =C50+C89+C128 -> 113814000 | D11: =C11-C10 -> 10064000 | E11: =((C11/C10)-1)*100 -> 9.700241 | F11: =C11-C7 -> 6293000 | G11: =((C11/C7)-1)*100 -> 5.8528101
A12: 2020 | B12: Mar | C12: =C51+C90+C129 -> 105915000 | D12: =C12-C11 -> -7899000 | E12: =((C12/C11)-1)*100 -> -6.940271 | F12: =C12-C8 -> 5981000 | G12: =((C12/C8)-1)*100 -> 5.9849501
B13: Jun | C13: =C52+C91+C130 -> 86049000 | D13: =C13-C12 -> -19866000 | E13: =((C13/C12)-1)*100 -> -18.75655 | F13: =C13-C9 -> -16041000 | G13: =((C13/C9)-1)*100 -> -15.712607
B14: Sep | C14: =C53+C92+C131 -> 95128000 | D14: =C14-C13 -> 9079000 | E14: =((C14/C13)-1)*100 -> 10.550965 | F14: =C14-C10 -> -8622000 | G14: =((C14/C10)-1)*100 -> -8.3103614
B15: Dec | C15: =C54+C93+C132 -> 108352000 | D15: =C15-C14 -> 13224000 | E15: =((C15/C14)-1)*100 -> 13.90127 | F15: =C15-C11 -> -5462000 | G15: =((C15/C11)-1)*100 -> -4.7990581
A16: 2021 | B16: Mar | C16: =C55+C94+C133 -> 103859000 | D16: =C16-C15 -> -4493000 | E16: =((C16/C15)-1)*100 -> -4.1466701 | F16: =C16-C12 -> -2056000 | G16: =((C16/C12)-1)*100 -> -1.9411792
B17: Jun | C17: =C56+C95+C134 -> 107174000 | D17: =C17-C16 -> 3315000 | E17: =((C17/C16)-1)*100 -> 3.1918274 | F17: =C17-C13 -> 21125000 | G17: =((C17/C13)-1)*100 -> 24.549966
B18: Sep | C18: =C57+C96+C135 -> 108452000 | D18: =C18-C17 -> 1278000 | E18: =((C18/C17)-1)*100 -> 1.1924534 | F18: =C18-C14 -> 13324000 | G18: =((C18/C14)-1)*100 -> 14.006391
B19: Dec | C19: =C58+C97+C136 -> 122843000 | D19: =C19-C18 -> 14391000 | E19: =((C19/C18)-1)*100 -> 13.269465 | F19: =C19-C15 -> 14491000 | G19: =((C19/C15)-1)*100 -> 13.374003
A20: 2022 | B20: Mar | C20: =C59+C98+C137 -> 119151000 | D20: =C20-C19 -> -3692000 | E20: =((C20/C19)-1)*100 -> -3.0054623 | F20: =C20-C16 -> 15292000 | G20: =((C20/C16)-1)*100 -> 14.723808
B21: Jun | C21: =C60+C99+C138 -> 122484000 | D21: =C21-C20 -> 3333000 | E21: =((C21/C20)-1)*100 -> 2.7972908 | F21: =C21-C17 -> 15310000 | G21: =((C21/C17)-1)*100 -> 14.285181
B22: Sep | C22: =C61+C100+C139 -> 124803000 | D22: =C22-C21 -> 2319000 | E22: =((C22/C21)-1)*100 -> 1.8933085 | F22: =C22-C18 -> 16351000 | G22: =((C22/C18)-1)*100 -> 15.076716
B23: Dec | C23: =C62+C101+C140 -> 141778000 | D23: =C23-C22 -> 16975000 | E23: =((C23/C22)-1)*100 -> 13.601436 | F23: =C23-C19 -> 18935000 | G23: =((C23/C19)-1)*100 -> 15.413984
A24: 2023 | B24: Mar | C24: =C63+C102+C141 -> 126038000 | D24: =C24-C23 -> -15740000 | E24: =((C24/C23)-1)*100 -> -11.101863 | F24: =C24-C20 -> 6887000 | G24: =((C24/C20)-1)*100 -> 5.7800606
B25: Jun | C25: =C64+C103+C142 -> 130466000 | D25: =C25-C24 -> 4428000 | E25: =((C25/C24)-1)*100 -> 3.5132262 | F25: =C25-C21 -> 7982000 | G25: =((C25/C21)-1)*100 -> 6.5167695
B26: Sep | C26: =C65+C104+C143 -> 127565000 | D26: =C26-C25 -> -2901000 | E26: =((C26/C25)-1)*100 -> -2.2235678 | F26: =C26-C22 -> 2762000 | G26: =((C26/C22)-1)*100 -> 2.2130878
B27: Dec | C27: =C66+C105+C144 -> 142985000 | D27: =C27-C26 -> 15420000 | E27: =((C27/C26)-1)*100 -> 12.087955 | F27: =C27-C23 -> 1207000 | G27: =((C27/C23)-1)*100 -> 0.85133095
A28: 2024 | B28: Mar | C28: =C67+C106+C145 -> 131167000 | D28: =C28-C27 -> -11818000 | E28: =((C28/C27)-1)*100 -> -8.2652026 | F28: =C28-C24 -> 5129000 | G28: =((C28/C24)-1)*100 -> 4.0694076
B29: Jun | C29: =C68+C107+C146 -> 135465000 | D29: =C29-C28 -> 4298000 | E29: =((C29/C28)-1)*100 -> 3.2767388 | F29: =C29-C25 -> 4999000 | G29: =((C29/C25)-1)*100 -> 3.8316496
B30: Sep | C30: =C69+C108+C147 -> 134555000 | D30: =C30-C29 -> -910000 | E30: =((C30/C29)-1)*100 -> -0.67176023 | F30: =C30-C26 -> 6990000 | G30: =((C30/C26)-1)*100 -> 5.4795594
B31: Dec | C31: =C70+C109+C148 -> 148480000 | D31: =C31-C30 -> 13925000 | E31: =((C31/C30)-1)*100 -> 10.348928 | F31: =C31-C27 -> 5495000 | G31: =((C31/C27)-1)*100 -> 3.8430605
A32: 2025 | B32: Mar | C32: =C71+C110+C149 -> 137542000 | D32: =C32-C31 -> -10938000 | E32: =((C32/C31)-1)*100 -> -7.3666487 | F32: =C32-C28 -> 6375000 | G32: =((C32/C28)-1)*100 -> 4.8602164
B33: Jun | C33: =C72+C111+C150 -> 140863000 | D33: =C33-C32 -> 3321000 | E33: =((C33/C32)-1)*100 -> 2.4145352 | F33: =C33-C29 -> 5398000 | G33: =((C33/C29)-1)*100 -> 3.9847931
B34: Sep | C34: =C73+C112+C151 -> 140792000 | D34: =C34-C33 -> -71000 | E34: =((C34/C33)-1)*100 -> -0.050403584 | F34: =C34-C30 -> 6237000 | G34: =((C34/C30)-1)*100 -> 4.6352793
B35: Dec | C35: =C74+C113+C152 -> 155401000 | D35: =C35-C34 -> 14609000 | E35: =((C35/C34)-1)*100 -> 10.3763 | F35: =C35-C31 -> 6921000 | G35: =((C35/C31)-1)*100 -> 4.6612338
A36: 2026 | B36: Mar* | C36: =C75+C114+C153 -> 145360000 | D36: =C36-C35 -> -10041000 | E36: =((C36/C35)-1)*100 -> -6.4613484 | F36: =C36-C32 -> 7818000 | G36: =((C36/C32)-1)*100 -> 5.684082
B37: Jun | C37: =C76+C115+C154 -> 147096000 | D37: =C37-C36 -> 1736000 | E37: =((C37/C36)-1)*100 -> 1.1942763 | F37: =C37-C33 -> 6233000 | G37: =((C37/C33)-1)*100 -> 4.4248667
A42: Year | B42: Quarter | C42: Basic Salary/Wages | D42: Change in basic salary/wages | E42: % change in basic salary/wages | F42: Change in basic salary/wages | G42: % change in basic salary/wages
D43: Quarterly | F43: Annual
A44: 2018 | B44: Jun | C44: 87875000 | D44: - | E44: - | F44: - | G44: -
B45: Sep | C45: 89680000 | D45: =C45-C44 -> 1805000 | E45: =((C45/C44)-1)*100 -> 2.0540541 | F45: - | G45: -
...

Sheet 7-Transport
A1: Table 7 - Transport (thousand)
A3: Year | B3: Quarter | C3: Total gross earnings | D3: Change in gross earnings | E3: % change in gross earnings | F3: Change in gross earnings | G3: % change in gross earnings
D4: Quarterly | F4: Annual
A5: 2018 | B5: Jun | C5: =C44+C83+C122 -> 37871000 | D5: - | E5: - | F5: - | G5: -
B6: Sep | C6: =C45+C84+C123 -> 38571000 | D6: =C6-C5 -> 700000 | E6: =((C6/C5)-1)*100 -> 1.84838 | F6: - | G6: -
B7: Dec | C7: =C46+C85+C124 -> 41629000 | D7: =C7-C6 -> 3058000 | E7: =((C7/C6)-1)*100 -> 7.9282362 | F7: - | G7: -
A8: 2019 | B8: Mar | C8: =C47+C86+C125 -> 38627000 | D8: =C8-C7 -> -3002000 | E8: =((C8/C7)-1)*100 -> -7.211319 | F8: - | G8: -
B9: Jun | C9: =C48+C87+C126 -> 41961000 | D9: =C9-C8 -> 3334000 | E9: =((C9/C8)-1)*100 -> 8.6312683 | F9: =C9-C5 -> 4090000 | G9: =((C9/C5)-1)*100 -> 10.79982
B10: Sep | C10: =C49+C88+C127 -> 39650000 | D10: =C10-C9 -> -2311000 | E10: =((C10/C9)-1)*100 -> -5.5074951 | F10: =C10-C6 -> 1079000 | G10: =((C10/C6)-1)*100 -> 2.7974385
B11: Dec | C11: =C50+C89+C128 -> 43703000 | D11: =C11-C10 -> 4053000 | E11: =((C11/C10)-1)*100 -> 10.221942 | F11: =C11-C7 -> 2074000 | G11: =((C11/C7)-1)*100 -> 4.9821038
A12: 2020 | B12: Mar | C12: =C51+C90+C129 -> 38241000 | D12: =C12-C11 -> -5462000 | E12: =((C12/C11)-1)*100 -> -12.497998 | F12: =C12-C8 -> -386000 | G12: =((C12/C8)-1)*100 -> -0.99930101
B13: Jun | C13: =C52+C91+C130 -> 35272000 | D13: =C13-C12 -> -2969000 | E13: =((C13/C12)-1)*100 -> -7.7639183 | F13: =C13-C9 -> -6689000 | G13: =((C13/C9)-1)*100 -> -15.940993
B14: Sep | C14: =C53+C92+C131 -> 33427000 | D14: =C14-C13 -> -1845000 | E14: =((C14/C13)-1)*100 -> -5.230778 | F14: =C14-C10 -> -6223000 | G14: =((C14/C10)-1)*100 -> -15.69483
B15: Dec | C15: =C54+C93+C132 -> 36854000 | D15: =C15-C14 -> 3427000 | E15: =((C15/C14)-1)*100 -> 10.252191 | F15: =C15-C11 -> -6849000 | G15: =((C15/C11)-1)*100 -> -15.671693
A16: 2021 | B16: Mar | C16: =C55+C94+C133 -> 33546000 | D16: =C16-C15 -> -3308000 | E16: =((C16/C15)-1)*100 -> -8.9759592 | F16: =C16-C12 -> -4695000 | G16: =((C16/C12)-1)*100 -> -12.277399
B17: Jun | C17: =C56+C95+C134 -> 38661000 | D17: =C17-C16 -> 5115000 | E17: =((C17/C16)-1)*100 -> 15.24772 | F17: =C17-C13 -> 3389000 | G17: =((C17/C13)-1)*100 -> 9.6081878
B18: Sep | C18: =C57+C96+C135 -> 36747000 | D18: =C18-C17 -> -1914000 | E18: =((C18/C17)-1)*100 -> -4.9507255 | F18: =C18-C14 -> 3320000 | G18: =((C18/C14)-1)*100 -> 9.9320908
B19: Dec | C19: =C58+C97+C136 -> 41657000 | D19: =C19-C18 -> 4910000 | E19: =((C19/C18)-1)*100 -> 13.361635 | F19: =C19-C15 -> 4803000 | G19: =((C19/C15)-1)*100 -> 13.032507
A20: 2022 | B20: Mar | C20: =C59+C98+C137 -> 37686000 | D20: =C20-C19 -> -3971000 | E20: =((C20/C19)-1)*100 -> -9.5326116 | F20: =C20-C16 -> 4140000 | G20: =((C20/C16)-1)*100 -> 12.341263
B21: Jun | C21: =C60+C99+C138 -> 41135000 | D21: =C21-C20 -> 3449000 | E21: =((C21/C20)-1)*100 -> 9.1519397 | F21: =C21-C17 -> 2474000 | G21: =((C21/C17)-1)*100 -> 6.3992137
B22: Sep | C22: =C61+C100+C139 -> 40130000 | D22: =C22-C21 -> -1005000 | E22: =((C22/C21)-1)*100 -> -2.4431749 | F22: =C22-C18 -> 3383000 | G22: =((C22/C18)-1)*100 -> 9.2061937
B23: Dec | C23: =C62+C101+C140 -> 44679000 | D23: =C23-C22 -> 4549000 | E23: =((C23/C22)-1)*100 -> 11.335659 | F23: =C23-C19 -> 3022000 | G23: =((C23/C19)-1)*100 -> 7.254483
A24: 2023 | B24: Mar | C24: =C63+C102+C141 -> 43258000 | D24: =C24-C23 -> -1421000 | E24: =((C24/C23)-1)*100 -> -3.1804651 | F24: =C24-C20 -> 5572000 | G24: =((C24/C20)-1)*100 -> 14.785331
B25: Jun | C25: =C64+C103+C142 -> 45578000 | D25: =C25-C24 -> 2320000 | E25: =((C25/C24)-1)*100 -> 5.3631698 | F25: =C25-C21 -> 4443000 | G25: =((C25/C21)-1)*100 -> 10.801021
B26: Sep | C26: =C65+C104+C143 -> 45660000 | D26: =C26-C25 -> 82000 | E26: =((C26/C25)-1)*100 -> 0.17991136 | F26: =C26-C22 -> 5530000 | G26: =((C26/C22)-1)*100 -> 13.780214
B27: Dec | C27: =C66+C105+C144 -> 50519000 | D27: =C27-C26 -> 4859000 | E27: =((C27/C26)-1)*100 -> 10.6417 | F27: =C27-C23 -> 5840000 | G27: =((C27/C23)-1)*100 -> 13.071018
A28: 2024 | B28: Mar | C28: =C67+C106+C145 -> 47109000 | D28: =C28-C27 -> -3410000 | E28: =((C28/C27)-1)*100 -> -6.7499357 | F28: =C28-C24 -> 3851000 | G28: =((C28/C24)-1)*100 -> 8.9023996
B29: Jun | C29: =C68+C107+C146 -> 48528000 | D29: =C29-C28 -> 1419000 | E29: =((C29/C28)-1)*100 -> 3.0121633 | F29: =C29-C25 -> 2950000 | G29: =((C29/C25)-1)*100 -> 6.4724209
B30: Sep | C30: =C69+C108+C147 -> 47799000 | D30: =C30-C29 -> -729000 | E30: =((C30/C29)-1)*100 -> -1.5022255 | F30: =C30-C26 -> 2139000 | G30: =((C30/C26)-1)*100 -> 4.6846255
B31: Dec | C31: =C70+C109+C148 -> 52355000 | D31: =C31-C30 -> 4556000 | E31: =((C31/C30)-1)*100 -> 9.5315802 | F31: =C31-C27 -> 1836000 | G31: =((C31/C27)-1)*100 -> 3.6342762
A32: 2025 | B32: Mar | C32: =C71+C110+C149 -> 48057000 | D32: =C32-C31 -> -4298000 | E32: =((C32/C31)-1)*100 -> -8.2093401 | F32: =C32-C28 -> 948000 | G32: =((C32/C28)-1)*100 -> 2.0123543
B33: Jun | C33: =C72+C111+C150 -> 49758000 | D33: =C33-C32 -> 1701000 | E33: =((C33/C32)-1)*100 -> 3.5395468 | F33: =C33-C29 -> 1230000 | G33: =((C33/C29)-1)*100 -> 2.5346192
B34: Sep | C34: =C73+C112+C151 -> 48992000 | D34: =C34-C33 -> -766000 | E34: =((C34/C33)-1)*100 -> -1.5394509 | F34: =C34-C30 -> 1193000 | G34: =((C34/C30)-1)*100 -> 2.4958681
B35: Dec | C35: =C74+C113+C152 -> 53453000 | D35: =C35-C34 -> 4461000 | E35: =((C35/C34)-1)*100 -> 9.1055683 | F35: =C35-C31 -> 1098000 | G35: =((C35/C31)-1)*100 -> 2.0972209
A36: 2026 | B36: Mar* | C36: =C75+C114+C153 -> 51966000 | D36: =C36-C35 -> -1487000 | E36: =((C36/C35)-1)*100 -> -2.7818831 | F36: =C36-C32 -> 3909000 | G36: =((C36/C32)-1)*100 -> 8.1340908
B37: Jun | C37: =C76+C115+C154 -> 51493000 | D37: =C37-C36 -> -473000 | E37: =((C37/C36)-1)*100 -> -0.91021052 | F37: =C37-C33 -> 1735000 | G37: =((C37/C33)-1)*100 -> 3.4868765
A42: Year | B42: Quarter | C42: Basic Salary/Wages | D42: Change in basic salary/wages | E42: % change in basic salary/wages | F42: Change in basic salary/wages | G42: % change in basic salary/wages
D43: Quarterly | F43: Annual
A44: 2018 | B44: Jun | C44: 32903000 | D44: - | E44: - | F44: - | G44: -
B45: Sep | C45: 33833000 | D45: =C45-C44 -> 930000 | E45: =((C45/C44)-1)*100 -> 2.82649 | F45: - | G45: -
...

Sheet 8-Finance
A1: Table 8 - Business services (thousand)
A3: Year | B3: Quarter | C3: Total gross earnings | D3: Change in gross earnings | E3: % change in gross earnings | F3: Change in gross earnings | G3: % change in gross earnings
D4: Quarterly | F4: Annual
A5: 2018 | B5: Jun | C5: =C44+C83+C122 -> 173673000 | D5: - | E5: - | F5: - | G5: -
B6: Sep | C6: =C45+C84+C123 -> 183294000 | D6: =C6-C5 -> 9621000 | E6: =((C6/C5)-1)*100 -> 5.5397212 | F6: - | G6: -
B7: Dec | C7: =C46+C85+C124 -> 193395000 | D7: =C7-C6 -> 10101000 | E7: =((C7/C6)-1)*100 -> 5.5108187 | F7: - | G7: -
A8: 2019 | B8: Mar | C8: =C47+C86+C125 -> 189128000 | D8: =C8-C7 -> -4267000 | E8: =((C8/C7)-1)*100 -> -2.2063652 | F8: - | G8: -
B9: Jun | C9: =C48+C87+C126 -> 185836000 | D9: =C9-C8 -> -3292000 | E9: =((C9/C8)-1)*100 -> -1.7406201 | F9: =C9-C5 -> 12163000 | G9: =((C9/C5)-1)*100 -> 7.0033914
B10: Sep | C10: =C49+C88+C127 -> 196497000 | D10: =C10-C9 -> 10661000 | E10: =((C10/C9)-1)*100 -> 5.7367787 | F10: =C10-C6 -> 13203000 | G10: =((C10/C6)-1)*100 -> 7.2031818
B11: Dec | C11: =C50+C89+C128 -> 216593000 | D11: =C11-C10 -> 20096000 | E11: =((C11/C10)-1)*100 -> 10.227128 | F11: =C11-C7 -> 23198000 | G11: =((C11/C7)-1)*100 -> 11.995139
A12: 2020 | B12: Mar | C12: =C51+C90+C129 -> 203810000 | D12: =C12-C11 -> -12783000 | E12: =((C12/C11)-1)*100 -> -5.9018528 | F12: =C12-C8 -> 14682000 | G12: =((C12/C8)-1)*100 -> 7.7629965
B13: Jun | C13: =C52+C91+C130 -> 177988000 | D13: =C13-C12 -> -25822000 | E13: =((C13/C12)-1)*100 -> -12.669643 | F13: =C13-C9 -> -7848000 | G13: =((C13/C9)-1)*100 -> -4.2230784
B14: Sep | C14: =C53+C92+C131 -> 189584000 | D14: =C14-C13 -> 11596000 | E14: =((C14/C13)-1)*100 -> 6.515046 | F14: =C14-C10 -> -6913000 | G14: =((C14/C10)-1)*100 -> -3.5181199
B15: Dec | C15: =C54+C93+C132 -> 218661000 | D15: =C15-C14 -> 29077000 | E15: =((C15/C14)-1)*100 -> 15.337265 | F15: =C15-C11 -> 2068000 | G15: =((C15/C11)-1)*100 -> 0.95478617
A16: 2021 | B16: Mar | C16: =C55+C94+C133 -> 206323000 | D16: =C16-C15 -> -12338000 | E16: =((C16/C15)-1)*100 -> -5.6425243 | F16: =C16-C12 -> 2513000 | G16: =((C16/C12)-1)*100 -> 1.2330111
B17: Jun | C17: =C56+C95+C134 -> 203013000 | D17: =C17-C16 -> -3310000 | E17: =((C17/C16)-1)*100 -> -1.6042807 | F17: =C17-C13 -> 25025000 | G17: =((C17/C13)-1)*100 -> 14.059937
B18: Sep | C18: =C57+C96+C135 -> 221726000 | D18: =C18-C17 -> 18713000 | E18: =((C18/C17)-1)*100 -> 9.2176363 | F18: =C18-C14 -> 32142000 | G18: =((C18/C14)-1)*100 -> 16.953962
B19: Dec | C19: =C58+C97+C136 -> 238151000 | D19: =C19-C18 -> 16425000 | E19: =((C19/C18)-1)*100 -> 7.4077916 | F19: =C19-C15 -> 19490000 | G19: =((C19/C15)-1)*100 -> 8.9133407
A20: 2022 | B20: Mar | C20: =C59+C98+C137 -> 234306000 | D20: =C20-C19 -> -3845000 | E20: =((C20/C19)-1)*100 -> -1.6145219 | F20: =C20-C16 -> 27983000 | G20: =((C20/C16)-1)*100 -> 13.562715
B21: Jun | C21: =C60+C99+C138 -> 230001000 | D21: =C21-C20 -> -4305000 | E21: =((C21/C20)-1)*100 -> -1.8373409 | F21: =C21-C17 -> 26988000 | G21: =((C21/C17)-1)*100 -> 13.29373
B22: Sep | C22: =C61+C100+C139 -> 248116000 | D22: =C22-C21 -> 18115000 | E22: =((C22/C21)-1)*100 -> 7.8760527 | F22: =C22-C18 -> 26390000 | G22: =((C22/C18)-1)*100 -> 11.902077
B23: Dec | C23: =C62+C101+C140 -> 267518000 | D23: =C23-C22 -> 19402000 | E23: =((C23/C22)-1)*100 -> 7.8197295 | F23: =C23-C19 -> 29367000 | G23: =((C23/C19)-1)*100 -> 12.331252
A24: 2023 | B24: Mar | C24: =C63+C102+C141 -> 271995000 | D24: =C24-C23 -> 4477000 | E24: =((C24/C23)-1)*100 -> 1.6735322 | F24: =C24-C20 -> 37689000 | G24: =((C24/C20)-1)*100 -> 16.085376
B25: Jun | C25: =C64+C103+C142 -> 255126000 | D25: =C25-C24 -> -16869000 | E25: =((C25/C24)-1)*100 -> -6.2019522 | F25: =C25-C21 -> 25125000 | G25: =((C25/C21)-1)*100 -> 10.923866
B26: Sep | C26: =C65+C104+C143 -> 269378000 | D26: =C26-C25 -> 14252000 | E26: =((C26/C25)-1)*100 -> 5.5862593 | F26: =C26-C22 -> 21262000 | G26: =((C26/C22)-1)*100 -> 8.5693788
B27: Dec | C27: =C66+C105+C144 -> 275244000 | D27: =C27-C26 -> 5866000 | E27: =((C27/C26)-1)*100 -> 2.1776092 | F27: =C27-C23 -> 7726000 | G27: =((C27/C23)-1)*100 -> 2.88803
A28: 2024 | B28: Mar | C28: =C67+C106+C145 -> 284736000 | D28: =C28-C27 -> 9492000 | E28: =((C28/C27)-1)*100 -> 3.4485765 | F28: =C28-C24 -> 12741000 | G28: =((C28/C24)-1)*100 -> 4.6842773
B29: Jun | C29: =C68+C107+C146 -> 263087000 | D29: =C29-C28 -> -21649000 | E29: =((C29/C28)-1)*100 -> -7.6031833 | F29: =C29-C25 -> 7961000 | G29: =((C29/C25)-1)*100 -> 3.1204189
B30: Sep | C30: =C69+C108+C147 -> 275827000 | D30: =C30-C29 -> 12740000 | E30: =((C30/C29)-1)*100 -> 4.8425046 | F30: =C30-C26 -> 6449000 | G30: =((C30/C26)-1)*100 -> 2.3940337
B31: Dec | C31: =C70+C109+C148 -> 284600000 | D31: =C31-C30 -> 8773000 | E31: =((C31/C30)-1)*100 -> 3.1806168 | F31: =C31-C27 -> 9356000 | G31: =((C31/C27)-1)*100 -> 3.3991658
A32: 2025 | B32: Mar | C32: =C71+C110+C149 -> 286459000 | D32: =C32-C31 -> 1859000 | E32: =((C32/C31)-1)*100 -> 0.65319747 | F32: =C32-C28 -> 1723000 | G32: =((C32/C28)-1)*100 -> 0.60512194
B33: Jun | C33: =C72+C111+C150 -> 273823000 | D33: =C33-C32 -> -12636000 | E33: =((C33/C32)-1)*100 -> -4.4111025 | F33: =C33-C29 -> 10736000 | G33: =((C33/C29)-1)*100 -> 4.0807794
B34: Sep | C34: =C73+C112+C151 -> 281764000 | D34: =C34-C33 -> 7941000 | E34: =((C34/C33)-1)*100 -> 2.9000486 | F34: =C34-C30 -> 5937000 | G34: =((C34/C30)-1)*100 -> 2.1524361
B35: Dec | C35: =C74+C113+C152 -> 297934000 | D35: =C35-C34 -> 16170000 | E35: =((C35/C34)-1)*100 -> 5.7388453 | F35: =C35-C31 -> 13334000 | G35: =((C35/C31)-1)*100 -> 4.6851722
A36: 2026 | B36: Mar* | C36: =C75+C114+C153 -> 293473000 | D36: =C36-C35 -> -4461000 | E36: =((C36/C35)-1)*100 -> -1.4973115 | F36: =C36-C32 -> 7014000 | G36: =((C36/C32)-1)*100 -> 2.4485179
B37: Jun | C37: =C76+C115+C154 -> 277963000 | D37: =C37-C36 -> -15510000 | E37: =((C37/C36)-1)*100 -> -5.2849836 | F37: =C37-C33 -> 4140000 | G37: =((C37/C33)-1)*100 -> 1.5119256
A42: Year | B42: Quarter | C42: Basic Salary/Wages | D42: Change in basic salary/wages | E42: % change in basic salary/wages | F42: Change in basic salary/wages | G42: % change in basic salary/wages
D43: Quarterly | F43: Annual
A44: 2018 | B44: Jun | C44: 156308000 | D44: - | E44: - | F44: - | G44: -
B45: Sep | C45: 159764000 | D45: =C45-C44 -> 3456000 | E45: =((C45/C44)-1)*100 -> 2.2110193 | F45: - | G45: -
...

Sheet 9-Community
A1: Table 9 - Community services (thousand)
A3: Year | B3: Quarter | C3: Total gross earnings | D3: Change in gross earnings | E3: % change in gross earnings | F3: Change in gross earnings | G3: % change in gross earnings
D4: Quarterly | F4: Annual
A5: 2018 | B5: Jun | C5: =C44+C83+C122 -> 209930000 | D5: - | E5: - | F5: - | G5: -
B6: Sep | C6: =C45+C84+C123 -> 227955000 | D6: =C6-C5 -> 18025000 | E6: =((C6/C5)-1)*100 -> 8.5861954 | F6: - | G6: -
B7: Dec | C7: =C46+C85+C124 -> 235115000 | D7: =C7-C6 -> 7160000 | E7: =((C7/C6)-1)*100 -> 3.1409708 | F7: - | G7: -
A8: 2019 | B8: Mar | C8: =C47+C86+C125 -> 226371000 | D8: =C8-C7 -> -8744000 | E8: =((C8/C7)-1)*100 -> -3.7190311 | F8: - | G8: -
B9: Jun | C9: =C48+C87+C126 -> 236711000 | D9: =C9-C8 -> 10340000 | E9: =((C9/C8)-1)*100 -> 4.5677229 | F9: =C9-C5 -> 26781000 | G9: =((C9/C5)-1)*100 -> 12.75711
B10: Sep | C10: =C49+C88+C127 -> 241219000 | D10: =C10-C9 -> 4508000 | E10: =((C10/C9)-1)*100 -> 1.904432 | F10: =C10-C6 -> 13264000 | G10: =((C10/C6)-1)*100 -> 5.8186923
B11: Dec | C11: =C50+C89+C128 -> 254340000 | D11: =C11-C10 -> 13121000 | E11: =((C11/C10)-1)*100 -> 5.4394554 | F11: =C11-C7 -> 19225000 | G11: =((C11/C7)-1)*100 -> 8.1768496
A12: 2020 | B12: Mar | C12: =C51+C90+C129 -> 244461000 | D12: =C12-C11 -> -9879000 | E12: =((C12/C11)-1)*100 -> -3.8841708 | F12: =C12-C8 -> 18090000 | G12: =((C12/C8)-1)*100 -> 7.9913063
B13: Jun | C13: =C52+C91+C130 -> 235043000 | D13: =C13-C12 -> -9418000 | E13: =((C13/C12)-1)*100 -> -3.8525573 | F13: =C13-C9 -> -1668000 | G13: =((C13/C9)-1)*100 -> -0.70465673
B14: Sep | C14: =C53+C92+C131 -> 241559000 | D14: =C14-C13 -> 6516000 | E14: =((C14/C13)-1)*100 -> 2.7722587 | F14: =C14-C10 -> 340000 | G14: =((C14/C10)-1)*100 -> 0.14095075
B15: Dec | C15: =C54+C93+C132 -> 255815000 | D15: =C15-C14 -> 14256000 | E15: =((C15/C14)-1)*100 -> 5.9016638 | F15: =C15-C11 -> 1475000 | G15: =((C15/C11)-1)*100 -> 0.57993237
A16: 2021 | B16: Mar | C16: =C55+C94+C133 -> 251145000 | D16: =C16-C15 -> -4670000 | E16: =((C16/C15)-1)*100 -> -1.825538 | F16: =C16-C12 -> 6684000 | G16: =((C16/C12)-1)*100 -> 2.7341785
B17: Jun | C17: =C56+C95+C134 -> 257158000 | D17: =C17-C16 -> 6013000 | E17: =((C17/C16)-1)*100 -> 2.3942344 | F17: =C17-C13 -> 22115000 | G17: =((C17/C13)-1)*100 -> 9.4089167
B18: Sep | C18: =C57+C96+C135 -> 273316000 | D18: =C18-C17 -> 16158000 | E18: =((C18/C17)-1)*100 -> 6.2832967 | F18: =C18-C14 -> 31757000 | G18: =((C18/C14)-1)*100 -> 13.146685
B19: Dec | C19: =C58+C97+C136 -> 286099000 | D19: =C19-C18 -> 12783000 | E19: =((C19/C18)-1)*100 -> 4.6770039 | F19: =C19-C15 -> 30284000 | G19: =((C19/C15)-1)*100 -> 11.838242
A20: 2022 | B20: Mar | C20: =C59+C98+C137 -> 268321000 | D20: =C20-C19 -> -17778000 | E20: =((C20/C19)-1)*100 -> -6.2139329 | F20: =C20-C16 -> 17176000 | G20: =((C20/C16)-1)*100 -> 6.839077
B21: Jun | C21: =C60+C99+C138 -> 272958000 | D21: =C21-C20 -> 4637000 | E21: =((C21/C20)-1)*100 -> 1.728154 | F21: =C21-C17 -> 15800000 | G21: =((C21/C17)-1)*100 -> 6.1440826
B22: Sep | C22: =C61+C100+C139 -> 274502000 | D22: =C22-C21 -> 1544000 | E22: =((C22/C21)-1)*100 -> 0.56565479 | F22: =C22-C18 -> 1186000 | G22: =((C22/C18)-1)*100 -> 0.43392996
B23: Dec | C23: =C62+C101+C140 -> 296841000 | D23: =C23-C22 -> 22339000 | E23: =((C23/C22)-1)*100 -> 8.1380099 | F23: =C23-C19 -> 10742000 | G23: =((C23/C19)-1)*100 -> 3.7546444
A24: 2023 | B24: Mar | C24: =C63+C102+C141 -> 286263000 | D24: =C24-C23 -> -10578000 | E24: =((C24/C23)-1)*100 -> -3.5635239 | F24: =C24-C20 -> 17942000 | G24: =((C24/C20)-1)*100 -> 6.686767
B25: Jun | C25: =C64+C103+C142 -> 295184000 | D25: =C25-C24 -> 8921000 | E25: =((C25/C24)-1)*100 -> 3.116365 | F25: =C25-C21 -> 22226000 | G25: =((C25/C21)-1)*100 -> 8.1426447
B26: Sep | C26: =C65+C104+C143 -> 305197000 | D26: =C26-C25 -> 10013000 | E26: =((C26/C25)-1)*100 -> 3.3921215 | F26: =C26-C22 -> 30695000 | G26: =((C26/C22)-1)*100 -> 11.182068
B27: Dec | C27: =C66+C105+C144 -> 310843000 | D27: =C27-C26 -> 5646000 | E27: =((C27/C26)-1)*100 -> 1.8499527 | F27: =C27-C23 -> 14002000 | G27: =((C27/C23)-1)*100 -> 4.7170034
A28: 2024 | B28: Mar | C28: =C67+C106+C145 -> 299139000 | D28: =C28-C27 -> -11704000 | E28: =((C28/C27)-1)*100 -> -3.7652448 | F28: =C28-C24 -> 12876000 | G28: =((C28/C24)-1)*100 -> 4.4979617
B29: Jun | C29: =C68+C107+C146 -> 309814000 | D29: =C29-C28 -> 10675000 | E29: =((C29/C28)-1)*100 -> 3.5685751 | F29: =C29-C25 -> 14630000 | G29: =((C29/C25)-1)*100 -> 4.9562307
B30: Sep | C30: =C69+C108+C147 -> 312066000 | D30: =C30-C29 -> 2252000 | E30: =((C30/C29)-1)*100 -> 0.72688775 | F30: =C30-C26 -> 6869000 | G30: =((C30/C26)-1)*100 -> 2.2506774
B31: Dec | C31: =C70+C109+C148 -> 324368000 | D31: =C31-C30 -> 12302000 | E31: =((C31/C30)-1)*100 -> 3.9421148 | F31: =C31-C27 -> 13525000 | G31: =((C31/C27)-1)*100 -> 4.3510711
A32: 2025 | B32: Mar | C32: =C71+C110+C149 -> 312192000 | D32: =C32-C31 -> -12176000 | E32: =((C32/C31)-1)*100 -> -3.7537612 | F32: =C32-C28 -> 13053000 | G32: =((C32/C28)-1)*100 -> 4.3635233
B33: Jun | C33: =C72+C111+C150 -> 320334000 | D33: =C33-C32 -> 8142000 | E33: =((C33/C32)-1)*100 -> 2.6080105 | F33: =C33-C29 -> 10520000 | G33: =((C33/C29)-1)*100 -> 3.3955857
B34: Sep | C34: =C73+C112+C151 -> 324715000 | D34: =C34-C33 -> 4381000 | E34: =((C34/C33)-1)*100 -> 1.367635 | F34: =C34-C30 -> 12649000 | G34: =((C34/C30)-1)*100 -> 4.0533092
B35: Dec | C35: =C74+C113+C152 -> 342907000 | D35: =C35-C34 -> 18192000 | E35: =((C35/C34)-1)*100 -> 5.6024514 | F35: =C35-C31 -> 18539000 | G35: =((C35/C31)-1)*100 -> 5.715422
A36: 2026 | B36: Mar* | C36: =C75+C114+C153 -> 331569000 | D36: =C36-C35 -> -11338000 | E36: =((C36/C35)-1)*100 -> -3.3064359 | F36: =C36-C32 -> 19377000 | G36: =((C36/C32)-1)*100 -> 6.2067574
B37: Jun | C37: =C76+C115+C154 -> 339343000 | D37: =C37-C36 -> 7774000 | E37: =((C37/C36)-1)*100 -> 2.34461 | F37: =C37-C33 -> 19009000 | G37: =((C37/C33)-1)*100 -> 5.9341188
A42: Year | B42: Quarter | C42: Basic Salary/Wages | D42: Change in basic salary/wages | E42: % change in basic salary/wages | F42: Change in basic salary/wages | G42: % change in basic salary/wages
D43: Quarterly | F43: Annual
A44: 2018 | B44: Jun | C44: 195948000 | D44: - | E44: - | F44: - | G44: -
B45: Sep | C45: 212602000 | D45: =C45-C44 -> 16654000 | E45: =((C45/C44)-1)*100 -> 8.4991937 | F45: - | G45: -
...
